{"text_format":"1","workbook":"xlsx","n_sheets":12,"sheets":["Kullanım","Basit","Detaylı","Detaylı_Sonuç","Sudan Havaya","Havadan Havaya","Topraktan Havaya","Sudan Sıcak Su","Havadan Sıcak Su","Topraktan Sıcak Su","Veriler","Sezonsal Verim"],"not_rendered":{"charts":0,"images":3,"macros":1,"external_links":1,"defined_names":88,"comments":0,"pivot_tables":0},"unopened":[],"bounds":{"document_bytes":16777216,"sheet_cells":100000,"rows_first":2000,"rows_last":500,"rows_between":2000,"halvings":0,"cell_chars":16384,"cell_head_chars":4096},"cells_cut":0,"cells_raw":0,"read":"whole","date_system":"1900"}

{"sheet":"Kullanım","index":0,"n_rows":50,"n_cols":5,"rows_kept":50,"cut":false,"hidden":false,"merged":[[49,2,49,4],[34,2,34,4],[33,2,33,4],[9,2,9,4],[11,2,11,4],[12,2,12,4],[13,2,13,4],[10,2,10,4],[19,2,19,4],[32,2,32,4],[20,2,20,4],[31,2,31,4],[16,2,16,4],[14,2,14,4],[15,2,15,4],[21,2,21,4],[7,2,7,4],[8,2,8,4],[2,2,2,4],[3,2,3,4],[1,2,1,4],[4,2,4,4],[5,2,5,4],[6,2,6,4]]}
[]
[]
[null,null,"GİRİŞ"]
[]
[null,null,"Bu hesaplama aracının hazırlanma amacı, ısı pompası sistemlerinin kolay ve detaylı hesaplamalar yoluyla karşılaştırılabilmesini sağlamaktır. "]
[null,null,"Bu excel hesap programı yardımıyla, Basit ve Detaylı bilgi girişleri çerçevesinde enerji tüketimi ve/veya performans katsayıları yaklaşık olarak bulunabilmektedir."]
[null,null,"Her iki hesap yönteminde de hesaplamalar farklı sistemler (toprak, su, hava) için tekrarlanarak girilen bilgiler ve iklim koşullarına bağlı olarak ısı pompalarının birbiri ile ve bilgisi girilen konvansiyonel sistemlerle karşılaştırılması yapılabilmektedir. "]
[null,null,"Özellikle detaylı hesaplamada kullanılan kriterler, ısı pompası verimi hesaplarını önemli oranda etkilemekte olduğundan veri girişlerinin doğru girilmesi son derece önemlidir."]
[null,null,"Detaylı hesaplama bölümü, söz konusu kriterlere bağlı olarak ısı pompalarının verimlerinin değişiminin gözlemlenebilmesi bakımından önemli bir uygulamadır."]
[null,null,"Aşağıda, her iki hesap yönteminde de girişi yapılan bazı dataların tanımları yer almaktadır."]
[]
[null,null,"Önemli not:"]
[null,null,"1. Bu excel hesaplama aracı, giriş bilgileri doğrultusunda sonuçlar üretmek ve bu sonuçlara göre sistemlerin birbiri ile kıyaslanmasında kullanıcıya ön fikir vermek amacıyla hazırlanmıştır. Yatırıma yönelik kesin hesap sonuçlarını elde etmede kullanılması uygun olmayabilir."]
[null,null,"2. Hesaplarda teorik veri olarak girilen yük, çalışma süresi vb. kabullerin gerçek çalışma koşulları ile aynı olmaması olasılığı çok yüksektir. Bu nedenle, burada hesaplanan tasarrufların bir sözleşmeye/taahhüte konu edilmemesi önemle tavsiye edilir."]
[null,null,"Kurulum"]
[null,null,"Bu excel programı makrolar içermektedir. Ayrıca, termodinamik hesaplamalarda kullanılan bazı veriler CoolProp adlı bir kütüphaneden yüklenmektedir. CoolProp'un yüklenmemesi halinde hesaplamaların bir kısmı gerçekleştirilemececeğinden hatalı sonuçlar alınabilir.\nCoolProp'un yüklenmesi, çalıştırılması ve ilgili excel dosyasıyla ilişkilendirilmesi: \n1. CoolProp Yükle butonuna basınız.\n2. Açılan internet sayfasından \"CoolProp\" dosyasını bilgisayarınıza indiriniz ve çalıştırınız.\n3. Dosya > Seçenekler > Güven Merkezi > Güven Merkezi Ayarları > Makro Ayarları >  «VBA Makrolarını etkinleştir» ve  «VBA projesi nesne modeli erişimine güven» işaretleyiniz.\n4. CoolProp Bağla butonuna basınız (Bu işlemi sadece bu sayfadan yapınız. Korumalı sayfalardayken işlem yapıldığında bağlantı kurulamamaktadır)\n5. Açılan pencerede; Kaynağı Değiştir > C:\\Kullanıcılar\\kullanıcı adınız\\AppData\\Roaming\\Microsoft\\AddIns altında “CoolProp” adlı  dosyayı seçip “Tamam” denilmesi ve ardından “Değerleri Güncelleştir” tıklanması gerekmektedir. (AppData klasörü gizli bir klasör olduğu için gizli klasörleri görünür hale getirilmiş olmalıdır.)"]
[]
[null,null,"Sarı Renkli Hücreler",null,"El ile giriş yapılan hücreleri göstermektedir. Kullanıcının tayin edebileceği verilerdir."]
[null,null,"Mavi Renkli Hücreler",null,"Açılan listelerden seçim yapılan hücreleri göstermektedir. Kullanacının seçebileceği verilerdir."]
[null,null,"BASİT HESAP"]
[]
[null,null,"Basit Hesap sekmesinde; kullanıma bağlı temel bilgiler ile bir veya daha fazla  ısı pompasına ait kapasite ve Sezonsal Isıtma/Soğutma (SCOP/ESEER) değerlerinin girişleri yapılarak, sistemlerin enerji verimliliğinin değerlendirilmesinde yol gösterici olabilecek enerji tüketimi ve maliyet bilgileri elde edilebilmektedir.\nVeri giriş bilgilerine ilişkin açıklamalar aşağıda yer almaktadır"]
[null,null,"Yıllık Ortalma Isıtma Yüzdesi",":","Kullanıcak bölgeye göre yıl içindeki ısıtma gün sayısının oranı"]
[null,null,"Yıllık Ortalma Soğutma Yüzdesi",":","Kullanıcak bölgeye göre yıl içindeki soğutma gün sayısının oranı"]
[null,null,"Isı Pompası Soğutma Kapasitesi",":","Isı pompasının soğutma kapasitesi"]
[null,null,"Isı Pompası Isıtma Kapasitesi",":","Isı pompasının ısıtma kapasitesi"]
[null,null,"Sezonsal Hesaplama Kapasite Kullanım Ortalması",":","Kullanılan Sezonsal hesaplama sistemine göre kapasite kullanım ağırlığı, bkz. Sezonsal Verim"]
[null,null,null,null,"Her bir opsiyon için değerler girilir."]
[null,null,"Isı Pompası Sezonsal Soğutma Performansı",":","Sezonsal Soğutma Değeri, Soğutma gereksinimi olan zamanlardaki performans değerinin girilmesi gerekir."]
[null,null,"Isı Pompası Sezonsal Isıtma Performansı",":","Sezonsal Soğutma Değeri, Isıtma gereksinimi olan zamanlardaki performans değerinin girilmesi gerekir."]
[null,null,"Yatırım Tutarı",":","Yapılacak yatırımın toplam tutarı girilir.\nGirilmiş değerlere göre ortalama enerji tüketim verileri belirlenir ve 10 yıllık (ilk yatırım dahil) basit maliyet hesabı yapılır. Yapılan bu hesaba göre karşılaştırma sağlanır."]
[]
[null,null,"DETAYLI HESAP"]
[]
[null,null,"Detaylı Hesap sekmesinde; detaylı hesaplamalar için gerekli lokasyon, kullanım koşulları ve ısı pompası sisteminin teknik özellikleri ile ilgili  bilgi girişlerinin yapılması beklenmektedir. \nYapılan bilgi girişleri doğrultusunda excel programında yerleşik formüller vasıtasıyla, hava şartlandırma veya sıcak su kullanımına göre su, toprak ve hava kaynaklı ısı pompaları birbiri ile karşılaştırılmakta ve ayrıca seçilmiş olan fosil yakıtlı sistemin  enerji/yakıt tüketimi ve maliyeti de ısı pompası sistemleri ile kıyaslanabilmektedir. \nKarşılaştırılan sistemlerin COP, enerji tüketimi, maliyet bilgileri ve geri ödeme sürelerine ilişkin hesap sonuçları \"Detaylı Sonuç\" sekmesinde   yer almaktadır.\nVeri giriş bilgilerine ilişkin açıklamalar aşağıda yer almaktadır."]
[null,null,"Yaklaşım Sıcaklığı Kondenser/Evaporatör (K)",":","Yaklaşım Sıcaklığı, ısı değişimi yapılan ortamla soğutucu akışkanın kaynama sıcaklığı arasındaki farkı gösterir. Bu değer ısı değiştirici seçiminin performansa etkisini göstermek içindir. Örnek olarak suyun evaporatörde  7oC ye soğutulduğu durumda, yaklaşım sıcaklığı 5oC ise soğutucu akışkan kaynama sıcaklığı 2oC olacaktır. Yaklaşım sıcaklığı 3oC ise soğutucu akışkan sıcaklığı 4oC olacaktır. Kondenser içinde benzeri olup, su çıkış sıcaklığı 35oC ise yaklaşım sıcaklığı 5oC ise soğutucu akışkan sıcaklığı 40oC olacaktır gibi."]
[null,null,"Kompresör tipi",":","Kompresörlerin yapılarına göre verimleri değişmektedir. Kompresör tipi seçimi sıkıştırma verimini belirleyerek sistem performansına olan etkisini gösterir"]
[null,null,"Delta T_Kon/Delta T_Evap",":","Isı değişimi yapılan ortamın ısı değişimi sonucundaki çıkış sıcaklığını göstermektedir. Delta T'nin soğutucu akışkanın kaynama sıcaklığı üzerindeki etkisini ve dolayısıyla da performans üzerindeki etkisini göstermek içindir.  Örnek olarak 10oC olarak evaporatöre giren suyun ısı değiştiriciden 5oC sıcaklıkta çıkmasıyla 2oC sıcaklıkta çıkması arasındaki soğutucu akışkan sıcaklığ, ısı pompası performans ve debi farkı gibi."]
[null,null,"Şehir Seçimi",":","Türkiye'de 81 ilinden seçim yapılır, veritabanındaki veriler ve hesaplamalar bu seçime göre yapılır."]
[null,null,"İlçe Seçimi",":","Hava Şartlarının detaylı olarak belirlenmesi için İlçe seçimi yapılması gerekemektedir.\nÖnemli not: Dataların veri tabanından aktarılması için \"Uygula\" butonu komutu gerekmektedir. İlçe seçiminden sonra sistem kendini güncelleyecektir."]
[null,null,"Isıl Kapasite",":","Isı pompası ünitesinin ısıtma ve soğutma kapasitesi olarak maksimum kapasite seçimidir. Kurulu kapasite gibi düşünülebilir."]
[null,null,"Kullanılan Gaz",":","Kullanılan soğutucu akışkanın cinsinin seçimine göre sistem performansı hesaplanır."]
[null,null,null,":","İç ortam sıcaklığının belirlenmesi için 2 seçenek bulunmaktadır. Sabit Sıcaklık seçimi yapılması durumunda belirlenmiş olan sabit sıcaklık tüm aylar için otomatik yazılır. Aylık sıcaklık sıcaklık verileri kullanıcı tarafından her ay için ayrı girilir."]
[null,null,null,":","Sabit Kapasite seçildiğinde belirlenmiş kapasite değerinin tüm aylar için geçer olur. Aylık Kapasite Elle Giriş seçildiğinde her ay için kullanıcı tarafından girililr. Otomatik seçimi yapıldığında seçilmiş olan sabit sıcaklık, yıllık hava sıcaklığı ile orantılı yaklaşık bir kapasite hesabı otomatik yapılarak belirlenir."]
[null,null,"Toprak Tipi",":","Farklı Toprak tiplerinin toprak kaynaklı ısı pompasına etkisini ortaya koymak için yapılması gereken seçimdir."]
[null,null,"Toprak Derinliği (m)",":","Yapılacak Toprak Kaynaklı ısı pompasının toprak derinliği belirtilir,toprak derinliğine göre yıl içindeki sıcaklıkları hesaplanır."]
[null,null,"Isıtma Başlangıç Sıcaklığı ",":","Dış ortam sıcaklığı ısıtma başlangıç sıcaklığı değerinin altına indiğinde ısı pompası çalışır konuma geçer."]
[null,null,"Soğutma Başlangıç Sıcaklığı",":","Dış ortam sıcaklığı soğutma başlangıç sıcaklığı değerinin üstüne çıktığında ısı pompası çalışır konuma geçer."]
[null,null,null,null,"Dış ortam sıcaklığı ısıtma başlangıç sıcaklığından yüksek ama soğutma başlangıç sıcaklığından düşükse ısı pompası çalışmaz. Isıtma veya soğutmaya ihtiyaç olmadığı düşünülen bölgedir."]
[null,null,"*** Enerji ve Tabii Kaynaklar Bakanlığı / Enerji Verimliliği ve Çevre Dairesi Başkanlığı (EVÇED), bu hesaplama aracında açıklanan herhangi bir bilgi, belge, ürün veya sürecin doğruluğu, tamlığı veya yararlılığına ilişkin, aleni veya zımni olarak, herhangi bir taahhüt sunmaz veya yasal bir yükümlülük veya sorumluluk üstlenmez veya bunların kullanımının özel hakları ihlal etmediğini beyan etmez. EVÇED hesaplama aracında yer alan bütün bilgileri ve tasarımı önceden bildirimde bulunmaksızın güncelleme/değiştirebilme yetkisine sahiptir."]

{"sheet":"Basit","index":1,"n_rows":32,"n_cols":6,"rows_kept":32,"cut":false,"hidden":false,"merged":[[24,5,26,5],[28,3,30,3],[28,4,30,4],[28,5,30,5],[12,5,14,5],[16,3,18,3],[16,4,18,4],[16,5,18,5],[20,3,22,3],[20,4,22,4],[20,5,22,5],[12,3,14,3],[12,4,14,4],[26,1,26,2],[30,1,30,2],[24,3,26,3],[24,4,26,4],[14,1,14,2],[18,1,18,2],[22,1,22,2]]}
[]
["Elektrik Birim Fiyat (TL/kWh)",3]
["Yıllık ortalama çalışma günü",100]
["Günlük ortalama çalışma saati",8]
["Yıllık Ortalama Isıtma Yüzdesi",0.6]
["Yıllık Ortalama Soğutma Yüzdesi",{"$f":"1-B5","v":0.4}]
["Isı Pompası Soğutma Kapasitesi",15]
["Sezonsal Soğutma Kullanım Ortalaması",0.54]
["Isı Pompası Isıtma Kapasitesi",16]
["Sezonsal Isıtma Kullanım Ortalaması",0.54]
[]
["Opsiyon - 1",null,null,"Yıllık Enerji Tüketimi","Yıllık Enerji Maliyeti","10 Yıllık Maliyet"]
["Isı Pompası Sezonsal Soğutma değeri",4,{"$f":"IF(B13>0,$B$7/B13*$B$8*$B$3*$B$4*$B$6,0)","v":648.00000000000011},{"$f":"C13+C14","v":1477.44},{"$f":"D13*$B$2","v":4432.32},{"$f":"E13*10+B15","v":69323.199999999997}]
["Isı Pompası Sezonsal Isıtma değeri",5,{"$f":"IF(B14>0,$B$9/B14*$B$10*$B$3*$B$4*$B$5,0)","v":829.44}]
["Yatırım Tutarı",25000]
["Opsiyon - 2"]
["Isı Pompası Sezonsal Soğutma değeri",4.2,{"$f":"IF(B17>0,$B$7/B17*$B$8*$B$3*$B$4*$B$6,0)","v":617.14285714285722},{"$f":"C17+C18","v":1653.9428571428571},{"$f":"D17*$B$2","v":4961.8285714285712},{"$f":"E17*10+B19","v":67618.28571428571}]
["Isı Pompası Sezonsal Isıtma değeri",4,{"$f":"IF(B18>0,$B$9/B18*$B$10*$B$3*$B$4*$B$5,0)","v":1036.8}]
["Yatırım Tutarı",18000]
["Opsiyon - 3"]
["Isı Pompası Sezonsal Soğutma değeri",6.1,{"$f":"IF(B21>0,$B$7/B21*$B$8*$B$3*$B$4*$B$6,0)","v":424.91803278688531},{"$f":"C21+C22","v":1271.2853797256607},{"$f":"D21*$B$2","v":3813.8561391769822},{"$f":"E21*10+B23","v":56138.561391769821}]
["Isı Pompası Sezonsal Isıtma değeri",4.9000000000000004,{"$f":"IF(B22>0,$B$9/B22*$B$10*$B$3*$B$4*$B$5,0)","v":846.36734693877543}]
["Yatırım Tutarı",18000]
["Opsiyon - 4"]
["Isı Pompası Sezonsal Soğutma değeri",7,{"$f":"IF(B25>0,$B$7/B25*$B$8*$B$3*$B$4*$B$6,0)","v":370.28571428571433},{"$f":"C25+C26","v":1061.4857142857143},{"$f":"D25*$B$2","v":3184.4571428571426},{"$f":"E25*10+B27","v":98844.57142857142}]
["Isı Pompası Sezonsal Isıtma değeri",6,{"$f":"IF(B26>0,$B$9/B26*$B$10*$B$3*$B$4*$B$5,0)","v":691.19999999999993}]
["Yatırım Tutarı",67000]
["Opsiyon - 5"]
["Isı Pompası Sezonsal Soğutma değeri",4.3,{"$f":"IF(B29>0,$B$7/B29*$B$8*$B$3*$B$4*$B$6,0)","v":602.79069767441865},{"$f":"C29+C30","v":1898.7906976744187},{"$f":"D29*$B$2","v":5696.3720930232557},{"$f":"E29*10+B31","v":72963.72093023255}]
["Isı Pompası Sezonsal Isıtma değeri",3.2,{"$f":"IF(B30>0,$B$9/B30*$B$10*$B$3*$B$4*$B$5,0)","v":1296}]
["Yatırım Tutarı",16000]
["*Not ESEER hesaplama metodolojisi enerji tüketimiyle direkt ilişkilendirmek çok doğru bir sonuç vermeyebilir."]

{"sheet":"Detaylı","index":2,"n_rows":1061,"n_cols":20,"rows_kept":1061,"cut":false,"hidden":false,"merged":[[26,3,26,4]]}
[]
[null,"Şehir Seçimi","ERZURUM",null,null,null,null,"Sudan","Havadan","Topraktan",null,null,"Sudan","Havadan","Topraktan",null,null,null,"Dış Ortam Maksimum",{"$f":"MAX(F30:Q30)","v":21.546194000000014}]
[null,"İlçe Seçimi","HINIS",null,"Yaklaşım Sıcaklığı İç Ünite (K)",null,null,3,5,4,null,"Delta T_İç",3,5,3,null,null,null,"Dış Ortam Minimum",{"$f":"MIN(F30:Q30)","v":-12.948825999999997}]
[null,"Kullanılan Gaz","R134a",null,"Yaklaşım Sıcaklığı Dış Ünite (K)",null,null,4,5,6,null,"Delta T_Dış",5,3,5,null,null,null,"Fark Maksimum",{"$f":"MAX(F31:Q31)","v":33.948825999999997}]
[null,"Elektrik Birim Fiyat (TL/kWh)",3,null,"Kompresör tipi",null,null,"Scroll",null,null,null,null,null,null,null,null,null,null,"Fark Minimmum",{"$f":"MIN(F31:Q31)","v":0.48140000000000782}]
[null,"Karşılaştırılan Klima/Chiller Sezonsal Verim",3,null,null,null,null,null,null,null,null,null,null,null,null,null,null,null,"Kapasite Kullanım Maksimum",1]
[null,"Karşılaştırılan Yakıt","Doğalgaz",null,null,null,null,null,null,null,null,null,null,null,null,null,null,null,"Kapasite Kullanım Minimum",0.1]
[null,{"$f":"\"Karşılaştırılan Yakıtın Isıl Değeri (\" & Veriler!M14 & \")\"","v":"Karşılaştırılan Yakıtın Isıl Değeri (kCal/Sm3)"},8250,null,null,null,null,null,null,null,null,null,null,null,null,null,null,null,"İstenilen için sıcaklık farkı",6]
[null,"Karşılaştırılan Yakıtın Birim Fiyatı (TL/*)",8,null,null,"Ocak","Şubat","Mart","Nisan","Mayıs","Haziran","Temmuz","Ağustos","Eylül","Ekim","Kasım","Aralık"]
[null,"Isıl Kapasite (kW)",100,null,"İç Ortama Verilen Havanın Sıcaklığı ",{"$f":"IF(Veriler!$J$1=1,Detaylı!F13,IF(Veriler!$J$1=2,Detaylı!F15,IF(Veriler!$J$1=3,Detaylı!F16)))","v":27},{"$f":"IF(Veriler!$J$1=1,Detaylı!G13,IF(Veriler!$J$1=2,Detaylı!G15,IF(Veriler!$J$1=3,Detaylı!G16)))","v":26.750221878070235},{"$f":"IF(Veriler!$J$1=1,Detaylı!H13,IF(Veriler!$J$1=2,Detaylı!H15,IF(Veriler!$J$1=3,Detaylı!H16)))","v":25.788138924156016},{"$f":"IF(Veriler!$J$1=1,Detaylı!I13,IF(Veriler!$J$1=2,Detaylı!I15,IF(Veriler!$J$1=3,Detaylı!I16)))","v":24.553475221794113},{"$f":"IF(Veriler!$J$1=1,Detaylı!J13,IF(Veriler!$J$1=2,Detaylı!J15,IF(Veriler!$J$1=3,Detaylı!J16)))","v":23.031986048648623},{"$f":"IF(Veriler!$J$1=1,Detaylı!K13,IF(Veriler!$J$1=2,Detaylı!K15,IF(Veriler!$J$1=3,Detaylı!K16)))","v":22.103300267290535},{"$f":"IF(Veriler!$J$1=1,Detaylı!L13,IF(Veriler!$J$1=2,Detaylı!L15,IF(Veriler!$J$1=3,Detaylı!L16)))","v":21},{"$f":"IF(Veriler!$J$1=1,Detaylı!M13,IF(Veriler!$J$1=2,Detaylı!M15,IF(Veriler!$J$1=3,Detaylı!M16)))","v":21},{"$f":"IF(Veriler!$J$1=1,Detaylı!N13,IF(Veriler!$J$1=2,Detaylı!N15,IF(Veriler!$J$1=3,Detaylı!N16)))","v":22.15791675388126},{"$f":"IF(Veriler!$J$1=1,Detaylı!O13,IF(Veriler!$J$1=2,Detaylı!O15,IF(Veriler!$J$1=3,Detaylı!O16)))","v":23.235963588254855},{"$f":"IF(Veriler!$J$1=1,Detaylı!P13,IF(Veriler!$J$1=2,Detaylı!P15,IF(Veriler!$J$1=3,Detaylı!P16)))","v":25.295230874846755},{"$f":"IF(Veriler!$J$1=1,Detaylı!Q13,IF(Veriler!$J$1=2,Detaylı!Q15,IF(Veriler!$J$1=3,Detaylı!Q16)))","v":26.369713108783216}]
[null,"Aylık ortalama çalışma günü",22,null,"Kapasite",{"$f":"IF(Veriler!$J$2=1,Detaylı!F18,IF(Veriler!$J$2=2,Detaylı!F19,IF(Veriler!$J$2=3,Detaylı!F20)))","v":100},{"$f":"IF(Veriler!$J$2=1,Detaylı!G18,IF(Veriler!$J$2=2,Detaylı!G19,IF(Veriler!$J$2=3,Detaylı!G20)))","v":95.837031301170612},{"$f":"IF(Veriler!$J$2=1,Detaylı!H18,IF(Veriler!$J$2=2,Detaylı!H19,IF(Veriler!$J$2=3,Detaylı!H20)))","v":79.802315402600286},{"$f":"IF(Veriler!$J$2=1,Detaylı!I18,IF(Veriler!$J$2=2,Detaylı!I19,IF(Veriler!$J$2=3,Detaylı!I20)))","v":59.224587029901897},{"$f":"IF(Veriler!$J$2=1,Detaylı!J18,IF(Veriler!$J$2=2,Detaylı!J19,IF(Veriler!$J$2=3,Detaylı!J20)))","v":33.866434144143717},{"$f":"IF(Veriler!$J$2=1,Detaylı!K18,IF(Veriler!$J$2=2,Detaylı!K19,IF(Veriler!$J$2=3,Detaylı!K20)))","v":18.388337788175615},{"$f":"IF(Veriler!$J$2=1,Detaylı!L18,IF(Veriler!$J$2=2,Detaylı!L19,IF(Veriler!$J$2=3,Detaylı!L20)))","v":0},{"$f":"IF(Veriler!$J$2=1,Detaylı!M18,IF(Veriler!$J$2=2,Detaylı!M19,IF(Veriler!$J$2=3,Detaylı!M20)))","v":0},{"$f":"IF(Veriler!$J$2=1,Detaylı!N18,IF(Veriler!$J$2=2,Detaylı!N19,IF(Veriler!$J$2=3,Detaylı!N20)))","v":19.298612564687641},{"$f":"IF(Veriler!$J$2=1,Detaylı!O18,IF(Veriler!$J$2=2,Detaylı!O19,IF(Veriler!$J$2=3,Detaylı!O20)))","v":37.26605980424759},{"$f":"IF(Veriler!$J$2=1,Detaylı!P18,IF(Veriler!$J$2=2,Detaylı!P19,IF(Veriler!$J$2=3,Detaylı!P20)))","v":71.587181247445912},{"$f":"IF(Veriler!$J$2=1,Detaylı!Q18,IF(Veriler!$J$2=2,Detaylı!Q19,IF(Veriler!$J$2=3,Detaylı!Q20)))","v":89.495218479720251}]
[null,"Günlük ortalama çalışma saati",10]
[null,"İstenilen İç ortam sıcaklığı ",21,null,null,{"$f":"IF(F30>$C$13,$C$13-($T$8*F33),$C$13+($T$8*F33))","v":27},{"$f":"IF(G30>$C$13,$C$13-($T$8*G33),$C$13+($T$8*G33))","v":26.750221878070235},25.788138924156016,24.553475221794113,23.031986048648623,22.103300267290535,21,21,22.15791675388126,23.235963588254855,25.295230874846755,26.369713108783216,null,"cs01_1234"]
[]
[null,null,null,null,null,22,22,22,27,22,18,22,25,25,22,22,22]
[]
[]
[null,null,null,null,null,{"$f":"$C$10","v":100},100,100,100,100,100,100,100,100,100,100,100]
[null,null,null,null,null,16,19,15,13,17,22,25,28,19,14,15,18]
[null,null,null,null,null,{"$f":"IF(F34=1,IF(F31>=0,F31/$T$4*($T$6-$T$7)+$T$7,F31/$T$5*($T$6))*$C$10,0)","v":100},{"$f":"IF(G34=1,IF(G31>=0,G31/$T$4*($T$6-$T$7)+$T$7,G31/$T$5*($T$6))*$C$10,0)","v":95.837031301170612},79.802315402600286,59.224587029901897,33.866434144143717,18.388337788175615,0,0,19.298612564687641,37.26605980424759,71.587181247445912,89.495218479720251]
[]
[null,"Toprak Tipi","Doğal zemin"]
[null,"Toprak Derinliği (m)",1]
[null,"Fan, pompa vb. tüketim tahmini",0.1]
[null,"Isıtmanın Sonlandırılacağı Sıcaklık",19]
[null,"Soğutma Başlangıç Sıcaklığı",23]
[null,null,null,"Hava Şartlandırma",null,"Ocak","Şubat","Mart","Nisan","Mayıs","Haziran","Temmuz","Ağustos","Eylül","Ekim","Kasım","Aralık"]
[null,null,null,null,"Kapasite",{"$f":"F11","v":100},95.837031301170612,79.802315402600286,59.224587029901897,33.866434144143717,18.388337788175615,0,0,19.298612564687641,37.26605980424759,71.587181247445912,89.495218479720251]
[null,null,null,null,"İç Ortama Verilen Havanın Sıcaklığı",{"$f":"F10","v":27},26.750221878070235,25.788138924156016,24.553475221794113,23.031986048648623,22.103300267290535,21,21,22.15791675388126,23.235963588254855,25.295230874846755,26.369713108783216]
[null,null,null,null,"Dış Ortam Hava Sıcaklığı",{"$f":"Veriler!I80-273.15","v":-12.948825999999997},{"$f":"Veriler!J80-273.15","v":-11.378515999999934},{"$f":"Veriler!K80-273.15","v":-5.3300739999999678},{"$f":"Veriler!L80-273.15","v":2.4320340000000442},{"$f":"Veriler!M80-273.15","v":11.997362000000066},{"$f":"Veriler!N80-273.15","v":17.835842000000014},{"$f":"Veriler!O80-273.15","v":21.546194000000014},{"$f":"Veriler!P80-273.15","v":21.481400000000008},{"$f":"Veriler!Q80-273.15","v":17.492478000000062},{"$f":"Veriler!R80-273.15","v":10.714992000000052},{"$f":"Veriler!S80-273.15","v":-2.2312500000000455},{"$f":"Veriler!T80-273.15","v":-8.9863260000000764}]
[null,null,null,null,"Fark",{"$f":"ABS($C$13-F30)","v":33.948825999999997},{"$f":"ABS($C$13-G30)","v":32.378515999999934},26.330073999999968,18.567965999999956,9.0026379999999335,3.1641579999999863,0.54619400000001406,0.48140000000000782,3.5075219999999376,10.285007999999948,23.231250000000045,29.986326000000076]
[null,null,null,null,"Şartlandırma",{"$f":"_xlfn.IFS(F30<=$C$25,\"Isıtma\",F30>=$C$26,\"Soğutma\",$C$26>F30>$C$25,\"Kapalı\")","v":"Isıtma"},{"$f":"_xlfn.IFS(G30<=$C$25,\"Isıtma\",G30>=$C$26,\"Soğutma\",$C$26>G30>$C$25,\"Kapalı\")","v":"Isıtma"},{"$f":"_xlfn.IFS(H30<=$C$25,\"Isıtma\",H30>=$C$26,\"Soğutma\",$C$26>H30>$C$25,\"Kapalı\")","v":"Isıtma"},{"$f":"_xlfn.IFS(I30<=$C$25,\"Isıtma\",I30>=$C$26,\"Soğutma\",$C$26>I30>$C$25,\"Kapalı\")","v":"Isıtma"},{"$f":"_xlfn.IFS(J30<=$C$25,\"Isıtma\",J30>=$C$26,\"Soğutma\",$C$26>J30>$C$25,\"Kapalı\")","v":"Isıtma"},{"$f":"_xlfn.IFS(K30<=$C$25,\"Isıtma\",K30>=$C$26,\"Soğutma\",$C$26>K30>$C$25,\"Kapalı\")","v":"Isıtma"},{"$f":"_xlfn.IFS(L30<=$C$25,\"Isıtma\",L30>=$C$26,\"Soğutma\",$C$26>L30>$C$25,\"Kapalı\")","v":"Kapalı"},{"$f":"_xlfn.IFS(M30<=$C$25,\"Isıtma\",M30>=$C$26,\"Soğutma\",$C$26>M30>$C$25,\"Kapalı\")","v":"Kapalı"},{"$f":"_xlfn.IFS(N30<=$C$25,\"Isıtma\",N30>=$C$26,\"Soğutma\",$C$26>N30>$C$25,\"Kapalı\")","v":"Isıtma"},{"$f":"_xlfn.IFS(O30<=$C$25,\"Isıtma\",O30>=$C$26,\"Soğutma\",$C$26>O30>$C$25,\"Kapalı\")","v":"Isıtma"},{"$f":"_xlfn.IFS(P30<=$C$25,\"Isıtma\",P30>=$C$26,\"Soğutma\",$C$26>P30>$C$25,\"Kapalı\")","v":"Isıtma"},{"$f":"_xlfn.IFS(Q30<=$C$25,\"Isıtma\",Q30>=$C$26,\"Soğutma\",$C$26>Q30>$C$25,\"Kapalı\")","v":"Isıtma"}]
[null,null,null,null,"% Kapasite",{"$f":"F11/$C$10","v":1},{"$f":"G11/$C$10","v":0.95837031301170617},0.79802315402600288,0.59224587029901898,0.3386643414414372,0.18388337788175615,0,0,0.19298612564687642,0.37266059804247592,0.71587181247445908,0.89495218479720251]
[null,null,null,null,"Aktif",{"$f":"IF(F30>$C$26,1,IF(F30<$C$25,1,0))","v":1},{"$f":"IF(G30>$C$26,1,IF(G30<$C$25,1,0))","v":1},1,1,1,1,0,0,1,1,1,1]
[null,null,null,null,"Su Kaynaklı Isı Pompası","Ocak","Şubat","Mart","Nisan","Mayıs","Haziran","Temmuz","Ağustos","Eylül","Ekim","Kasım","Aralık"]
[null,null,null,null,"Isı kaynağı ortalama sıcaklık",5,8,10,9,14,22,23,22,21,18,13,10]
[null,null,null,null,"Isı Pompası COP",{"$f":"'Sudan Havaya'!B9","v":5.1013696916448934},{"$f":"'Sudan Havaya'!C9","v":8.0382858147872405},{"$f":"'Sudan Havaya'!D9","v":9.3084292219274953},{"$f":"'Sudan Havaya'!E9","v":9.4015538309021949},{"$f":"'Sudan Havaya'!F9","v":13.999999999999998},{"$f":"'Sudan Havaya'!G9","v":13.999999999999998},{"$f":"'Sudan Havaya'!H9","v":0},{"$f":"'Sudan Havaya'!I9","v":0},{"$f":"'Sudan Havaya'!J9","v":14},{"$f":"'Sudan Havaya'!K9","v":13.999999999999998},{"$f":"'Sudan Havaya'!L9","v":11.455793393229317},{"$f":"'Sudan Havaya'!M9","v":9.0362713377461112}]
[null,null,null,null,"Isı Pompası Enerji Tüketimi (kWh)",{"$f":"'Sudan Havaya'!B14","v":4312.5672769867979},{"$f":"'Sudan Havaya'!C14","v":2622.9655640598289},{"$f":"'Sudan Havaya'!D14","v":1886.0872194435226},{"$f":"'Sudan Havaya'!E14","v":1385.8782687338062},{"$f":"'Sudan Havaya'!F14","v":532.18682226511555},{"$f":"'Sudan Havaya'!G14","v":288.95959381418828},{"$f":"'Sudan Havaya'!H14","v":0},{"$f":"'Sudan Havaya'!I14","v":0},{"$f":"'Sudan Havaya'!J14","v":303.26391173080577},{"$f":"'Sudan Havaya'!K14","v":585.60951120960499},{"$f":"'Sudan Havaya'!L14","v":1374.7786236915106},{"$f":"'Sudan Havaya'!M14","v":2178.8796871663449}]
[]
[null,null,null,null,"Toprak Kaynaklı Isı Pompası"]
[null,null,null,null,"Isı kaynağı ortalama sıcaklık",{"$f":"'Topraktan Havaya'!B2","v":6.2231108077817243},{"$f":"'Topraktan Havaya'!C2","v":5.1355418913451754},{"$f":"'Topraktan Havaya'!D2","v":5.4886291482180658},{"$f":"'Topraktan Havaya'!E2","v":7.1585690668729116},{"$f":"'Topraktan Havaya'!F2","v":9.7098058782172174},{"$f":"'Topraktan Havaya'!G2","v":12.476922881273349},{"$f":"'Topraktan Havaya'!H2","v":14.738197239805453},{"$f":"'Topraktan Havaya'!I2","v":15.903840613911489},{"$f":"'Topraktan Havaya'!J2","v":15.669828475148966},{"$f":"'Topraktan Havaya'!K2","v":14.097196155350536},{"$f":"'Topraktan Havaya'!L2","v":11.596119536832539},{"$f":"'Topraktan Havaya'!M2","v":8.8189324778186649}]
[null,null,null,null,"Isı Pompası COP",{"$f":"'Topraktan Havaya'!B9","v":4.8431246207997454},{"$f":"'Topraktan Havaya'!C9","v":4.7278981524317159},{"$f":"'Topraktan Havaya'!D9","v":4.898324377576456},{"$f":"'Topraktan Havaya'!E9","v":5.3328229178285564},{"$f":"'Topraktan Havaya'!F9","v":6.0947412607426621},{"$f":"'Topraktan Havaya'!G9","v":7.011569509589032},{"$f":"'Topraktan Havaya'!H9","v":0},{"$f":"'Topraktan Havaya'!I9","v":0},{"$f":"'Topraktan Havaya'!J9","v":8.0542759486702025},{"$f":"'Topraktan Havaya'!K9","v":7.1740435507416489},{"$f":"'Topraktan Havaya'!L9","v":6.0425581808278874},{"$f":"'Topraktan Havaya'!M9","v":5.3264377328161467}]
[null,null,null,null,"Isı Pompası Enerji Tüketimi (kWh)",{"$f":"'Topraktan Havaya'!B14*(1+$C$24)","v":4996.7741684920456},{"$f":"'Topraktan Havaya'!C14*(1+$C$24)","v":4905.4697937929523},{"$f":"'Topraktan Havaya'!D14*(1+$C$24)","v":3942.6054378588028},{"$f":"'Topraktan Havaya'!E14*(1+$C$24)","v":2687.5728450162328},{"$f":"'Topraktan Havaya'!F14*(1+$C$24)","v":1344.7128782435159},{"$f":"'Topraktan Havaya'!G14*(1+$C$24)","v":634.66214499516889},{"$f":"'Topraktan Havaya'!H14*(1+$C$24)","v":0},{"$f":"'Topraktan Havaya'!I14*(1+$C$24)","v":0},{"$f":"'Topraktan Havaya'!J14*(1+$C$24)","v":579.84904793651765},{"$f":"'Topraktan Havaya'!K14*(1+$C$24)","v":1257.0855485949205},{"$f":"'Topraktan Havaya'!L14*(1+$C$24)","v":2867.0138281578529},{"$f":"'Topraktan Havaya'!M14*(1+$C$24)","v":4066.102704751147}]
[]
[null,null,null,null,"Hava Kaynaklı Isı Pompası"]
[null,null,null,null,"Isı kaynağı ortalama sıcaklık",{"$f":"'Havadan Havaya'!B2","v":-12.948825999999997},{"$f":"'Havadan Havaya'!C2","v":-11.378515999999934},{"$f":"'Havadan Havaya'!D2","v":-5.3300739999999678},{"$f":"'Havadan Havaya'!E2","v":2.4320340000000442},{"$f":"'Havadan Havaya'!F2","v":11.997362000000066},{"$f":"'Havadan Havaya'!G2","v":17.835842000000014},{"$f":"'Havadan Havaya'!H2","v":21.546194000000014},{"$f":"'Havadan Havaya'!I2","v":21.481400000000008},{"$f":"'Havadan Havaya'!J2","v":17.492478000000062},{"$f":"'Havadan Havaya'!K2","v":10.714992000000052},{"$f":"'Havadan Havaya'!L2","v":-2.2312500000000455},{"$f":"'Havadan Havaya'!M2","v":-8.9863260000000764}]
[null,null,null,null,"Isı Pompası COP",{"$f":"'Havadan Havaya'!B9","v":2.388426523098075},{"$f":"'Havadan Havaya'!C9","v":2.4582458446763367},{"$f":"'Havadan Havaya'!D9","v":2.7797674958226661},{"$f":"'Havadan Havaya'!E9","v":3.3733706345903283},{"$f":"'Havadan Havaya'!F9","v":4.6755673456477478},{"$f":"'Havadan Havaya'!G9","v":6.2114208287831145},{"$f":"'Havadan Havaya'!H9","v":0},{"$f":"'Havadan Havaya'!I9","v":0},{"$f":"'Havadan Havaya'!J9","v":6.0917520815129711},{"$f":"'Havadan Havaya'!K9","v":4.4397131309436535},{"$f":"'Havadan Havaya'!L9","v":2.9862764848678935},{"$f":"'Havadan Havaya'!M9","v":2.5745181265875905}]
[null,null,null,null,"Isı Pompası Enerji Tüketimi (kWh)",{"$f":"'Havadan Havaya'!B14*(1+$C$24)","v":10132.193628719926},{"$f":"'Havadan Havaya'!C14","v":8576.9073634022807},{"$f":"'Havadan Havaya'!D14","v":6315.8193679706483},{"$f":"'Havadan Havaya'!E14","v":3862.4303576297498},{"$f":"'Havadan Havaya'!F14","v":1593.5211624418209},{"$f":"'Havadan Havaya'!G14","v":651.28968474531462},{"$f":"'Havadan Havaya'!H14","v":0},{"$f":"'Havadan Havaya'!I14","v":0},{"$f":"'Havadan Havaya'!J14","v":696.95790429751105},{"$f":"'Havadan Havaya'!K14","v":1846.6357881982988},{"$f":"'Havadan Havaya'!L14","v":5273.851886870686},{"$f":"'Havadan Havaya'!M14","v":7647.6245640714451}]
[]
[]
[]
[null,null,null,null,"Sıcak Su","Ocak","Şubat","Mart","Nisan","Mayıs","Haziran","Temmuz","Ağustos","Eylül","Ekim","Kasım","Aralık"]
[null,null,null,null,"Kapasite",35,35,35,35,35,35,35,35,35,35,35,35]
[null,null,null,null,"İstenilen Su Sıcaklığı",52,52,52,52,52,52,52,52,52,52,52,52]
[]
[null,null,null,null,"Su Kaynaklı Isı Pompası","Ocak","Şubat","Mart","Nisan","Mayıs","Haziran","Temmuz","Ağustos","Eylül","Ekim","Kasım","Aralık"]
[null,null,null,null,"Isı kaynağı ortalama sıcaklık",8,8,10,9,12,17,19,22,21,18,13,10]
[null,null,null,null,"Isı Pompası COP",{"$f":"'Sudan Sıcak Su'!B9","v":3.3870710744622419},{"$f":"'Sudan Sıcak Su'!C9","v":3.3870710744622419},{"$f":"'Sudan Sıcak Su'!D9","v":3.5204274170813861},{"$f":"'Sudan Sıcak Su'!E9","v":3.4524976021272575},{"$f":"'Sudan Sıcak Su'!F9","v":3.6643739213028392},{"$f":"'Sudan Sıcak Su'!G9","v":4.0794358411219811},{"$f":"'Sudan Sıcak Su'!H9","v":4.2719518436723938},{"$f":"'Sudan Sıcak Su'!I9","v":4.5958650964561212},{"$f":"'Sudan Sıcak Su'!J9","v":4.4827730054369539},{"$f":"'Sudan Sıcak Su'!K9","v":4.1735548942009277},{"$f":"'Sudan Sıcak Su'!L9","v":3.7407074305459447},{"$f":"'Sudan Sıcak Su'!M9","v":3.5204274170813861}]
[null,null,null,null,"Isı Pompası Enerji Tüketimi (kWh)",{"$f":"'Sudan Sıcak Su'!B15","v":2273.3505824711733},{"$f":"'Sudan Sıcak Su'!C15","v":2273.3505824711733},{"$f":"'Sudan Sıcak Su'!D15","v":2187.2344143892883},{"$f":"'Sudan Sıcak Su'!E15","v":2230.26947078997},{"$f":"'Sudan Sıcak Su'!F15","v":2101.3139393979545},{"$f":"'Sudan Sıcak Su'!G15","v":1887.5158967771001},{"$f":"'Sudan Sıcak Su'!H15","v":1802.4547751878861},{"$f":"'Sudan Sıcak Su'!I15","v":1675.4190643971428},{"$f":"'Sudan Sıcak Su'!J15","v":1717.686795798274},{"$f":"'Sudan Sıcak Su'!K15","v":1844.9499755469847},{"$f":"'Sudan Sıcak Su'!L15","v":2058.4341713343265},{"$f":"'Sudan Sıcak Su'!M15","v":2187.2344143892883}]
[]
[null,null,null,null,"Toprak Kaynaklı Isı Pompası"]
[null,null,null,null,"Isı kaynağı ortalama sıcaklık",{"$f":"'Topraktan Sıcak Su'!B3","v":6.2231108077817243},{"$f":"'Topraktan Sıcak Su'!C3","v":5.1355418913451754},{"$f":"'Topraktan Sıcak Su'!D3","v":5.4886291482180658},{"$f":"'Topraktan Sıcak Su'!E3","v":7.1585690668729116},{"$f":"'Topraktan Sıcak Su'!F3","v":9.7098058782172174},{"$f":"'Topraktan Sıcak Su'!G3","v":12.476922881273349},{"$f":"'Topraktan Sıcak Su'!H3","v":14.738197239805453},{"$f":"'Topraktan Sıcak Su'!I3","v":15.903840613911489},{"$f":"'Topraktan Sıcak Su'!J3","v":15.669828475148966},{"$f":"'Topraktan Sıcak Su'!K3","v":14.097196155350536},{"$f":"'Topraktan Sıcak Su'!L3","v":11.596119536832539},{"$f":"'Topraktan Sıcak Su'!M3","v":8.8189324778186649}]
[null,null,null,null,"Isı Pompası COP",{"$f":"'Topraktan Sıcak Su'!B11","v":3.4871845148860126},{"$f":"'Topraktan Sıcak Su'!C11","v":3.420979456906788},{"$f":"'Topraktan Sıcak Su'!D11","v":3.4422078565453398},{"$f":"'Topraktan Sıcak Su'!E11","v":3.5461218056542068},{"$f":"'Topraktan Sıcak Su'!F11","v":3.7169682340995611},{"$f":"'Topraktan Sıcak Su'!G11","v":3.9209120196012672},{"$f":"'Topraktan Sıcak Su'!H11","v":4.104063386898936},{"$f":"'Topraktan Sıcak Su'!I11","v":4.204969045903665},{"$f":"'Topraktan Sıcak Su'!J11","v":4.1843349363597948},{"$f":"'Topraktan Sıcak Su'!K11","v":4.0505146692339355},{"$f":"'Topraktan Sıcak Su'!L11","v":3.8537215960624702},{"$f":"'Topraktan Sıcak Su'!M11","v":3.6555539811012703}]
[null,null,null,null,"Isı Pompası Enerji Tüketimi (kWh)",{"$f":"'Topraktan Sıcak Su'!B16","v":2208.0850517460199},{"$f":"'Topraktan Sıcak Su'!C16","v":2250.8173746714792},{"$f":"'Topraktan Sıcak Su'!D16","v":2236.9363852791435},{"$f":"'Topraktan Sıcak Su'!E16","v":2171.3862134466262},{"$f":"'Topraktan Sıcak Su'!F16","v":2071.5807924749006},{"$f":"'Topraktan Sıcak Su'!G16","v":1963.8288136807118},{"$f":"'Topraktan Sıcak Su'!H16","v":1876.1893455593492},{"$f":"'Topraktan Sıcak Su'!I16","v":1831.1668685173968},{"$f":"'Topraktan Sıcak Su'!J16","v":1840.1968573526035},{"$f":"'Topraktan Sıcak Su'!K16","v":1900.9929919489177},{"$f":"'Topraktan Sıcak Su'!L16","v":1998.0685703574056},{"$f":"'Topraktan Sıcak Su'!M16","v":2106.3838859466937}]
[]
[null,null,null,null,"Hava Kaynaklı Isı Pompası"]
[null,null,null,null,"Isı kaynağı ortalama sıcaklık",{"$f":"'Havadan Sıcak Su'!B2","v":-12.948825999999997},{"$f":"'Havadan Sıcak Su'!C2","v":-11.378515999999934},{"$f":"'Havadan Sıcak Su'!D2","v":-5.3300739999999678},{"$f":"'Havadan Sıcak Su'!E2","v":2.4320340000000442},{"$f":"'Havadan Sıcak Su'!F2","v":11.997362000000066},{"$f":"'Havadan Sıcak Su'!G2","v":17.835842000000014},{"$f":"'Havadan Sıcak Su'!H2","v":21.546194000000014},{"$f":"'Havadan Sıcak Su'!I2","v":21.481400000000008},{"$f":"'Havadan Sıcak Su'!J2","v":17.492478000000062},{"$f":"'Havadan Sıcak Su'!K2","v":10.714992000000052},{"$f":"'Havadan Sıcak Su'!L2","v":-2.2312500000000455},{"$f":"'Havadan Sıcak Su'!M2","v":-8.9863260000000764}]
[null,null,null,null,"Isı Pompası COP",{"$f":"'Havadan Sıcak Su'!B11","v":2.3879375180960603},{"$f":"'Havadan Sıcak Su'!C11","v":2.4394791486746596},{"$f":"'Havadan Sıcak Su'!D11","v":2.6610315863265548},{"$f":"'Havadan Sıcak Su'!E11","v":3.012015725651819},{"$f":"'Havadan Sıcak Su'!F11","v":3.5928834754586245},{"$f":"'Havadan Sıcak Su'!G11","v":4.0673873781576875},{"$f":"'Havadan Sıcak Su'!H11","v":4.4369589985958804},{"$f":"'Havadan Sıcak Su'!I11","v":4.4299528274199993},{"$f":"'Havadan Sıcak Su'!J11","v":4.0361678681169764},{"$f":"'Havadan Sıcak Su'!K11","v":3.5026989521560377},{"$f":"'Havadan Sıcak Su'!L11","v":2.790949651694115},{"$f":"'Havadan Sıcak Su'!M11","v":2.5225010260682827}]
[null,null,null,null,"Isı Pompası Enerji Tüketimi (kWh)",{"$f":"'Havadan Sıcak Su'!B17","v":3224.5399813221784},{"$f":"'Havadan Sıcak Su'!C17","v":3156.4114840593411},{"$f":"'Havadan Sıcak Su'!D17","v":2893.6146566488278},{"$f":"'Havadan Sıcak Su'!E17","v":2556.4275559463331},{"$f":"'Havadan Sıcak Su'!F17","v":2143.1254457861619},{"$f":"'Havadan Sıcak Su'!G17","v":1893.1071186752058},{"$f":"'Havadan Sıcak Su'!H17","v":1735.4228430861635},{"$f":"'Havadan Sıcak Su'!I17","v":1738.1674929672949},{"$f":"'Havadan Sıcak Su'!J17","v":1907.7501857206792},{"$f":"'Havadan Sıcak Su'!K17","v":2198.3048229881051},{"$f":"'Havadan Sıcak Su'!L17","v":2758.9175588768062},{"$f":"'Havadan Sıcak Su'!M17","v":3052.5260130425672}]
[]
[]
[]
[]
[]
[]
[]
[]
[]
[]
[]
[]
[]
[]
[]
[]
[]
[]
[]
[]
[]
[]
[]
[null,"COP limit",13]
[]
[]
[]
[]
[]
[]
[null,null,null,{"$f":"MATCH(1,D105:D1061,0)+104","v":413},{"$f":"MATCH(MAX(D105:D1061),D105:D1061,0)+104","v":432}]
[null,null,null,{"$f":"\"B\"&D100&\":B\"&E100","v":"B413:B432"}]
[]
[]
[]
[null,"ALADAĞ(KARSANTI)",{"$f":"IF(Detaylı!$C$2=E105,1,0)","v":0},{"$f":"IF(C105=1,1,0)","v":0},"ADANA"]
[null,"CEYHAN",{"$f":"IF(Detaylı!$C$2=E106,1,0)","v":0},{"$f":"IF(C106=1,D105+1,0)","v":0},"ADANA"]
[null,"ÇUKUROVA",{"$f":"IF(Detaylı!$C$2=E107,1,0)","v":0},{"$f":"IF(C107=1,D106+1,0)","v":0},"ADANA"]
[null,"FEKE",{"$f":"IF(Detaylı!$C$2=E108,1,0)","v":0},0,"ADANA"]
[null,"İMAMOĞLU",{"$f":"IF(Detaylı!$C$2=E109,1,0)","v":0},0,"ADANA"]
[null,"KARAİSALI",{"$f":"IF(Detaylı!$C$2=E110,1,0)","v":0},0,"ADANA"]
[null,"KARATAŞ",{"$f":"IF(Detaylı!$C$2=E111,1,0)","v":0},0,"ADANA"]
[null,"KOZAN",{"$f":"IF(Detaylı!$C$2=E112,1,0)","v":0},0,"ADANA"]
[null,"POZANTI",{"$f":"IF(Detaylı!$C$2=E113,1,0)","v":0},0,"ADANA"]
[null,"SAİMBEYLİ",{"$f":"IF(Detaylı!$C$2=E114,1,0)","v":0},0,"ADANA"]
[null,"SARIÇAM",{"$f":"IF(Detaylı!$C$2=E115,1,0)","v":0},0,"ADANA"]
[null,"SEYHAN",{"$f":"IF(Detaylı!$C$2=E116,1,0)","v":0},0,"ADANA"]
[null,"TUFANBEYLİ",{"$f":"IF(Detaylı!$C$2=E117,1,0)","v":0},0,"ADANA"]
[null,"YUMURTALIK",{"$f":"IF(Detaylı!$C$2=E118,1,0)","v":0},0,"ADANA"]
[null,"YÜREĞİR",{"$f":"IF(Detaylı!$C$2=E119,1,0)","v":0},0,"ADANA"]
[null,"ADIYAMAN",{"$f":"IF(Detaylı!$C$2=E120,1,0)","v":0},0,"ADIYAMAN"]
[null,"BESNİ",{"$f":"IF(Detaylı!$C$2=E121,1,0)","v":0},0,"ADIYAMAN"]
[null,"ÇELİKHAN",{"$f":"IF(Detaylı!$C$2=E122,1,0)","v":0},0,"ADIYAMAN"]
[null,"GERGER",{"$f":"IF(Detaylı!$C$2=E123,1,0)","v":0},0,"ADIYAMAN"]
[null,"GÖLBAŞI",{"$f":"IF(Detaylı!$C$2=E124,1,0)","v":0},0,"ADIYAMAN"]
[null,"KAHTA",{"$f":"IF(Detaylı!$C$2=E125,1,0)","v":0},0,"ADIYAMAN"]
[null,"SAMSAT",{"$f":"IF(Detaylı!$C$2=E126,1,0)","v":0},0,"ADIYAMAN"]
[null,"SİNCİK",{"$f":"IF(Detaylı!$C$2=E127,1,0)","v":0},0,"ADIYAMAN"]
[null,"TUT",{"$f":"IF(Detaylı!$C$2=E128,1,0)","v":0},0,"ADIYAMAN"]
[null,"AFYON",{"$f":"IF(Detaylı!$C$2=E129,1,0)","v":0},0,"AFYONKARAHİSAR"]
[null,"BAŞMAKÇI",{"$f":"IF(Detaylı!$C$2=E130,1,0)","v":0},0,"AFYONKARAHİSAR"]
[null,"BAYAT",{"$f":"IF(Detaylı!$C$2=E131,1,0)","v":0},0,"AFYONKARAHİSAR"]
[null,"BOLVADİN",{"$f":"IF(Detaylı!$C$2=E132,1,0)","v":0},0,"AFYONKARAHİSAR"]
[null,"ÇAY",{"$f":"IF(Detaylı!$C$2=E133,1,0)","v":0},0,"AFYONKARAHİSAR"]
[null,"ÇOBANLAR",{"$f":"IF(Detaylı!$C$2=E134,1,0)","v":0},0,"AFYONKARAHİSAR"]
[null,"DAZKIRI",{"$f":"IF(Detaylı!$C$2=E135,1,0)","v":0},0,"AFYONKARAHİSAR"]
[null,"DİNAR",{"$f":"IF(Detaylı!$C$2=E136,1,0)","v":0},0,"AFYONKARAHİSAR"]
[null,"EMİRDAĞ",{"$f":"IF(Detaylı!$C$2=E137,1,0)","v":0},0,"AFYONKARAHİSAR"]
[null,"EVCİLER",{"$f":"IF(Detaylı!$C$2=E138,1,0)","v":0},0,"AFYONKARAHİSAR"]
[null,"HOCALAR",{"$f":"IF(Detaylı!$C$2=E139,1,0)","v":0},0,"AFYONKARAHİSAR"]
[null,"İHSANİYE",{"$f":"IF(Detaylı!$C$2=E140,1,0)","v":0},0,"AFYONKARAHİSAR"]
[null,"İSCEHİSAR",{"$f":"IF(Detaylı!$C$2=E141,1,0)","v":0},0,"AFYONKARAHİSAR"]
[null,"KIZILÖREN",{"$f":"IF(Detaylı!$C$2=E142,1,0)","v":0},0,"AFYONKARAHİSAR"]
[null,"SANDIKLI",{"$f":"IF(Detaylı!$C$2=E143,1,0)","v":0},0,"AFYONKARAHİSAR"]
[null,"SİNCANLI(SİNANPAŞA)",{"$f":"IF(Detaylı!$C$2=E144,1,0)","v":0},0,"AFYONKARAHİSAR"]
[null,"SULTANDAĞI",{"$f":"IF(Detaylı!$C$2=E145,1,0)","v":0},0,"AFYONKARAHİSAR"]
[null,"ŞUHUT",{"$f":"IF(Detaylı!$C$2=E146,1,0)","v":0},0,"AFYONKARAHİSAR"]
[null,"AĞRI",{"$f":"IF(Detaylı!$C$2=E147,1,0)","v":0},0,"AĞRI"]
[null,"DİYADİN",{"$f":"IF(Detaylı!$C$2=E148,1,0)","v":0},0,"AĞRI"]
[null,"DOĞUBAYAZIT(DOĞUBEYAZIT)",{"$f":"IF(Detaylı!$C$2=E149,1,0)","v":0},0,"AĞRI"]
[null,"ELEŞKİRT",{"$f":"IF(Detaylı!$C$2=E150,1,0)","v":0},0,"AĞRI"]
[null,"HAMUR",{"$f":"IF(Detaylı!$C$2=E151,1,0)","v":0},0,"AĞRI"]
[null,"PATNOS",{"$f":"IF(Detaylı!$C$2=E152,1,0)","v":0},0,"AĞRI"]
[null,"TAŞLIÇAY",{"$f":"IF(Detaylı!$C$2=E153,1,0)","v":0},0,"AĞRI"]
[null,"TUTAK",{"$f":"IF(Detaylı!$C$2=E154,1,0)","v":0},0,"AĞRI"]
[null,"AMASYA",{"$f":"IF(Detaylı!$C$2=E155,1,0)","v":0},0,"AMASYA"]
[null,"GÖYNÜCEK",{"$f":"IF(Detaylı!$C$2=E156,1,0)","v":0},0,"AMASYA"]
[null,"GÜMÜŞHACIKÖY",{"$f":"IF(Detaylı!$C$2=E157,1,0)","v":0},0,"AMASYA"]
[null,"HAMAMÖZÜ",{"$f":"IF(Detaylı!$C$2=E158,1,0)","v":0},0,"AMASYA"]
[null,"MERZİFON",{"$f":"IF(Detaylı!$C$2=E159,1,0)","v":0},0,"AMASYA"]
[null,"SULUOVA",{"$f":"IF(Detaylı!$C$2=E160,1,0)","v":0},0,"AMASYA"]
[null,"TAŞOVA",{"$f":"IF(Detaylı!$C$2=E161,1,0)","v":0},0,"AMASYA"]
[null,"AKYURT",{"$f":"IF(Detaylı!$C$2=E162,1,0)","v":0},0,"ANKARA"]
[null,"ALTINDAĞ",{"$f":"IF(Detaylı!$C$2=E163,1,0)","v":0},0,"ANKARA"]
[null,"AYAŞ",{"$f":"IF(Detaylı!$C$2=E164,1,0)","v":0},0,"ANKARA"]
[null,"BALA",{"$f":"IF(Detaylı!$C$2=E165,1,0)","v":0},0,"ANKARA"]
[null,"BEYPAZARI",{"$f":"IF(Detaylı!$C$2=E166,1,0)","v":0},0,"ANKARA"]
[null,"ÇAMLIDERE",{"$f":"IF(Detaylı!$C$2=E167,1,0)","v":0},0,"ANKARA"]
[null,"ÇANKAYA",{"$f":"IF(Detaylı!$C$2=E168,1,0)","v":0},0,"ANKARA"]
[null,"ÇUBUK",{"$f":"IF(Detaylı!$C$2=E169,1,0)","v":0},0,"ANKARA"]
[null,"ELMADAĞ",{"$f":"IF(Detaylı!$C$2=E170,1,0)","v":0},0,"ANKARA"]
[null,"ETİMESGUT",{"$f":"IF(Detaylı!$C$2=E171,1,0)","v":0},{"$f":"IF(C171=1,D170+1,0)","v":0},"ANKARA"]
[null,"EVREN",{"$f":"IF(Detaylı!$C$2=E172,1,0)","v":0},0,"ANKARA"]
[null,"GÖLBAŞI",{"$f":"IF(Detaylı!$C$2=E173,1,0)","v":0},0,"ANKARA"]
[null,"GÜDÜL",{"$f":"IF(Detaylı!$C$2=E174,1,0)","v":0},0,"ANKARA"]
[null,"HAYMANA",{"$f":"IF(Detaylı!$C$2=E175,1,0)","v":0},0,"ANKARA"]
[null,"KALECİK",{"$f":"IF(Detaylı!$C$2=E176,1,0)","v":0},0,"ANKARA"]
[null,"KAZAN",{"$f":"IF(Detaylı!$C$2=E177,1,0)","v":0},0,"ANKARA"]
[null,"KEÇİÖREN",{"$f":"IF(Detaylı!$C$2=E178,1,0)","v":0},0,"ANKARA"]
[null,"KIZILCAHAMAM",{"$f":"IF(Detaylı!$C$2=E179,1,0)","v":0},0,"ANKARA"]
[null,"MAMAK",{"$f":"IF(Detaylı!$C$2=E180,1,0)","v":0},0,"ANKARA"]
[null,"NALLIHAN",{"$f":"IF(Detaylı!$C$2=E181,1,0)","v":0},0,"ANKARA"]
[null,"POLATLI",{"$f":"IF(Detaylı!$C$2=E182,1,0)","v":0},0,"ANKARA"]
[null,"PURSAKLAR",{"$f":"IF(Detaylı!$C$2=E183,1,0)","v":0},0,"ANKARA"]
[null,"SİNCAN",{"$f":"IF(Detaylı!$C$2=E184,1,0)","v":0},0,"ANKARA"]
[null,"ŞEREFLİKOÇHİSAR",{"$f":"IF(Detaylı!$C$2=E185,1,0)","v":0},0,"ANKARA"]
[null,"YENİMAHALLE",{"$f":"IF(Detaylı!$C$2=E186,1,0)","v":0},0,"ANKARA"]
[null,"AKSEKİ",{"$f":"IF(Detaylı!$C$2=E187,1,0)","v":0},0,"ANTALYA"]
[null,"AKSU",{"$f":"IF(Detaylı!$C$2=E188,1,0)","v":0},0,"ANTALYA"]
[null,"ALANYA",{"$f":"IF(Detaylı!$C$2=E189,1,0)","v":0},0,"ANTALYA"]
[null,"DEMRE(KALE)",{"$f":"IF(Detaylı!$C$2=E190,1,0)","v":0},0,"ANTALYA"]
[null,"DÖŞEMEALTI",{"$f":"IF(Detaylı!$C$2=E191,1,0)","v":0},0,"ANTALYA"]
[null,"ELMALI",{"$f":"IF(Detaylı!$C$2=E192,1,0)","v":0},0,"ANTALYA"]
[null,"FİNİKE",{"$f":"IF(Detaylı!$C$2=E193,1,0)","v":0},0,"ANTALYA"]
[null,"GAZİPAŞA",{"$f":"IF(Detaylı!$C$2=E194,1,0)","v":0},0,"ANTALYA"]
[null,"GÜNDOĞMUŞ",{"$f":"IF(Detaylı!$C$2=E195,1,0)","v":0},0,"ANTALYA"]
[null,"İBRADI(AYDINKENT)",{"$f":"IF(Detaylı!$C$2=E196,1,0)","v":0},0,"ANTALYA"]
[null,"KAŞ",{"$f":"IF(Detaylı!$C$2=E197,1,0)","v":0},0,"ANTALYA"]
[null,"KEMER",{"$f":"IF(Detaylı!$C$2=E198,1,0)","v":0},0,"ANTALYA"]
[null,"KEPEZ",{"$f":"IF(Detaylı!$C$2=E199,1,0)","v":0},0,"ANTALYA"]
[null,"KONYAALTI",{"$f":"IF(Detaylı!$C$2=E200,1,0)","v":0},0,"ANTALYA"]
[null,"KORKUTELİ",{"$f":"IF(Detaylı!$C$2=E201,1,0)","v":0},0,"ANTALYA"]
[null,"KUMLUCA",{"$f":"IF(Detaylı!$C$2=E202,1,0)","v":0},0,"ANTALYA"]
[null,"MANAVGAT",{"$f":"IF(Detaylı!$C$2=E203,1,0)","v":0},0,"ANTALYA"]
[null,"MURATPAŞA",{"$f":"IF(Detaylı!$C$2=E204,1,0)","v":0},0,"ANTALYA"]
[null,"SERİK",{"$f":"IF(Detaylı!$C$2=E205,1,0)","v":0},0,"ANTALYA"]
[null,"ARDANUÇ",{"$f":"IF(Detaylı!$C$2=E206,1,0)","v":0},0,"ARTVİN"]
[null,"ARHAVİ",{"$f":"IF(Detaylı!$C$2=E207,1,0)","v":0},0,"ARTVİN"]
[null,"ARTVİN",{"$f":"IF(Detaylı!$C$2=E208,1,0)","v":0},0,"ARTVİN"]
[null,"BORÇKA",{"$f":"IF(Detaylı!$C$2=E209,1,0)","v":0},0,"ARTVİN"]
[null,"HOPA",{"$f":"IF(Detaylı!$C$2=E210,1,0)","v":0},0,"ARTVİN"]
[null,"MURGUL(GÖKTAŞ)",{"$f":"IF(Detaylı!$C$2=E211,1,0)","v":0},0,"ARTVİN"]
[null,"ŞAVŞAT",{"$f":"IF(Detaylı!$C$2=E212,1,0)","v":0},0,"ARTVİN"]
[null,"YUSUFELİ",{"$f":"IF(Detaylı!$C$2=E213,1,0)","v":0},0,"ARTVİN"]
[null,"AYDIN",{"$f":"IF(Detaylı!$C$2=E214,1,0)","v":0},0,"AYDIN"]
[null,"BOZDOĞAN",{"$f":"IF(Detaylı!$C$2=E215,1,0)","v":0},0,"AYDIN"]
[null,"BUHARKENT(ÇUBUKDAĞI)",{"$f":"IF(Detaylı!$C$2=E216,1,0)","v":0},0,"AYDIN"]
[null,"ÇİNE",{"$f":"IF(Detaylı!$C$2=E217,1,0)","v":0},0,"AYDIN"]
[null,"DİDİM(YENİHİSAR)",{"$f":"IF(Detaylı!$C$2=E218,1,0)","v":0},0,"AYDIN"]
[null,"GERMENCİK",{"$f":"IF(Detaylı!$C$2=E219,1,0)","v":0},0,"AYDIN"]
[null,"İNCİRLİOVA",{"$f":"IF(Detaylı!$C$2=E220,1,0)","v":0},0,"AYDIN"]
[null,"KARACASU",{"$f":"IF(Detaylı!$C$2=E221,1,0)","v":0},0,"AYDIN"]
[null,"KARPUZLU",{"$f":"IF(Detaylı!$C$2=E222,1,0)","v":0},0,"AYDIN"]
[null,"KOÇARLI",{"$f":"IF(Detaylı!$C$2=E223,1,0)","v":0},0,"AYDIN"]
[null,"KÖŞK",{"$f":"IF(Detaylı!$C$2=E224,1,0)","v":0},0,"AYDIN"]
[null,"KUŞADASI",{"$f":"IF(Detaylı!$C$2=E225,1,0)","v":0},0,"AYDIN"]
[null,"KUYUCAK",{"$f":"IF(Detaylı!$C$2=E226,1,0)","v":0},0,"AYDIN"]
[null,"NAZİLLİ",{"$f":"IF(Detaylı!$C$2=E227,1,0)","v":0},0,"AYDIN"]
[null,"SÖKE",{"$f":"IF(Detaylı!$C$2=E228,1,0)","v":0},0,"AYDIN"]
[null,"SULTANHİSAR",{"$f":"IF(Detaylı!$C$2=E229,1,0)","v":0},0,"AYDIN"]
[null,"YENİPAZAR",{"$f":"IF(Detaylı!$C$2=E230,1,0)","v":0},0,"AYDIN"]
[null,"AYVALIK",{"$f":"IF(Detaylı!$C$2=E231,1,0)","v":0},0,"BALIKESİR"]
[null,"BALIKESİR",{"$f":"IF(Detaylı!$C$2=E232,1,0)","v":0},0,"BALIKESİR"]
[null,"BALYA",{"$f":"IF(Detaylı!$C$2=E233,1,0)","v":0},0,"BALIKESİR"]
[null,"BANDIRMA",{"$f":"IF(Detaylı!$C$2=E234,1,0)","v":0},0,"BALIKESİR"]
[null,"BİGADİÇ",{"$f":"IF(Detaylı!$C$2=E235,1,0)","v":0},{"$f":"IF(C235=1,D234+1,0)","v":0},"BALIKESİR"]
[null,"BURHANİYE",{"$f":"IF(Detaylı!$C$2=E236,1,0)","v":0},0,"BALIKESİR"]
[null,"DURSUNBEY",{"$f":"IF(Detaylı!$C$2=E237,1,0)","v":0},0,"BALIKESİR"]
[null,"EDREMİT",{"$f":"IF(Detaylı!$C$2=E238,1,0)","v":0},0,"BALIKESİR"]
[null,"ERDEK",{"$f":"IF(Detaylı!$C$2=E239,1,0)","v":0},0,"BALIKESİR"]
[null,"GÖMEÇ",{"$f":"IF(Detaylı!$C$2=E240,1,0)","v":0},0,"BALIKESİR"]
[null,"GÖNEN",{"$f":"IF(Detaylı!$C$2=E241,1,0)","v":0},0,"BALIKESİR"]
[null,"HAVRAN",{"$f":"IF(Detaylı!$C$2=E242,1,0)","v":0},0,"BALIKESİR"]
[null,"İVRİNDİ",{"$f":"IF(Detaylı!$C$2=E243,1,0)","v":0},0,"BALIKESİR"]
[null,"KEPSUT",{"$f":"IF(Detaylı!$C$2=E244,1,0)","v":0},0,"BALIKESİR"]
[null,"MANYAS",{"$f":"IF(Detaylı!$C$2=E245,1,0)","v":0},0,"BALIKESİR"]
[null,"MARMARA",{"$f":"IF(Detaylı!$C$2=E246,1,0)","v":0},0,"BALIKESİR"]
[null,"SAVAŞTEPE",{"$f":"IF(Detaylı!$C$2=E247,1,0)","v":0},0,"BALIKESİR"]
[null,"SINDIRGI",{"$f":"IF(Detaylı!$C$2=E248,1,0)","v":0},0,"BALIKESİR"]
[null,"SUSURLUK",{"$f":"IF(Detaylı!$C$2=E249,1,0)","v":0},0,"BALIKESİR"]
[null,"BİLECİK",{"$f":"IF(Detaylı!$C$2=E250,1,0)","v":0},0,"BİLECİK"]
[null,"BOZÜYÜK",{"$f":"IF(Detaylı!$C$2=E251,1,0)","v":0},0,"BİLECİK"]
[null,"GÖLPAZARI",{"$f":"IF(Detaylı!$C$2=E252,1,0)","v":0},0,"BİLECİK"]
[null,"İNHİSAR",{"$f":"IF(Detaylı!$C$2=E253,1,0)","v":0},0,"BİLECİK"]
[null,"OSMANELİ",{"$f":"IF(Detaylı!$C$2=E254,1,0)","v":0},0,"BİLECİK"]
[null,"PAZARYERİ",{"$f":"IF(Detaylı!$C$2=E255,1,0)","v":0},0,"BİLECİK"]
[null,"SÖĞÜT",{"$f":"IF(Detaylı!$C$2=E256,1,0)","v":0},0,"BİLECİK"]
[null,"YENİPAZAR",{"$f":"IF(Detaylı!$C$2=E257,1,0)","v":0},0,"BİLECİK"]
[null,"ADAKLI",{"$f":"IF(Detaylı!$C$2=E258,1,0)","v":0},0,"BİNGÖL"]
[null,"BİNGÖL",{"$f":"IF(Detaylı!$C$2=E259,1,0)","v":0},0,"BİNGÖL"]
[null,"GENÇ",{"$f":"IF(Detaylı!$C$2=E260,1,0)","v":0},0,"BİNGÖL"]
[null,"KARLIOVA",{"$f":"IF(Detaylı!$C$2=E261,1,0)","v":0},0,"BİNGÖL"]
[null,"KİĞI",{"$f":"IF(Detaylı!$C$2=E262,1,0)","v":0},0,"BİNGÖL"]
[null,"SOLHAN",{"$f":"IF(Detaylı!$C$2=E263,1,0)","v":0},0,"BİNGÖL"]
[null,"YAYLADERE",{"$f":"IF(Detaylı!$C$2=E264,1,0)","v":0},0,"BİNGÖL"]
[null,"YEDİSU",{"$f":"IF(Detaylı!$C$2=E265,1,0)","v":0},0,"BİNGÖL"]
[null,"ADİLCEVAZ",{"$f":"IF(Detaylı!$C$2=E266,1,0)","v":0},0,"BİTLİS"]
[null,"AHLAT",{"$f":"IF(Detaylı!$C$2=E267,1,0)","v":0},0,"BİTLİS"]
[null,"BİTLİS",{"$f":"IF(Detaylı!$C$2=E268,1,0)","v":0},0,"BİTLİS"]
[null,"GÜROYMAK",{"$f":"IF(Detaylı!$C$2=E269,1,0)","v":0},0,"BİTLİS"]
[null,"HİZAN",{"$f":"IF(Detaylı!$C$2=E270,1,0)","v":0},0,"BİTLİS"]
[null,"MUTKİ",{"$f":"IF(Detaylı!$C$2=E271,1,0)","v":0},0,"BİTLİS"]
[null,"TATVAN",{"$f":"IF(Detaylı!$C$2=E272,1,0)","v":0},0,"BİTLİS"]
[null,"BOLU",{"$f":"IF(Detaylı!$C$2=E273,1,0)","v":0},0,"BOLU"]
[null,"DÖRTDİVAN",{"$f":"IF(Detaylı!$C$2=E274,1,0)","v":0},0,"BOLU"]
[null,"GEREDE",{"$f":"IF(Detaylı!$C$2=E275,1,0)","v":0},0,"BOLU"]
[null,"GÖYNÜK",{"$f":"IF(Detaylı!$C$2=E276,1,0)","v":0},0,"BOLU"]
[null,"KIBRISCIK",{"$f":"IF(Detaylı!$C$2=E277,1,0)","v":0},0,"BOLU"]
[null,"MENGEN",{"$f":"IF(Detaylı!$C$2=E278,1,0)","v":0},0,"BOLU"]
[null,"MUDURNU",{"$f":"IF(Detaylı!$C$2=E279,1,0)","v":0},0,"BOLU"]
[null,"SEBEN",{"$f":"IF(Detaylı!$C$2=E280,1,0)","v":0},0,"BOLU"]
[null,"YENİÇAĞA",{"$f":"IF(Detaylı!$C$2=E281,1,0)","v":0},0,"BOLU"]
[null,"AĞLASUN",{"$f":"IF(Detaylı!$C$2=E282,1,0)","v":0},0,"BURDUR"]
[null,"ALTINYAYLA(DİRMİL)",{"$f":"IF(Detaylı!$C$2=E283,1,0)","v":0},0,"BURDUR"]
[null,"BUCAK",{"$f":"IF(Detaylı!$C$2=E284,1,0)","v":0},0,"BURDUR"]
[null,"BURDUR",{"$f":"IF(Detaylı!$C$2=E285,1,0)","v":0},0,"BURDUR"]
[null,"ÇAVDIR",{"$f":"IF(Detaylı!$C$2=E286,1,0)","v":0},0,"BURDUR"]
[null,"ÇELTİKÇİ",{"$f":"IF(Detaylı!$C$2=E287,1,0)","v":0},0,"BURDUR"]
[null,"GÖLHİSAR",{"$f":"IF(Detaylı!$C$2=E288,1,0)","v":0},0,"BURDUR"]
[null,"KARAMANLI",{"$f":"IF(Detaylı!$C$2=E289,1,0)","v":0},0,"BURDUR"]
[null,"KEMER",{"$f":"IF(Detaylı!$C$2=E290,1,0)","v":0},0,"BURDUR"]
[null,"TEFENNİ",{"$f":"IF(Detaylı!$C$2=E291,1,0)","v":0},0,"BURDUR"]
[null,"YEŞİLOVA",{"$f":"IF(Detaylı!$C$2=E292,1,0)","v":0},0,"BURDUR"]
[null,"BÜYÜKORHAN",{"$f":"IF(Detaylı!$C$2=E293,1,0)","v":0},0,"BURSA"]
[null,"GEMLİK",{"$f":"IF(Detaylı!$C$2=E294,1,0)","v":0},0,"BURSA"]
[null,"GÜRSU",{"$f":"IF(Detaylı!$C$2=E295,1,0)","v":0},0,"BURSA"]
[null,"HARMANCIK",{"$f":"IF(Detaylı!$C$2=E296,1,0)","v":0},0,"BURSA"]
[null,"İNEGÖL",{"$f":"IF(Detaylı!$C$2=E297,1,0)","v":0},0,"BURSA"]
[null,"İZNİK",{"$f":"IF(Detaylı!$C$2=E298,1,0)","v":0},0,"BURSA"]
[null,"KARACABEY",{"$f":"IF(Detaylı!$C$2=E299,1,0)","v":0},{"$f":"IF(C299=1,D298+1,0)","v":0},"BURSA"]
[null,"KELES",{"$f":"IF(Detaylı!$C$2=E300,1,0)","v":0},0,"BURSA"]
[null,"KESTEL",{"$f":"IF(Detaylı!$C$2=E301,1,0)","v":0},0,"BURSA"]
[null,"MUDANYA",{"$f":"IF(Detaylı!$C$2=E302,1,0)","v":0},0,"BURSA"]
[null,"MUSTAFAKEMALPAŞA",{"$f":"IF(Detaylı!$C$2=E303,1,0)","v":0},0,"BURSA"]
[null,"NİLÜFER",{"$f":"IF(Detaylı!$C$2=E304,1,0)","v":0},0,"BURSA"]
[null,"ORHANELİ",{"$f":"IF(Detaylı!$C$2=E305,1,0)","v":0},0,"BURSA"]
[null,"ORHANGAZİ",{"$f":"IF(Detaylı!$C$2=E306,1,0)","v":0},0,"BURSA"]
[null,"OSMANGAZİ",{"$f":"IF(Detaylı!$C$2=E307,1,0)","v":0},0,"BURSA"]
[null,"YENİŞEHİR",{"$f":"IF(Detaylı!$C$2=E308,1,0)","v":0},0,"BURSA"]
[null,"YILDIRIM",{"$f":"IF(Detaylı!$C$2=E309,1,0)","v":0},0,"BURSA"]
[null,"AYVACIK",{"$f":"IF(Detaylı!$C$2=E310,1,0)","v":0},0,"ÇANAKKALE"]
[null,"BAYRAMİÇ",{"$f":"IF(Detaylı!$C$2=E311,1,0)","v":0},0,"ÇANAKKALE"]
[null,"BİGA",{"$f":"IF(Detaylı!$C$2=E312,1,0)","v":0},0,"ÇANAKKALE"]
[null,"BOZCAADA",{"$f":"IF(Detaylı!$C$2=E313,1,0)","v":0},0,"ÇANAKKALE"]
[null,"ÇAN",{"$f":"IF(Detaylı!$C$2=E314,1,0)","v":0},0,"ÇANAKKALE"]
[null,"ÇANAKKALE",{"$f":"IF(Detaylı!$C$2=E315,1,0)","v":0},0,"ÇANAKKALE"]
[null,"ECEABAT",{"$f":"IF(Detaylı!$C$2=E316,1,0)","v":0},0,"ÇANAKKALE"]
[null,"EZİNE",{"$f":"IF(Detaylı!$C$2=E317,1,0)","v":0},0,"ÇANAKKALE"]
[null,"GELİBOLU",{"$f":"IF(Detaylı!$C$2=E318,1,0)","v":0},0,"ÇANAKKALE"]
[null,"GÖKÇEADA(İMROZ)",{"$f":"IF(Detaylı!$C$2=E319,1,0)","v":0},0,"ÇANAKKALE"]
[null,"LAPSEKİ",{"$f":"IF(Detaylı!$C$2=E320,1,0)","v":0},0,"ÇANAKKALE"]
[null,"YENİCE",{"$f":"IF(Detaylı!$C$2=E321,1,0)","v":0},0,"ÇANAKKALE"]
[null,"ATKARACALAR",{"$f":"IF(Detaylı!$C$2=E322,1,0)","v":0},0,"ÇANKIRI"]
[null,"BAYRAMÖREN",{"$f":"IF(Detaylı!$C$2=E323,1,0)","v":0},0,"ÇANKIRI"]
[null,"ÇANKIRI",{"$f":"IF(Detaylı!$C$2=E324,1,0)","v":0},0,"ÇANKIRI"]
[null,"ÇERKEŞ",{"$f":"IF(Detaylı!$C$2=E325,1,0)","v":0},0,"ÇANKIRI"]
[null,"ELDİVAN",{"$f":"IF(Detaylı!$C$2=E326,1,0)","v":0},0,"ÇANKIRI"]
[null,"ILGAZ",{"$f":"IF(Detaylı!$C$2=E327,1,0)","v":0},0,"ÇANKIRI"]
[null,"KIZILIRMAK",{"$f":"IF(Detaylı!$C$2=E328,1,0)","v":0},0,"ÇANKIRI"]
[null,"KORGUN",{"$f":"IF(Detaylı!$C$2=E329,1,0)","v":0},0,"ÇANKIRI"]
[null,"KURŞUNLU",{"$f":"IF(Detaylı!$C$2=E330,1,0)","v":0},0,"ÇANKIRI"]
[null,"ORTA",{"$f":"IF(Detaylı!$C$2=E331,1,0)","v":0},0,"ÇANKIRI"]
[null,"ŞABANÖZÜ",{"$f":"IF(Detaylı!$C$2=E332,1,0)","v":0},0,"ÇANKIRI"]
[null,"YAPRAKLI",{"$f":"IF(Detaylı!$C$2=E333,1,0)","v":0},0,"ÇANKIRI"]
[null,"ALACA",{"$f":"IF(Detaylı!$C$2=E334,1,0)","v":0},0,"ÇORUM"]
[null,"BAYAT",{"$f":"IF(Detaylı!$C$2=E335,1,0)","v":0},0,"ÇORUM"]
[null,"BOĞAZKALE",{"$f":"IF(Detaylı!$C$2=E336,1,0)","v":0},0,"ÇORUM"]
[null,"ÇORUM",{"$f":"IF(Detaylı!$C$2=E337,1,0)","v":0},0,"ÇORUM"]
[null,"DODURGA",{"$f":"IF(Detaylı!$C$2=E338,1,0)","v":0},0,"ÇORUM"]
[null,"İSKİLİP",{"$f":"IF(Detaylı!$C$2=E339,1,0)","v":0},0,"ÇORUM"]
[null,"KARGI",{"$f":"IF(Detaylı!$C$2=E340,1,0)","v":0},0,"ÇORUM"]
[null,"LAÇİN",{"$f":"IF(Detaylı!$C$2=E341,1,0)","v":0},0,"ÇORUM"]
[null,"MECİTÖZÜ",{"$f":"IF(Detaylı!$C$2=E342,1,0)","v":0},0,"ÇORUM"]
[null,"OĞUZLAR(KARAÖREN)",{"$f":"IF(Detaylı!$C$2=E343,1,0)","v":0},0,"ÇORUM"]
[null,"ORTAKÖY",{"$f":"IF(Detaylı!$C$2=E344,1,0)","v":0},0,"ÇORUM"]
[null,"OSMANCIK",{"$f":"IF(Detaylı!$C$2=E345,1,0)","v":0},0,"ÇORUM"]
[null,"SUNGURLU",{"$f":"IF(Detaylı!$C$2=E346,1,0)","v":0},0,"ÇORUM"]
[null,"UĞURLUDAĞ",{"$f":"IF(Detaylı!$C$2=E347,1,0)","v":0},0,"ÇORUM"]
[null,"ACIPAYAM",{"$f":"IF(Detaylı!$C$2=E348,1,0)","v":0},0,"DENİZLİ"]
[null,"AKKÖY",{"$f":"IF(Detaylı!$C$2=E349,1,0)","v":0},0,"DENİZLİ"]
[null,"BABADAĞ",{"$f":"IF(Detaylı!$C$2=E350,1,0)","v":0},0,"DENİZLİ"]
[null,"BAKLAN",{"$f":"IF(Detaylı!$C$2=E351,1,0)","v":0},0,"DENİZLİ"]
[null,"BEKİLLİ",{"$f":"IF(Detaylı!$C$2=E352,1,0)","v":0},0,"DENİZLİ"]
[null,"BEYAĞAÇ",{"$f":"IF(Detaylı!$C$2=E353,1,0)","v":0},0,"DENİZLİ"]
[null,"BOZKURT",{"$f":"IF(Detaylı!$C$2=E354,1,0)","v":0},0,"DENİZLİ"]
[null,"BULDAN",{"$f":"IF(Detaylı!$C$2=E355,1,0)","v":0},0,"DENİZLİ"]
[null,"ÇAL",{"$f":"IF(Detaylı!$C$2=E356,1,0)","v":0},0,"DENİZLİ"]
[null,"ÇAMELİ",{"$f":"IF(Detaylı!$C$2=E357,1,0)","v":0},0,"DENİZLİ"]
[null,"ÇARDAK",{"$f":"IF(Detaylı!$C$2=E358,1,0)","v":0},0,"DENİZLİ"]
[null,"ÇİVRİL",{"$f":"IF(Detaylı!$C$2=E359,1,0)","v":0},0,"DENİZLİ"]
[null,"DENİZLİ",{"$f":"IF(Detaylı!$C$2=E360,1,0)","v":0},0,"DENİZLİ"]
[null,"GÜNEY",{"$f":"IF(Detaylı!$C$2=E361,1,0)","v":0},0,"DENİZLİ"]
[null,"HONAZ",{"$f":"IF(Detaylı!$C$2=E362,1,0)","v":0},0,"DENİZLİ"]
[null,"KALE",{"$f":"IF(Detaylı!$C$2=E363,1,0)","v":0},{"$f":"IF(C363=1,D362+1,0)","v":0},"DENİZLİ"]
[null,"SARAYKÖY",{"$f":"IF(Detaylı!$C$2=E364,1,0)","v":0},0,"DENİZLİ"]
[null,"SERİNHİSAR",{"$f":"IF(Detaylı!$C$2=E365,1,0)","v":0},0,"DENİZLİ"]
[null,"TAVAS",{"$f":"IF(Detaylı!$C$2=E366,1,0)","v":0},0,"DENİZLİ"]
[null,"BAĞLAR",{"$f":"IF(Detaylı!$C$2=E367,1,0)","v":0},0,"DİYARBAKIR"]
[null,"BİSMİL",{"$f":"IF(Detaylı!$C$2=E368,1,0)","v":0},0,"DİYARBAKIR"]
[null,"ÇERMİK",{"$f":"IF(Detaylı!$C$2=E369,1,0)","v":0},0,"DİYARBAKIR"]
[null,"ÇINAR",{"$f":"IF(Detaylı!$C$2=E370,1,0)","v":0},0,"DİYARBAKIR"]
[null,"ÇÜNGÜŞ",{"$f":"IF(Detaylı!$C$2=E371,1,0)","v":0},0,"DİYARBAKIR"]
[null,"DİCLE",{"$f":"IF(Detaylı!$C$2=E372,1,0)","v":0},0,"DİYARBAKIR"]
[null,"EĞİL",{"$f":"IF(Detaylı!$C$2=E373,1,0)","v":0},0,"DİYARBAKIR"]
[null,"ERGANİ",{"$f":"IF(Detaylı!$C$2=E374,1,0)","v":0},0,"DİYARBAKIR"]
[null,"HANİ",{"$f":"IF(Detaylı!$C$2=E375,1,0)","v":0},0,"DİYARBAKIR"]
[null,"HAZRO",{"$f":"IF(Detaylı!$C$2=E376,1,0)","v":0},0,"DİYARBAKIR"]
[null,"KAYAPINAR",{"$f":"IF(Detaylı!$C$2=E377,1,0)","v":0},0,"DİYARBAKIR"]
[null,"KOCAKÖY",{"$f":"IF(Detaylı!$C$2=E378,1,0)","v":0},0,"DİYARBAKIR"]
[null,"KULP",{"$f":"IF(Detaylı!$C$2=E379,1,0)","v":0},0,"DİYARBAKIR"]
[null,"LİCE",{"$f":"IF(Detaylı!$C$2=E380,1,0)","v":0},0,"DİYARBAKIR"]
[null,"SİLVAN",{"$f":"IF(Detaylı!$C$2=E381,1,0)","v":0},0,"DİYARBAKIR"]
[null,"SUR",{"$f":"IF(Detaylı!$C$2=E382,1,0)","v":0},0,"DİYARBAKIR"]
[null,"YENİŞEHİR",{"$f":"IF(Detaylı!$C$2=E383,1,0)","v":0},0,"DİYARBAKIR"]
[null,"EDİRNE",{"$f":"IF(Detaylı!$C$2=E384,1,0)","v":0},0,"EDİRNE"]
[null,"ENEZ",{"$f":"IF(Detaylı!$C$2=E385,1,0)","v":0},0,"EDİRNE"]
[null,"HAVSA",{"$f":"IF(Detaylı!$C$2=E386,1,0)","v":0},0,"EDİRNE"]
[null,"İPSALA",{"$f":"IF(Detaylı!$C$2=E387,1,0)","v":0},0,"EDİRNE"]
[null,"KEŞAN",{"$f":"IF(Detaylı!$C$2=E388,1,0)","v":0},0,"EDİRNE"]
[null,"LALAPAŞA",{"$f":"IF(Detaylı!$C$2=E389,1,0)","v":0},0,"EDİRNE"]
[null,"MERİÇ",{"$f":"IF(Detaylı!$C$2=E390,1,0)","v":0},0,"EDİRNE"]
[null,"SÜLOĞLU(SÜLEOĞLU)",{"$f":"IF(Detaylı!$C$2=E391,1,0)","v":0},0,"EDİRNE"]
[null,"UZUNKÖPRÜ",{"$f":"IF(Detaylı!$C$2=E392,1,0)","v":0},0,"EDİRNE"]
[null,"AĞIN",{"$f":"IF(Detaylı!$C$2=E393,1,0)","v":0},0,"ELAZIĞ"]
[null,"ALACAKAYA",{"$f":"IF(Detaylı!$C$2=E394,1,0)","v":0},0,"ELAZIĞ"]
[null,"ARICAK",{"$f":"IF(Detaylı!$C$2=E395,1,0)","v":0},0,"ELAZIĞ"]
[null,"BASKİL",{"$f":"IF(Detaylı!$C$2=E396,1,0)","v":0},0,"ELAZIĞ"]
[null,"ELAZIĞ",{"$f":"IF(Detaylı!$C$2=E397,1,0)","v":0},0,"ELAZIĞ"]
[null,"KARAKOÇAN",{"$f":"IF(Detaylı!$C$2=E398,1,0)","v":0},0,"ELAZIĞ"]
[null,"KEBAN",{"$f":"IF(Detaylı!$C$2=E399,1,0)","v":0},0,"ELAZIĞ"]
[null,"KOVANCILAR",{"$f":"IF(Detaylı!$C$2=E400,1,0)","v":0},0,"ELAZIĞ"]
[null,"MADEN",{"$f":"IF(Detaylı!$C$2=E401,1,0)","v":0},0,"ELAZIĞ"]
[null,"PALU",{"$f":"IF(Detaylı!$C$2=E402,1,0)","v":0},0,"ELAZIĞ"]
[null,"SİVRİCE",{"$f":"IF(Detaylı!$C$2=E403,1,0)","v":0},0,"ELAZIĞ"]
[null,"ÇAYIRLI",{"$f":"IF(Detaylı!$C$2=E404,1,0)","v":0},0,"ERZİNCAN"]
[null,"ERZİNCAN",{"$f":"IF(Detaylı!$C$2=E405,1,0)","v":0},0,"ERZİNCAN"]
[null,"ILIÇ(İLİÇ)",{"$f":"IF(Detaylı!$C$2=E406,1,0)","v":0},0,"ERZİNCAN"]
[null,"KEMAH",{"$f":"IF(Detaylı!$C$2=E407,1,0)","v":0},0,"ERZİNCAN"]
[null,"KEMALİYE",{"$f":"IF(Detaylı!$C$2=E408,1,0)","v":0},0,"ERZİNCAN"]
[null,"OTLUKBELİ",{"$f":"IF(Detaylı!$C$2=E409,1,0)","v":0},0,"ERZİNCAN"]
[null,"REFAHİYE",{"$f":"IF(Detaylı!$C$2=E410,1,0)","v":0},0,"ERZİNCAN"]
[null,"TERCAN",{"$f":"IF(Detaylı!$C$2=E411,1,0)","v":0},0,"ERZİNCAN"]
[null,"ÜZÜMLÜ",{"$f":"IF(Detaylı!$C$2=E412,1,0)","v":0},0,"ERZİNCAN"]
[null,"AŞKALE",{"$f":"IF(Detaylı!$C$2=E413,1,0)","v":1},1,"ERZURUM"]
[null,"AZİZİYE(ILICA)",{"$f":"IF(Detaylı!$C$2=E414,1,0)","v":1},2,"ERZURUM"]
[null,"ÇAT",{"$f":"IF(Detaylı!$C$2=E415,1,0)","v":1},3,"ERZURUM"]
[null,"HINIS",{"$f":"IF(Detaylı!$C$2=E416,1,0)","v":1},4,"ERZURUM"]
[null,"HORASAN",{"$f":"IF(Detaylı!$C$2=E417,1,0)","v":1},5,"ERZURUM"]
[null,"İSPİR",{"$f":"IF(Detaylı!$C$2=E418,1,0)","v":1},6,"ERZURUM"]
[null,"KARAÇOBAN",{"$f":"IF(Detaylı!$C$2=E419,1,0)","v":1},7,"ERZURUM"]
[null,"KARAYAZI",{"$f":"IF(Detaylı!$C$2=E420,1,0)","v":1},8,"ERZURUM"]
[null,"KÖPRÜKÖY",{"$f":"IF(Detaylı!$C$2=E421,1,0)","v":1},9,"ERZURUM"]
[null,"NARMAN",{"$f":"IF(Detaylı!$C$2=E422,1,0)","v":1},10,"ERZURUM"]
[null,"OLTU",{"$f":"IF(Detaylı!$C$2=E423,1,0)","v":1},11,"ERZURUM"]
[null,"OLUR",{"$f":"IF(Detaylı!$C$2=E424,1,0)","v":1},12,"ERZURUM"]
[null,"PALANDÖKEN",{"$f":"IF(Detaylı!$C$2=E425,1,0)","v":1},13,"ERZURUM"]
[null,"PASİNLER",{"$f":"IF(Detaylı!$C$2=E426,1,0)","v":1},14,"ERZURUM"]
[null,"PAZARYOLU",{"$f":"IF(Detaylı!$C$2=E427,1,0)","v":1},{"$f":"IF(C427=1,D426+1,0)","v":15},"ERZURUM"]
[null,"ŞENKAYA",{"$f":"IF(Detaylı!$C$2=E428,1,0)","v":1},16,"ERZURUM"]
[null,"TEKMAN",{"$f":"IF(Detaylı!$C$2=E429,1,0)","v":1},17,"ERZURUM"]
[null,"TORTUM",{"$f":"IF(Detaylı!$C$2=E430,1,0)","v":1},18,"ERZURUM"]
[null,"UZUNDERE",{"$f":"IF(Detaylı!$C$2=E431,1,0)","v":1},19,"ERZURUM"]
[null,"YAKUTİYE",{"$f":"IF(Detaylı!$C$2=E432,1,0)","v":1},20,"ERZURUM"]
[null,"ALPU",{"$f":"IF(Detaylı!$C$2=E433,1,0)","v":0},0,"ESKİŞEHİR"]
[null,"BEYLİKOVA",{"$f":"IF(Detaylı!$C$2=E434,1,0)","v":0},0,"ESKİŞEHİR"]
[null,"ÇİFTELER",{"$f":"IF(Detaylı!$C$2=E435,1,0)","v":0},0,"ESKİŞEHİR"]
[null,"GÜNYÜZÜ",{"$f":"IF(Detaylı!$C$2=E436,1,0)","v":0},0,"ESKİŞEHİR"]
[null,"HAN",{"$f":"IF(Detaylı!$C$2=E437,1,0)","v":0},0,"ESKİŞEHİR"]
[null,"İNÖNÜ",{"$f":"IF(Detaylı!$C$2=E438,1,0)","v":0},0,"ESKİŞEHİR"]
[null,"MAHMUDİYE",{"$f":"IF(Detaylı!$C$2=E439,1,0)","v":0},0,"ESKİŞEHİR"]
[null,"MİHALGAZİ",{"$f":"IF(Detaylı!$C$2=E440,1,0)","v":0},0,"ESKİŞEHİR"]
[null,"MİHALIÇÇIK",{"$f":"IF(Detaylı!$C$2=E441,1,0)","v":0},0,"ESKİŞEHİR"]
[null,"ODUNPAZARI",{"$f":"IF(Detaylı!$C$2=E442,1,0)","v":0},0,"ESKİŞEHİR"]
[null,"SARICAKAYA",{"$f":"IF(Detaylı!$C$2=E443,1,0)","v":0},0,"ESKİŞEHİR"]
[null,"SEYİTGAZİ",{"$f":"IF(Detaylı!$C$2=E444,1,0)","v":0},0,"ESKİŞEHİR"]
[null,"SİVRİHİSAR",{"$f":"IF(Detaylı!$C$2=E445,1,0)","v":0},0,"ESKİŞEHİR"]
[null,"TEPEBAŞI",{"$f":"IF(Detaylı!$C$2=E446,1,0)","v":0},0,"ESKİŞEHİR"]
[null,"ARABAN",{"$f":"IF(Detaylı!$C$2=E447,1,0)","v":0},0,"GAZİANTEP"]
[null,"İSLAHİYE",{"$f":"IF(Detaylı!$C$2=E448,1,0)","v":0},0,"GAZİANTEP"]
[null,"KARKAMIŞ",{"$f":"IF(Detaylı!$C$2=E449,1,0)","v":0},0,"GAZİANTEP"]
[null,"NİZİP",{"$f":"IF(Detaylı!$C$2=E450,1,0)","v":0},0,"GAZİANTEP"]
[null,"NURDAĞI",{"$f":"IF(Detaylı!$C$2=E451,1,0)","v":0},0,"GAZİANTEP"]
[null,"OĞUZELİ",{"$f":"IF(Detaylı!$C$2=E452,1,0)","v":0},0,"GAZİANTEP"]
[null,"ŞAHİNBEY",{"$f":"IF(Detaylı!$C$2=E453,1,0)","v":0},0,"GAZİANTEP"]
[null,"ŞEHİTKAMİL",{"$f":"IF(Detaylı!$C$2=E454,1,0)","v":0},0,"GAZİANTEP"]
[null,"YAVUZELİ",{"$f":"IF(Detaylı!$C$2=E455,1,0)","v":0},0,"GAZİANTEP"]
[null,"ALUCRA",{"$f":"IF(Detaylı!$C$2=E456,1,0)","v":0},0,"GİRESUN"]
[null,"BULANCAK",{"$f":"IF(Detaylı!$C$2=E457,1,0)","v":0},0,"GİRESUN"]
[null,"ÇAMOLUK",{"$f":"IF(Detaylı!$C$2=E458,1,0)","v":0},0,"GİRESUN"]
[null,"ÇANAKÇI",{"$f":"IF(Detaylı!$C$2=E459,1,0)","v":0},0,"GİRESUN"]
[null,"DERELİ",{"$f":"IF(Detaylı!$C$2=E460,1,0)","v":0},0,"GİRESUN"]
[null,"DOĞANKENT",{"$f":"IF(Detaylı!$C$2=E461,1,0)","v":0},0,"GİRESUN"]
[null,"ESPİYE",{"$f":"IF(Detaylı!$C$2=E462,1,0)","v":0},0,"GİRESUN"]
[null,"EYNESİL",{"$f":"IF(Detaylı!$C$2=E463,1,0)","v":0},0,"GİRESUN"]
[null,"GİRESUN",{"$f":"IF(Detaylı!$C$2=E464,1,0)","v":0},0,"GİRESUN"]
[null,"GÖRELE",{"$f":"IF(Detaylı!$C$2=E465,1,0)","v":0},0,"GİRESUN"]
[null,"GÜCE",{"$f":"IF(Detaylı!$C$2=E466,1,0)","v":0},0,"GİRESUN"]
[null,"KEŞAP",{"$f":"IF(Detaylı!$C$2=E467,1,0)","v":0},0,"GİRESUN"]
[null,"PİRAZİZ",{"$f":"IF(Detaylı!$C$2=E468,1,0)","v":0},0,"GİRESUN"]
[null,"ŞEBİNKARAHİSAR",{"$f":"IF(Detaylı!$C$2=E469,1,0)","v":0},0,"GİRESUN"]
[null,"TİREBOLU",{"$f":"IF(Detaylı!$C$2=E470,1,0)","v":0},0,"GİRESUN"]
[null,"YAĞLIDERE",{"$f":"IF(Detaylı!$C$2=E471,1,0)","v":0},0,"GİRESUN"]
[null,"GÜMÜŞHANE",{"$f":"IF(Detaylı!$C$2=E472,1,0)","v":0},0,"GÜMÜŞHANE"]
[null,"KELKİT",{"$f":"IF(Detaylı!$C$2=E473,1,0)","v":0},0,"GÜMÜŞHANE"]
[null,"KÖSE",{"$f":"IF(Detaylı!$C$2=E474,1,0)","v":0},0,"GÜMÜŞHANE"]
[null,"KÜRTÜN",{"$f":"IF(Detaylı!$C$2=E475,1,0)","v":0},0,"GÜMÜŞHANE"]
[null,"ŞİRAN",{"$f":"IF(Detaylı!$C$2=E476,1,0)","v":0},0,"GÜMÜŞHANE"]
[null,"TORUL",{"$f":"IF(Detaylı!$C$2=E477,1,0)","v":0},0,"GÜMÜŞHANE"]
[null,"ÇUKURCA",{"$f":"IF(Detaylı!$C$2=E478,1,0)","v":0},0,"HAKKARİ"]
[null,"HAKKARİ",{"$f":"IF(Detaylı!$C$2=E479,1,0)","v":0},0,"HAKKARİ"]
[null,"ŞEMDİNLİ",{"$f":"IF(Detaylı!$C$2=E480,1,0)","v":0},0,"HAKKARİ"]
[null,"YÜKSEKOVA",{"$f":"IF(Detaylı!$C$2=E481,1,0)","v":0},0,"HAKKARİ"]
[null,"ALTINÖZÜ",{"$f":"IF(Detaylı!$C$2=E482,1,0)","v":0},0,"HATAY"]
[null,"ANTAKYA",{"$f":"IF(Detaylı!$C$2=E483,1,0)","v":0},0,"HATAY"]
[null,"BELEN",{"$f":"IF(Detaylı!$C$2=E484,1,0)","v":0},0,"HATAY"]
[null,"DÖRTYOL",{"$f":"IF(Detaylı!$C$2=E485,1,0)","v":0},0,"HATAY"]
[null,"ERZİN",{"$f":"IF(Detaylı!$C$2=E486,1,0)","v":0},0,"HATAY"]
[null,"HASSA",{"$f":"IF(Detaylı!$C$2=E487,1,0)","v":0},0,"HATAY"]
[null,"İSKENDERUN",{"$f":"IF(Detaylı!$C$2=E488,1,0)","v":0},0,"HATAY"]
[null,"KIRIKHAN",{"$f":"IF(Detaylı!$C$2=E489,1,0)","v":0},0,"HATAY"]
[null,"KUMLU",{"$f":"IF(Detaylı!$C$2=E490,1,0)","v":0},0,"HATAY"]
[null,"REYHANLI",{"$f":"IF(Detaylı!$C$2=E491,1,0)","v":0},{"$f":"IF(C491=1,D490+1,0)","v":0},"HATAY"]
[null,"SAMANDAĞ",{"$f":"IF(Detaylı!$C$2=E492,1,0)","v":0},0,"HATAY"]
[null,"YAYLADAĞI",{"$f":"IF(Detaylı!$C$2=E493,1,0)","v":0},0,"HATAY"]
[null,"AKSU",{"$f":"IF(Detaylı!$C$2=E494,1,0)","v":0},0,"ISPARTA"]
[null,"ATABEY",{"$f":"IF(Detaylı!$C$2=E495,1,0)","v":0},0,"ISPARTA"]
[null,"EĞİRDİR(EĞRİDİR)",{"$f":"IF(Detaylı!$C$2=E496,1,0)","v":0},0,"ISPARTA"]
[null,"GELENDOST",{"$f":"IF(Detaylı!$C$2=E497,1,0)","v":0},0,"ISPARTA"]
[null,"GÖNEN",{"$f":"IF(Detaylı!$C$2=E498,1,0)","v":0},0,"ISPARTA"]
[null,"ISPARTA",{"$f":"IF(Detaylı!$C$2=E499,1,0)","v":0},0,"ISPARTA"]
[null,"KEÇİBORLU",{"$f":"IF(Detaylı!$C$2=E500,1,0)","v":0},0,"ISPARTA"]
[null,"SENİRKENT",{"$f":"IF(Detaylı!$C$2=E501,1,0)","v":0},0,"ISPARTA"]
[null,"SÜTÇÜLER",{"$f":"IF(Detaylı!$C$2=E502,1,0)","v":0},0,"ISPARTA"]
[null,"ŞARKİKARAAĞAÇ",{"$f":"IF(Detaylı!$C$2=E503,1,0)","v":0},0,"ISPARTA"]
[null,"ULUBORLU",{"$f":"IF(Detaylı!$C$2=E504,1,0)","v":0},0,"ISPARTA"]
[null,"YALVAÇ",{"$f":"IF(Detaylı!$C$2=E505,1,0)","v":0},0,"ISPARTA"]
[null,"YENİŞARBADEMLİ",{"$f":"IF(Detaylı!$C$2=E506,1,0)","v":0},0,"ISPARTA"]
[null,"AKDENİZ",{"$f":"IF(Detaylı!$C$2=E507,1,0)","v":0},0,"MERSİN(İÇEL)"]
[null,"ANAMUR",{"$f":"IF(Detaylı!$C$2=E508,1,0)","v":0},0,"MERSİN(İÇEL)"]
[null,"AYDINCIK",{"$f":"IF(Detaylı!$C$2=E509,1,0)","v":0},0,"MERSİN(İÇEL)"]
[null,"BOZYAZI",{"$f":"IF(Detaylı!$C$2=E510,1,0)","v":0},0,"MERSİN(İÇEL)"]
[null,"ÇAMLIYAYLA",{"$f":"IF(Detaylı!$C$2=E511,1,0)","v":0},0,"MERSİN(İÇEL)"]
[null,"ERDEMLİ",{"$f":"IF(Detaylı!$C$2=E512,1,0)","v":0},0,"MERSİN(İÇEL)"]
[null,"GÜLNAR (GÜLPINAR)",{"$f":"IF(Detaylı!$C$2=E513,1,0)","v":0},0,"MERSİN(İÇEL)"]
[null,"MEZİTLİ",{"$f":"IF(Detaylı!$C$2=E514,1,0)","v":0},0,"MERSİN(İÇEL)"]
[null,"MUT",{"$f":"IF(Detaylı!$C$2=E515,1,0)","v":0},0,"MERSİN(İÇEL)"]
[null,"SİLİFKE",{"$f":"IF(Detaylı!$C$2=E516,1,0)","v":0},0,"MERSİN(İÇEL)"]
[null,"TARSUS",{"$f":"IF(Detaylı!$C$2=E517,1,0)","v":0},0,"MERSİN(İÇEL)"]
[null,"TOROSLAR",{"$f":"IF(Detaylı!$C$2=E518,1,0)","v":0},0,"MERSİN(İÇEL)"]
[null,"YENİŞEHİR",{"$f":"IF(Detaylı!$C$2=E519,1,0)","v":0},0,"MERSİN(İÇEL)"]
[null,"ADALAR",{"$f":"IF(Detaylı!$C$2=E520,1,0)","v":0},0,"İSTANBUL"]
[null,"ARNAVUTKÖY",{"$f":"IF(Detaylı!$C$2=E521,1,0)","v":0},0,"İSTANBUL"]
[null,"ATAŞEHİR",{"$f":"IF(Detaylı!$C$2=E522,1,0)","v":0},0,"İSTANBUL"]
[null,"AVCILAR",{"$f":"IF(Detaylı!$C$2=E523,1,0)","v":0},0,"İSTANBUL"]
[null,"BAĞCILAR",{"$f":"IF(Detaylı!$C$2=E524,1,0)","v":0},0,"İSTANBUL"]
[null,"BAHÇELİEVLER",{"$f":"IF(Detaylı!$C$2=E525,1,0)","v":0},0,"İSTANBUL"]
[null,"BAKIRKÖY",{"$f":"IF(Detaylı!$C$2=E526,1,0)","v":0},0,"İSTANBUL"]
[null,"BAŞAKŞEHİR",{"$f":"IF(Detaylı!$C$2=E527,1,0)","v":0},0,"İSTANBUL"]
[null,"BAYRAMPAŞA",{"$f":"IF(Detaylı!$C$2=E528,1,0)","v":0},0,"İSTANBUL"]
[null,"BEŞİKTAŞ",{"$f":"IF(Detaylı!$C$2=E529,1,0)","v":0},0,"İSTANBUL"]
[null,"BEYKOZ",{"$f":"IF(Detaylı!$C$2=E530,1,0)","v":0},0,"İSTANBUL"]
[null,"BEYLİKDÜZÜ",{"$f":"IF(Detaylı!$C$2=E531,1,0)","v":0},0,"İSTANBUL"]
[null,"BEYOĞLU",{"$f":"IF(Detaylı!$C$2=E532,1,0)","v":0},0,"İSTANBUL"]
[null,"BÜYÜKÇEKMECE",{"$f":"IF(Detaylı!$C$2=E533,1,0)","v":0},0,"İSTANBUL"]
[null,"ÇATALCA",{"$f":"IF(Detaylı!$C$2=E534,1,0)","v":0},0,"İSTANBUL"]
[null,"ÇEKMEKÖY",{"$f":"IF(Detaylı!$C$2=E535,1,0)","v":0},0,"İSTANBUL"]
[null,"ESENLER",{"$f":"IF(Detaylı!$C$2=E536,1,0)","v":0},0,"İSTANBUL"]
[null,"ESENYURT",{"$f":"IF(Detaylı!$C$2=E537,1,0)","v":0},0,"İSTANBUL"]
[null,"EYÜP",{"$f":"IF(Detaylı!$C$2=E538,1,0)","v":0},0,"İSTANBUL"]
[null,"FATİH",{"$f":"IF(Detaylı!$C$2=E539,1,0)","v":0},0,"İSTANBUL"]
[null,"GAZİOSMANPAŞA",{"$f":"IF(Detaylı!$C$2=E540,1,0)","v":0},0,"İSTANBUL"]
[null,"GÜNGÖREN",{"$f":"IF(Detaylı!$C$2=E541,1,0)","v":0},0,"İSTANBUL"]
[null,"KADIKÖY",{"$f":"IF(Detaylı!$C$2=E542,1,0)","v":0},0,"İSTANBUL"]
[null,"KAĞITHANE",{"$f":"IF(Detaylı!$C$2=E543,1,0)","v":0},0,"İSTANBUL"]
[null,"KARTAL",{"$f":"IF(Detaylı!$C$2=E544,1,0)","v":0},0,"İSTANBUL"]
[null,"KÜÇÜKÇEKMECE",{"$f":"IF(Detaylı!$C$2=E545,1,0)","v":0},0,"İSTANBUL"]
[null,"MALTEPE",{"$f":"IF(Detaylı!$C$2=E546,1,0)","v":0},0,"İSTANBUL"]
[null,"PENDİK",{"$f":"IF(Detaylı!$C$2=E547,1,0)","v":0},0,"İSTANBUL"]
[null,"SANCAKTEPE",{"$f":"IF(Detaylı!$C$2=E548,1,0)","v":0},0,"İSTANBUL"]
[null,"SARIYER",{"$f":"IF(Detaylı!$C$2=E549,1,0)","v":0},0,"İSTANBUL"]
[null,"SİLİVRİ",{"$f":"IF(Detaylı!$C$2=E550,1,0)","v":0},0,"İSTANBUL"]
[null,"SULTANBEYLİ",{"$f":"IF(Detaylı!$C$2=E551,1,0)","v":0},0,"İSTANBUL"]
[null,"SULTANGAZİ",{"$f":"IF(Detaylı!$C$2=E552,1,0)","v":0},0,"İSTANBUL"]
[null,"ŞİLE",{"$f":"IF(Detaylı!$C$2=E553,1,0)","v":0},0,"İSTANBUL"]
[null,"ŞİŞLİ",{"$f":"IF(Detaylı!$C$2=E554,1,0)","v":0},0,"İSTANBUL"]
[null,"TUZLA",{"$f":"IF(Detaylı!$C$2=E555,1,0)","v":0},{"$f":"IF(C555=1,D554+1,0)","v":0},"İSTANBUL"]
[null,"ÜMRANİYE",{"$f":"IF(Detaylı!$C$2=E556,1,0)","v":0},0,"İSTANBUL"]
[null,"ÜSKÜDAR",{"$f":"IF(Detaylı!$C$2=E557,1,0)","v":0},0,"İSTANBUL"]
[null,"ZEYTİNBURNU",{"$f":"IF(Detaylı!$C$2=E558,1,0)","v":0},0,"İSTANBUL"]
[null,"ALİAĞA",{"$f":"IF(Detaylı!$C$2=E559,1,0)","v":0},0,"İZMİR"]
[null,"BALÇOVA",{"$f":"IF(Detaylı!$C$2=E560,1,0)","v":0},0,"İZMİR"]
[null,"BAYINDIR",{"$f":"IF(Detaylı!$C$2=E561,1,0)","v":0},0,"İZMİR"]
[null,"BAYRAKLI",{"$f":"IF(Detaylı!$C$2=E562,1,0)","v":0},0,"İZMİR"]
[null,"BERGAMA",{"$f":"IF(Detaylı!$C$2=E563,1,0)","v":0},0,"İZMİR"]
[null,"BEYDAĞ",{"$f":"IF(Detaylı!$C$2=E564,1,0)","v":0},0,"İZMİR"]
[null,"BORNOVA",{"$f":"IF(Detaylı!$C$2=E565,1,0)","v":0},0,"İZMİR"]
[null,"BUCA",{"$f":"IF(Detaylı!$C$2=E566,1,0)","v":0},0,"İZMİR"]
[null,"ÇEŞME",{"$f":"IF(Detaylı!$C$2=E567,1,0)","v":0},0,"İZMİR"]
[null,"ÇİĞLİ",{"$f":"IF(Detaylı!$C$2=E568,1,0)","v":0},0,"İZMİR"]
[null,"DİKİLİ",{"$f":"IF(Detaylı!$C$2=E569,1,0)","v":0},0,"İZMİR"]
[null,"FOÇA",{"$f":"IF(Detaylı!$C$2=E570,1,0)","v":0},0,"İZMİR"]
[null,"GAZİEMİR",{"$f":"IF(Detaylı!$C$2=E571,1,0)","v":0},0,"İZMİR"]
[null,"GÜZELBAHÇE",{"$f":"IF(Detaylı!$C$2=E572,1,0)","v":0},0,"İZMİR"]
[null,"KARABAĞLAR",{"$f":"IF(Detaylı!$C$2=E573,1,0)","v":0},0,"İZMİR"]
[null,"KARABURUN",{"$f":"IF(Detaylı!$C$2=E574,1,0)","v":0},0,"İZMİR"]
[null,"KARŞIYAKA",{"$f":"IF(Detaylı!$C$2=E575,1,0)","v":0},0,"İZMİR"]
[null,"KEMALPAŞA",{"$f":"IF(Detaylı!$C$2=E576,1,0)","v":0},0,"İZMİR"]
[null,"KINIK",{"$f":"IF(Detaylı!$C$2=E577,1,0)","v":0},0,"İZMİR"]
[null,"KİRAZ",{"$f":"IF(Detaylı!$C$2=E578,1,0)","v":0},0,"İZMİR"]
[null,"KONAK",{"$f":"IF(Detaylı!$C$2=E579,1,0)","v":0},0,"İZMİR"]
[null,"MENDERES(CUMAOVASI)",{"$f":"IF(Detaylı!$C$2=E580,1,0)","v":0},0,"İZMİR"]
[null,"MENEMEN",{"$f":"IF(Detaylı!$C$2=E581,1,0)","v":0},0,"İZMİR"]
[null,"NARLIDERE",{"$f":"IF(Detaylı!$C$2=E582,1,0)","v":0},0,"İZMİR"]
[null,"ÖDEMİŞ",{"$f":"IF(Detaylı!$C$2=E583,1,0)","v":0},0,"İZMİR"]
[null,"SEFERİHİSAR",{"$f":"IF(Detaylı!$C$2=E584,1,0)","v":0},0,"İZMİR"]
[null,"SELÇUK",{"$f":"IF(Detaylı!$C$2=E585,1,0)","v":0},0,"İZMİR"]
[null,"TİRE",{"$f":"IF(Detaylı!$C$2=E586,1,0)","v":0},0,"İZMİR"]
[null,"TORBALI",{"$f":"IF(Detaylı!$C$2=E587,1,0)","v":0},0,"İZMİR"]
[null,"URLA",{"$f":"IF(Detaylı!$C$2=E588,1,0)","v":0},0,"İZMİR"]
[null,"AKYAKA",{"$f":"IF(Detaylı!$C$2=E589,1,0)","v":0},0,"KARS"]
[null,"ARPAÇAY",{"$f":"IF(Detaylı!$C$2=E590,1,0)","v":0},0,"KARS"]
[null,"DİGOR",{"$f":"IF(Detaylı!$C$2=E591,1,0)","v":0},0,"KARS"]
[null,"KAĞIZMAN",{"$f":"IF(Detaylı!$C$2=E592,1,0)","v":0},0,"KARS"]
[null,"KARS",{"$f":"IF(Detaylı!$C$2=E593,1,0)","v":0},0,"KARS"]
[null,"SARIKAMIŞ",{"$f":"IF(Detaylı!$C$2=E594,1,0)","v":0},0,"KARS"]
[null,"SELİM",{"$f":"IF(Detaylı!$C$2=E595,1,0)","v":0},0,"KARS"]
[null,"SUSUZ",{"$f":"IF(Detaylı!$C$2=E596,1,0)","v":0},0,"KARS"]
[null,"ABANA",{"$f":"IF(Detaylı!$C$2=E597,1,0)","v":0},0,"KASTAMONU"]
[null,"AĞLI",{"$f":"IF(Detaylı!$C$2=E598,1,0)","v":0},0,"KASTAMONU"]
[null,"ARAÇ",{"$f":"IF(Detaylı!$C$2=E599,1,0)","v":0},0,"KASTAMONU"]
[null,"AZDAVAY",{"$f":"IF(Detaylı!$C$2=E600,1,0)","v":0},0,"KASTAMONU"]
[null,"BOZKURT",{"$f":"IF(Detaylı!$C$2=E601,1,0)","v":0},0,"KASTAMONU"]
[null,"CİDE",{"$f":"IF(Detaylı!$C$2=E602,1,0)","v":0},0,"KASTAMONU"]
[null,"ÇATALZEYTİN",{"$f":"IF(Detaylı!$C$2=E603,1,0)","v":0},0,"KASTAMONU"]
[null,"DADAY",{"$f":"IF(Detaylı!$C$2=E604,1,0)","v":0},0,"KASTAMONU"]
[null,"DEVREKANİ",{"$f":"IF(Detaylı!$C$2=E605,1,0)","v":0},0,"KASTAMONU"]
[null,"DOĞANYURT",{"$f":"IF(Detaylı!$C$2=E606,1,0)","v":0},0,"KASTAMONU"]
[null,"HANÖNÜ(GÖKÇEAĞAÇ)",{"$f":"IF(Detaylı!$C$2=E607,1,0)","v":0},0,"KASTAMONU"]
[null,"İHSANGAZİ",{"$f":"IF(Detaylı!$C$2=E608,1,0)","v":0},0,"KASTAMONU"]
[null,"İNEBOLU",{"$f":"IF(Detaylı!$C$2=E609,1,0)","v":0},0,"KASTAMONU"]
[null,"KASTAMONU",{"$f":"IF(Detaylı!$C$2=E610,1,0)","v":0},0,"KASTAMONU"]
[null,"KÜRE",{"$f":"IF(Detaylı!$C$2=E611,1,0)","v":0},0,"KASTAMONU"]
[null,"PINARBAŞI",{"$f":"IF(Detaylı!$C$2=E612,1,0)","v":0},0,"KASTAMONU"]
[null,"SEYDİLER",{"$f":"IF(Detaylı!$C$2=E613,1,0)","v":0},0,"KASTAMONU"]
[null,"ŞENPAZAR",{"$f":"IF(Detaylı!$C$2=E614,1,0)","v":0},0,"KASTAMONU"]
[null,"TAŞKÖPRÜ",{"$f":"IF(Detaylı!$C$2=E615,1,0)","v":0},0,"KASTAMONU"]
[null,"TOSYA",{"$f":"IF(Detaylı!$C$2=E616,1,0)","v":0},0,"KASTAMONU"]
[null,"AKKIŞLA",{"$f":"IF(Detaylı!$C$2=E617,1,0)","v":0},0,"KAYSERİ"]
[null,"BÜNYAN",{"$f":"IF(Detaylı!$C$2=E618,1,0)","v":0},0,"KAYSERİ"]
[null,"DEVELİ",{"$f":"IF(Detaylı!$C$2=E619,1,0)","v":0},{"$f":"IF(C619=1,D618+1,0)","v":0},"KAYSERİ"]
[null,"FELAHİYE",{"$f":"IF(Detaylı!$C$2=E620,1,0)","v":0},0,"KAYSERİ"]
[null,"HACILAR",{"$f":"IF(Detaylı!$C$2=E621,1,0)","v":0},0,"KAYSERİ"]
[null,"İNCESU",{"$f":"IF(Detaylı!$C$2=E622,1,0)","v":0},0,"KAYSERİ"]
[null,"KOCASİNAN",{"$f":"IF(Detaylı!$C$2=E623,1,0)","v":0},0,"KAYSERİ"]
[null,"MELİKGAZİ",{"$f":"IF(Detaylı!$C$2=E624,1,0)","v":0},0,"KAYSERİ"]
[null,"ÖZVATAN(ÇUKUR)",{"$f":"IF(Detaylı!$C$2=E625,1,0)","v":0},0,"KAYSERİ"]
[null,"PINARBAŞI",{"$f":"IF(Detaylı!$C$2=E626,1,0)","v":0},0,"KAYSERİ"]
[null,"SARIOĞLAN",{"$f":"IF(Detaylı!$C$2=E627,1,0)","v":0},0,"KAYSERİ"]
[null,"SARIZ",{"$f":"IF(Detaylı!$C$2=E628,1,0)","v":0},0,"KAYSERİ"]
[null,"TALAS",{"$f":"IF(Detaylı!$C$2=E629,1,0)","v":0},0,"KAYSERİ"]
[null,"TOMARZA",{"$f":"IF(Detaylı!$C$2=E630,1,0)","v":0},0,"KAYSERİ"]
[null,"YAHYALI",{"$f":"IF(Detaylı!$C$2=E631,1,0)","v":0},0,"KAYSERİ"]
[null,"YEŞİLHİSAR",{"$f":"IF(Detaylı!$C$2=E632,1,0)","v":0},0,"KAYSERİ"]
[null,"BABAESKİ",{"$f":"IF(Detaylı!$C$2=E633,1,0)","v":0},0,"KIRKLARELİ"]
[null,"DEMİRKÖY",{"$f":"IF(Detaylı!$C$2=E634,1,0)","v":0},0,"KIRKLARELİ"]
[null,"KIRKLARELİ",{"$f":"IF(Detaylı!$C$2=E635,1,0)","v":0},0,"KIRKLARELİ"]
[null,"KOFÇAZ",{"$f":"IF(Detaylı!$C$2=E636,1,0)","v":0},0,"KIRKLARELİ"]
[null,"LÜLEBURGAZ",{"$f":"IF(Detaylı!$C$2=E637,1,0)","v":0},0,"KIRKLARELİ"]
[null,"PEHLİVANKÖY",{"$f":"IF(Detaylı!$C$2=E638,1,0)","v":0},0,"KIRKLARELİ"]
[null,"PINARHİSAR",{"$f":"IF(Detaylı!$C$2=E639,1,0)","v":0},0,"KIRKLARELİ"]
[null,"VİZE",{"$f":"IF(Detaylı!$C$2=E640,1,0)","v":0},0,"KIRKLARELİ"]
[null,"AKÇAKENT",{"$f":"IF(Detaylı!$C$2=E641,1,0)","v":0},0,"KIRŞEHİR"]
[null,"AKPINAR",{"$f":"IF(Detaylı!$C$2=E642,1,0)","v":0},0,"KIRŞEHİR"]
[null,"BOZTEPE",{"$f":"IF(Detaylı!$C$2=E643,1,0)","v":0},0,"KIRŞEHİR"]
[null,"ÇİÇEKDAĞI",{"$f":"IF(Detaylı!$C$2=E644,1,0)","v":0},0,"KIRŞEHİR"]
[null,"KAMAN",{"$f":"IF(Detaylı!$C$2=E645,1,0)","v":0},0,"KIRŞEHİR"]
[null,"KIRŞEHİR",{"$f":"IF(Detaylı!$C$2=E646,1,0)","v":0},0,"KIRŞEHİR"]
[null,"MUCUR",{"$f":"IF(Detaylı!$C$2=E647,1,0)","v":0},0,"KIRŞEHİR"]
[null,"BAŞİSKELE",{"$f":"IF(Detaylı!$C$2=E648,1,0)","v":0},0,"KOCAELİ"]
[null,"ÇAYIROVA",{"$f":"IF(Detaylı!$C$2=E649,1,0)","v":0},0,"KOCAELİ"]
[null,"DARICA",{"$f":"IF(Detaylı!$C$2=E650,1,0)","v":0},0,"KOCAELİ"]
[null,"DERİNCE",{"$f":"IF(Detaylı!$C$2=E651,1,0)","v":0},0,"KOCAELİ"]
[null,"DİLOVASI",{"$f":"IF(Detaylı!$C$2=E652,1,0)","v":0},0,"KOCAELİ"]
[null,"GEBZE",{"$f":"IF(Detaylı!$C$2=E653,1,0)","v":0},0,"KOCAELİ"]
[null,"GÖLCÜK",{"$f":"IF(Detaylı!$C$2=E654,1,0)","v":0},0,"KOCAELİ"]
[null,"İZMİT",{"$f":"IF(Detaylı!$C$2=E655,1,0)","v":0},0,"KOCAELİ"]
[null,"KANDIRA",{"$f":"IF(Detaylı!$C$2=E656,1,0)","v":0},0,"KOCAELİ"]
[null,"KARAMÜRSEL",{"$f":"IF(Detaylı!$C$2=E657,1,0)","v":0},0,"KOCAELİ"]
[null,"KARTEPE",{"$f":"IF(Detaylı!$C$2=E658,1,0)","v":0},0,"KOCAELİ"]
[null,"KÖRFEZ(TÜTÜNÇİFTLİK)",{"$f":"IF(Detaylı!$C$2=E659,1,0)","v":0},0,"KOCAELİ"]
[null,"AHIRLI",{"$f":"IF(Detaylı!$C$2=E660,1,0)","v":0},0,"KONYA"]
[null,"AKÖREN",{"$f":"IF(Detaylı!$C$2=E661,1,0)","v":0},0,"KONYA"]
[null,"AKŞEHİR",{"$f":"IF(Detaylı!$C$2=E662,1,0)","v":0},0,"KONYA"]
[null,"ALTINEKİN",{"$f":"IF(Detaylı!$C$2=E663,1,0)","v":0},0,"KONYA"]
[null,"BEYŞEHİR",{"$f":"IF(Detaylı!$C$2=E664,1,0)","v":0},0,"KONYA"]
[null,"BOZKIR",{"$f":"IF(Detaylı!$C$2=E665,1,0)","v":0},0,"KONYA"]
[null,"CİHANBEYLİ",{"$f":"IF(Detaylı!$C$2=E666,1,0)","v":0},0,"KONYA"]
[null,"ÇELTİK",{"$f":"IF(Detaylı!$C$2=E667,1,0)","v":0},0,"KONYA"]
[null,"ÇUMRA",{"$f":"IF(Detaylı!$C$2=E668,1,0)","v":0},0,"KONYA"]
[null,"DERBENT",{"$f":"IF(Detaylı!$C$2=E669,1,0)","v":0},0,"KONYA"]
[null,"DEREBUCAK",{"$f":"IF(Detaylı!$C$2=E670,1,0)","v":0},0,"KONYA"]
[null,"DOĞANHİSAR",{"$f":"IF(Detaylı!$C$2=E671,1,0)","v":0},0,"KONYA"]
[null,"EMİRGAZİ",{"$f":"IF(Detaylı!$C$2=E672,1,0)","v":0},0,"KONYA"]
[null,"EREĞLİ",{"$f":"IF(Detaylı!$C$2=E673,1,0)","v":0},0,"KONYA"]
[null,"GÜNEYSINIR",{"$f":"IF(Detaylı!$C$2=E674,1,0)","v":0},0,"KONYA"]
[null,"HADİM",{"$f":"IF(Detaylı!$C$2=E675,1,0)","v":0},0,"KONYA"]
[null,"HALKAPINAR",{"$f":"IF(Detaylı!$C$2=E676,1,0)","v":0},0,"KONYA"]
[null,"HÜYÜK",{"$f":"IF(Detaylı!$C$2=E677,1,0)","v":0},0,"KONYA"]
[null,"ILGIN",{"$f":"IF(Detaylı!$C$2=E678,1,0)","v":0},0,"KONYA"]
[null,"KADINHANI",{"$f":"IF(Detaylı!$C$2=E679,1,0)","v":0},0,"KONYA"]
[null,"KARAPINAR",{"$f":"IF(Detaylı!$C$2=E680,1,0)","v":0},0,"KONYA"]
[null,"KARATAY",{"$f":"IF(Detaylı!$C$2=E681,1,0)","v":0},0,"KONYA"]
[null,"KULU",{"$f":"IF(Detaylı!$C$2=E682,1,0)","v":0},0,"KONYA"]
[null,"MERAM",{"$f":"IF(Detaylı!$C$2=E683,1,0)","v":0},{"$f":"IF(C683=1,D682+1,0)","v":0},"KONYA"]
[null,"SARAYÖNÜ",{"$f":"IF(Detaylı!$C$2=E684,1,0)","v":0},0,"KONYA"]
[null,"SELÇUKLU",{"$f":"IF(Detaylı!$C$2=E685,1,0)","v":0},0,"KONYA"]
[null,"SEYDİŞEHİR",{"$f":"IF(Detaylı!$C$2=E686,1,0)","v":0},0,"KONYA"]
[null,"TAŞKENT",{"$f":"IF(Detaylı!$C$2=E687,1,0)","v":0},0,"KONYA"]
[null,"TUZLUKÇU",{"$f":"IF(Detaylı!$C$2=E688,1,0)","v":0},0,"KONYA"]
[null,"YALIHÜYÜK",{"$f":"IF(Detaylı!$C$2=E689,1,0)","v":0},0,"KONYA"]
[null,"YUNAK",{"$f":"IF(Detaylı!$C$2=E690,1,0)","v":0},0,"KONYA"]
[null,"ALTINTAŞ",{"$f":"IF(Detaylı!$C$2=E691,1,0)","v":0},0,"KÜTAHYA"]
[null,"ASLANAPA",{"$f":"IF(Detaylı!$C$2=E692,1,0)","v":0},0,"KÜTAHYA"]
[null,"ÇAVDARHİSAR",{"$f":"IF(Detaylı!$C$2=E693,1,0)","v":0},0,"KÜTAHYA"]
[null,"DOMANİÇ",{"$f":"IF(Detaylı!$C$2=E694,1,0)","v":0},0,"KÜTAHYA"]
[null,"DUMLUPINAR",{"$f":"IF(Detaylı!$C$2=E695,1,0)","v":0},0,"KÜTAHYA"]
[null,"EMET",{"$f":"IF(Detaylı!$C$2=E696,1,0)","v":0},0,"KÜTAHYA"]
[null,"GEDİZ",{"$f":"IF(Detaylı!$C$2=E697,1,0)","v":0},0,"KÜTAHYA"]
[null,"HİSARCIK",{"$f":"IF(Detaylı!$C$2=E698,1,0)","v":0},0,"KÜTAHYA"]
[null,"KÜTAHYA",{"$f":"IF(Detaylı!$C$2=E699,1,0)","v":0},0,"KÜTAHYA"]
[null,"PAZARLAR",{"$f":"IF(Detaylı!$C$2=E700,1,0)","v":0},0,"KÜTAHYA"]
[null,"SİMAV",{"$f":"IF(Detaylı!$C$2=E701,1,0)","v":0},0,"KÜTAHYA"]
[null,"ŞAPHANE",{"$f":"IF(Detaylı!$C$2=E702,1,0)","v":0},0,"KÜTAHYA"]
[null,"TAVŞANLI",{"$f":"IF(Detaylı!$C$2=E703,1,0)","v":0},0,"KÜTAHYA"]
[null,"AKÇADAĞ",{"$f":"IF(Detaylı!$C$2=E704,1,0)","v":0},0,"MALATYA"]
[null,"ARAPKİR(ARAPGİR)",{"$f":"IF(Detaylı!$C$2=E705,1,0)","v":0},0,"MALATYA"]
[null,"ARGUVAN",{"$f":"IF(Detaylı!$C$2=E706,1,0)","v":0},0,"MALATYA"]
[null,"BATTALGAZİ",{"$f":"IF(Detaylı!$C$2=E707,1,0)","v":0},0,"MALATYA"]
[null,"DARENDE",{"$f":"IF(Detaylı!$C$2=E708,1,0)","v":0},0,"MALATYA"]
[null,"DOĞANŞEHİR",{"$f":"IF(Detaylı!$C$2=E709,1,0)","v":0},0,"MALATYA"]
[null,"DOĞANYOL",{"$f":"IF(Detaylı!$C$2=E710,1,0)","v":0},0,"MALATYA"]
[null,"HEKİMHAN",{"$f":"IF(Detaylı!$C$2=E711,1,0)","v":0},0,"MALATYA"]
[null,"KALE",{"$f":"IF(Detaylı!$C$2=E712,1,0)","v":0},0,"MALATYA"]
[null,"KULUNCAK",{"$f":"IF(Detaylı!$C$2=E713,1,0)","v":0},0,"MALATYA"]
[null,"MALATYA",{"$f":"IF(Detaylı!$C$2=E714,1,0)","v":0},0,"MALATYA"]
[null,"PÜTÜRGE(PÖTÜRGE)",{"$f":"IF(Detaylı!$C$2=E715,1,0)","v":0},0,"MALATYA"]
[null,"YAZIHAN",{"$f":"IF(Detaylı!$C$2=E716,1,0)","v":0},0,"MALATYA"]
[null,"YEŞİLYURT",{"$f":"IF(Detaylı!$C$2=E717,1,0)","v":0},0,"MALATYA"]
[null,"AHMETLİ",{"$f":"IF(Detaylı!$C$2=E718,1,0)","v":0},0,"MANİSA"]
[null,"AKHİSAR",{"$f":"IF(Detaylı!$C$2=E719,1,0)","v":0},0,"MANİSA"]
[null,"ALAŞEHİR",{"$f":"IF(Detaylı!$C$2=E720,1,0)","v":0},0,"MANİSA"]
[null,"DEMİRCİ",{"$f":"IF(Detaylı!$C$2=E721,1,0)","v":0},0,"MANİSA"]
[null,"GÖLMARMARA",{"$f":"IF(Detaylı!$C$2=E722,1,0)","v":0},0,"MANİSA"]
[null,"GÖRDES",{"$f":"IF(Detaylı!$C$2=E723,1,0)","v":0},0,"MANİSA"]
[null,"KIRKAĞAÇ",{"$f":"IF(Detaylı!$C$2=E724,1,0)","v":0},0,"MANİSA"]
[null,"KÖPRÜBAŞI",{"$f":"IF(Detaylı!$C$2=E725,1,0)","v":0},0,"MANİSA"]
[null,"KULA",{"$f":"IF(Detaylı!$C$2=E726,1,0)","v":0},0,"MANİSA"]
[null,"MANİSA",{"$f":"IF(Detaylı!$C$2=E727,1,0)","v":0},0,"MANİSA"]
[null,"SALİHLİ",{"$f":"IF(Detaylı!$C$2=E728,1,0)","v":0},0,"MANİSA"]
[null,"SARIGÖL",{"$f":"IF(Detaylı!$C$2=E729,1,0)","v":0},0,"MANİSA"]
[null,"SARUHANLI",{"$f":"IF(Detaylı!$C$2=E730,1,0)","v":0},0,"MANİSA"]
[null,"SELENDİ",{"$f":"IF(Detaylı!$C$2=E731,1,0)","v":0},0,"MANİSA"]
[null,"SOMA",{"$f":"IF(Detaylı!$C$2=E732,1,0)","v":0},0,"MANİSA"]
[null,"TURGUTLU",{"$f":"IF(Detaylı!$C$2=E733,1,0)","v":0},0,"MANİSA"]
[null,"AFŞİN",{"$f":"IF(Detaylı!$C$2=E734,1,0)","v":0},0,"KAHRAMANMARAŞ"]
[null,"ANDIRIN",{"$f":"IF(Detaylı!$C$2=E735,1,0)","v":0},0,"KAHRAMANMARAŞ"]
[null,"ÇAĞLIYANCERİT",{"$f":"IF(Detaylı!$C$2=E736,1,0)","v":0},0,"KAHRAMANMARAŞ"]
[null,"EKİNÖZÜ",{"$f":"IF(Detaylı!$C$2=E737,1,0)","v":0},0,"KAHRAMANMARAŞ"]
[null,"ELBİSTAN",{"$f":"IF(Detaylı!$C$2=E738,1,0)","v":0},0,"KAHRAMANMARAŞ"]
[null,"GÖKSUN",{"$f":"IF(Detaylı!$C$2=E739,1,0)","v":0},0,"KAHRAMANMARAŞ"]
[null,"KAHRAMANMARAŞ",{"$f":"IF(Detaylı!$C$2=E740,1,0)","v":0},0,"KAHRAMANMARAŞ"]
[null,"NURHAK",{"$f":"IF(Detaylı!$C$2=E741,1,0)","v":0},0,"KAHRAMANMARAŞ"]
[null,"PAZARCIK",{"$f":"IF(Detaylı!$C$2=E742,1,0)","v":0},0,"KAHRAMANMARAŞ"]
[null,"TÜRKOĞLU",{"$f":"IF(Detaylı!$C$2=E743,1,0)","v":0},0,"KAHRAMANMARAŞ"]
[null,"DARGEÇİT",{"$f":"IF(Detaylı!$C$2=E744,1,0)","v":0},0,"MARDİN"]
[null,"DERİK",{"$f":"IF(Detaylı!$C$2=E745,1,0)","v":0},0,"MARDİN"]
[null,"KIZILTEPE",{"$f":"IF(Detaylı!$C$2=E746,1,0)","v":0},0,"MARDİN"]
[null,"MARDİN",{"$f":"IF(Detaylı!$C$2=E747,1,0)","v":0},{"$f":"IF(C747=1,D746+1,0)","v":0},"MARDİN"]
[null,"MAZIDAĞI",{"$f":"IF(Detaylı!$C$2=E748,1,0)","v":0},0,"MARDİN"]
[null,"MİDYAT(ESTEL)",{"$f":"IF(Detaylı!$C$2=E749,1,0)","v":0},0,"MARDİN"]
[null,"NUSAYBİN",{"$f":"IF(Detaylı!$C$2=E750,1,0)","v":0},0,"MARDİN"]
[null,"ÖMERLİ",{"$f":"IF(Detaylı!$C$2=E751,1,0)","v":0},0,"MARDİN"]
[null,"SAVUR",{"$f":"IF(Detaylı!$C$2=E752,1,0)","v":0},0,"MARDİN"]
[null,"YEŞİLLİ",{"$f":"IF(Detaylı!$C$2=E753,1,0)","v":0},0,"MARDİN"]
[null,"BODRUM",{"$f":"IF(Detaylı!$C$2=E754,1,0)","v":0},0,"MUĞLA"]
[null,"DALAMAN",{"$f":"IF(Detaylı!$C$2=E755,1,0)","v":0},0,"MUĞLA"]
[null,"DATÇA",{"$f":"IF(Detaylı!$C$2=E756,1,0)","v":0},0,"MUĞLA"]
[null,"FETHİYE",{"$f":"IF(Detaylı!$C$2=E757,1,0)","v":0},0,"MUĞLA"]
[null,"KAVAKLIDERE",{"$f":"IF(Detaylı!$C$2=E758,1,0)","v":0},0,"MUĞLA"]
[null,"KÖYCEĞİZ",{"$f":"IF(Detaylı!$C$2=E759,1,0)","v":0},0,"MUĞLA"]
[null,"MARMARİS",{"$f":"IF(Detaylı!$C$2=E760,1,0)","v":0},0,"MUĞLA"]
[null,"MİLAS",{"$f":"IF(Detaylı!$C$2=E761,1,0)","v":0},0,"MUĞLA"]
[null,"MUĞLA",{"$f":"IF(Detaylı!$C$2=E762,1,0)","v":0},0,"MUĞLA"]
[null,"ORTACA",{"$f":"IF(Detaylı!$C$2=E763,1,0)","v":0},0,"MUĞLA"]
[null,"ULA",{"$f":"IF(Detaylı!$C$2=E764,1,0)","v":0},0,"MUĞLA"]
[null,"YATAĞAN",{"$f":"IF(Detaylı!$C$2=E765,1,0)","v":0},0,"MUĞLA"]
[null,"BULANIK",{"$f":"IF(Detaylı!$C$2=E766,1,0)","v":0},0,"MUŞ"]
[null,"HASKÖY",{"$f":"IF(Detaylı!$C$2=E767,1,0)","v":0},0,"MUŞ"]
[null,"KORKUT",{"$f":"IF(Detaylı!$C$2=E768,1,0)","v":0},0,"MUŞ"]
[null,"MALAZGİRT",{"$f":"IF(Detaylı!$C$2=E769,1,0)","v":0},0,"MUŞ"]
[null,"MUŞ",{"$f":"IF(Detaylı!$C$2=E770,1,0)","v":0},0,"MUŞ"]
[null,"VARTO",{"$f":"IF(Detaylı!$C$2=E771,1,0)","v":0},0,"MUŞ"]
[null,"ACIGÖL",{"$f":"IF(Detaylı!$C$2=E772,1,0)","v":0},0,"NEVŞEHİR"]
[null,"AVANOS",{"$f":"IF(Detaylı!$C$2=E773,1,0)","v":0},0,"NEVŞEHİR"]
[null,"DERİNKUYU",{"$f":"IF(Detaylı!$C$2=E774,1,0)","v":0},0,"NEVŞEHİR"]
[null,"GÜLŞEHİR",{"$f":"IF(Detaylı!$C$2=E775,1,0)","v":0},0,"NEVŞEHİR"]
[null,"HACIBEKTAŞ",{"$f":"IF(Detaylı!$C$2=E776,1,0)","v":0},0,"NEVŞEHİR"]
[null,"KOZAKLI",{"$f":"IF(Detaylı!$C$2=E777,1,0)","v":0},0,"NEVŞEHİR"]
[null,"NEVŞEHİR",{"$f":"IF(Detaylı!$C$2=E778,1,0)","v":0},0,"NEVŞEHİR"]
[null,"ÜRGÜP",{"$f":"IF(Detaylı!$C$2=E779,1,0)","v":0},0,"NEVŞEHİR"]
[null,"ALTUNHİSAR",{"$f":"IF(Detaylı!$C$2=E780,1,0)","v":0},0,"NİĞDE"]
[null,"BOR",{"$f":"IF(Detaylı!$C$2=E781,1,0)","v":0},0,"NİĞDE"]
[null,"ÇAMARDI",{"$f":"IF(Detaylı!$C$2=E782,1,0)","v":0},0,"NİĞDE"]
[null,"ÇİFTLİK(ÖZYURT)",{"$f":"IF(Detaylı!$C$2=E783,1,0)","v":0},0,"NİĞDE"]
[null,"NİĞDE",{"$f":"IF(Detaylı!$C$2=E784,1,0)","v":0},0,"NİĞDE"]
[null,"ULUKIŞLA",{"$f":"IF(Detaylı!$C$2=E785,1,0)","v":0},0,"NİĞDE"]
[null,"AKKUŞ",{"$f":"IF(Detaylı!$C$2=E786,1,0)","v":0},0,"ORDU"]
[null,"AYBASTI",{"$f":"IF(Detaylı!$C$2=E787,1,0)","v":0},0,"ORDU"]
[null,"ÇAMAŞ",{"$f":"IF(Detaylı!$C$2=E788,1,0)","v":0},0,"ORDU"]
[null,"ÇATALPINAR",{"$f":"IF(Detaylı!$C$2=E789,1,0)","v":0},0,"ORDU"]
[null,"ÇAYBAŞI",{"$f":"IF(Detaylı!$C$2=E790,1,0)","v":0},0,"ORDU"]
[null,"FATSA",{"$f":"IF(Detaylı!$C$2=E791,1,0)","v":0},0,"ORDU"]
[null,"GÖLKÖY",{"$f":"IF(Detaylı!$C$2=E792,1,0)","v":0},0,"ORDU"]
[null,"GÜLYALI",{"$f":"IF(Detaylı!$C$2=E793,1,0)","v":0},0,"ORDU"]
[null,"GÜRGENTEPE",{"$f":"IF(Detaylı!$C$2=E794,1,0)","v":0},0,"ORDU"]
[null,"İKİZCE",{"$f":"IF(Detaylı!$C$2=E795,1,0)","v":0},0,"ORDU"]
[null,"KABADÜZ(KARADÜZ)",{"$f":"IF(Detaylı!$C$2=E796,1,0)","v":0},0,"ORDU"]
[null,"KABATAŞ",{"$f":"IF(Detaylı!$C$2=E797,1,0)","v":0},0,"ORDU"]
[null,"KORGAN",{"$f":"IF(Detaylı!$C$2=E798,1,0)","v":0},0,"ORDU"]
[null,"KUMRU",{"$f":"IF(Detaylı!$C$2=E799,1,0)","v":0},0,"ORDU"]
[null,"MESUDİYE",{"$f":"IF(Detaylı!$C$2=E800,1,0)","v":0},0,"ORDU"]
[null,"ORDU",{"$f":"IF(Detaylı!$C$2=E801,1,0)","v":0},0,"ORDU"]
[null,"PERŞEMBE",{"$f":"IF(Detaylı!$C$2=E802,1,0)","v":0},0,"ORDU"]
[null,"ULUBEY",{"$f":"IF(Detaylı!$C$2=E803,1,0)","v":0},0,"ORDU"]
[null,"ÜNYE",{"$f":"IF(Detaylı!$C$2=E804,1,0)","v":0},0,"ORDU"]
[null,"ARDEŞEN",{"$f":"IF(Detaylı!$C$2=E805,1,0)","v":0},0,"RİZE"]
[null,"ÇAMLIHEMŞİN",{"$f":"IF(Detaylı!$C$2=E806,1,0)","v":0},0,"RİZE"]
[null,"ÇAYELİ",{"$f":"IF(Detaylı!$C$2=E807,1,0)","v":0},0,"RİZE"]
[null,"DEREPAZARI",{"$f":"IF(Detaylı!$C$2=E808,1,0)","v":0},0,"RİZE"]
[null,"FINDIKLI",{"$f":"IF(Detaylı!$C$2=E809,1,0)","v":0},0,"RİZE"]
[null,"GÜNEYSU",{"$f":"IF(Detaylı!$C$2=E810,1,0)","v":0},0,"RİZE"]
[null,"HEMŞİN",{"$f":"IF(Detaylı!$C$2=E811,1,0)","v":0},{"$f":"IF(C811=1,D810+1,0)","v":0},"RİZE"]
[null,"İKİZDERE",{"$f":"IF(Detaylı!$C$2=E812,1,0)","v":0},0,"RİZE"]
[null,"İYİDERE",{"$f":"IF(Detaylı!$C$2=E813,1,0)","v":0},0,"RİZE"]
[null,"KALKANDERE",{"$f":"IF(Detaylı!$C$2=E814,1,0)","v":0},0,"RİZE"]
[null,"PAZAR",{"$f":"IF(Detaylı!$C$2=E815,1,0)","v":0},0,"RİZE"]
[null,"RİZE",{"$f":"IF(Detaylı!$C$2=E816,1,0)","v":0},0,"RİZE"]
[null,"ADAPAZARI",{"$f":"IF(Detaylı!$C$2=E817,1,0)","v":0},0,"SAKARYA"]
[null,"AKYAZI",{"$f":"IF(Detaylı!$C$2=E818,1,0)","v":0},0,"SAKARYA"]
[null,"ARİFİYE",{"$f":"IF(Detaylı!$C$2=E819,1,0)","v":0},0,"SAKARYA"]
[null,"ERENLER",{"$f":"IF(Detaylı!$C$2=E820,1,0)","v":0},0,"SAKARYA"]
[null,"FERİZLİ",{"$f":"IF(Detaylı!$C$2=E821,1,0)","v":0},0,"SAKARYA"]
[null,"GEYVE",{"$f":"IF(Detaylı!$C$2=E822,1,0)","v":0},0,"SAKARYA"]
[null,"HENDEK",{"$f":"IF(Detaylı!$C$2=E823,1,0)","v":0},0,"SAKARYA"]
[null,"KARAPÜRÇEK",{"$f":"IF(Detaylı!$C$2=E824,1,0)","v":0},0,"SAKARYA"]
[null,"KARASU",{"$f":"IF(Detaylı!$C$2=E825,1,0)","v":0},0,"SAKARYA"]
[null,"KAYNARCA",{"$f":"IF(Detaylı!$C$2=E826,1,0)","v":0},0,"SAKARYA"]
[null,"KOCAALİ",{"$f":"IF(Detaylı!$C$2=E827,1,0)","v":0},0,"SAKARYA"]
[null,"PAMUKOVA",{"$f":"IF(Detaylı!$C$2=E828,1,0)","v":0},0,"SAKARYA"]
[null,"SAPANCA",{"$f":"IF(Detaylı!$C$2=E829,1,0)","v":0},0,"SAKARYA"]
[null,"SERDİVAN",{"$f":"IF(Detaylı!$C$2=E830,1,0)","v":0},0,"SAKARYA"]
[null,"SÖĞÜTLÜ",{"$f":"IF(Detaylı!$C$2=E831,1,0)","v":0},0,"SAKARYA"]
[null,"TARAKLI",{"$f":"IF(Detaylı!$C$2=E832,1,0)","v":0},0,"SAKARYA"]
[null,"ALAÇAM",{"$f":"IF(Detaylı!$C$2=E833,1,0)","v":0},0,"SAMSUN"]
[null,"ASARCIK",{"$f":"IF(Detaylı!$C$2=E834,1,0)","v":0},0,"SAMSUN"]
[null,"ATAKUM",{"$f":"IF(Detaylı!$C$2=E835,1,0)","v":0},0,"SAMSUN"]
[null,"AYVACIK",{"$f":"IF(Detaylı!$C$2=E836,1,0)","v":0},0,"SAMSUN"]
[null,"BAFRA",{"$f":"IF(Detaylı!$C$2=E837,1,0)","v":0},0,"SAMSUN"]
[null,"CANİK",{"$f":"IF(Detaylı!$C$2=E838,1,0)","v":0},0,"SAMSUN"]
[null,"ÇARŞAMBA",{"$f":"IF(Detaylı!$C$2=E839,1,0)","v":0},0,"SAMSUN"]
[null,"HAVZA",{"$f":"IF(Detaylı!$C$2=E840,1,0)","v":0},0,"SAMSUN"]
[null,"İLKADIM",{"$f":"IF(Detaylı!$C$2=E841,1,0)","v":0},0,"SAMSUN"]
[null,"KAVAK",{"$f":"IF(Detaylı!$C$2=E842,1,0)","v":0},0,"SAMSUN"]
[null,"LADİK",{"$f":"IF(Detaylı!$C$2=E843,1,0)","v":0},0,"SAMSUN"]
[null,"ONDOKUZMAYIS(BALLICA)",{"$f":"IF(Detaylı!$C$2=E844,1,0)","v":0},0,"SAMSUN"]
[null,"SALIPAZARI",{"$f":"IF(Detaylı!$C$2=E845,1,0)","v":0},0,"SAMSUN"]
[null,"TEKKEKÖY",{"$f":"IF(Detaylı!$C$2=E846,1,0)","v":0},0,"SAMSUN"]
[null,"TERME",{"$f":"IF(Detaylı!$C$2=E847,1,0)","v":0},0,"SAMSUN"]
[null,"VEZİRKÖPRÜ",{"$f":"IF(Detaylı!$C$2=E848,1,0)","v":0},0,"SAMSUN"]
[null,"YAKAKENT",{"$f":"IF(Detaylı!$C$2=E849,1,0)","v":0},0,"SAMSUN"]
[null,"AYDINLAR",{"$f":"IF(Detaylı!$C$2=E850,1,0)","v":0},0,"SİİRT"]
[null,"BAYKAN",{"$f":"IF(Detaylı!$C$2=E851,1,0)","v":0},0,"SİİRT"]
[null,"ERUH",{"$f":"IF(Detaylı!$C$2=E852,1,0)","v":0},0,"SİİRT"]
[null,"KURTALAN",{"$f":"IF(Detaylı!$C$2=E853,1,0)","v":0},0,"SİİRT"]
[null,"PERVARİ",{"$f":"IF(Detaylı!$C$2=E854,1,0)","v":0},0,"SİİRT"]
[null,"SİİRT",{"$f":"IF(Detaylı!$C$2=E855,1,0)","v":0},0,"SİİRT"]
[null,"ŞİRVAN",{"$f":"IF(Detaylı!$C$2=E856,1,0)","v":0},0,"SİİRT"]
[null,"AYANCIK",{"$f":"IF(Detaylı!$C$2=E857,1,0)","v":0},0,"SİNOP"]
[null,"BOYABAT",{"$f":"IF(Detaylı!$C$2=E858,1,0)","v":0},0,"SİNOP"]
[null,"DİKMEN",{"$f":"IF(Detaylı!$C$2=E859,1,0)","v":0},0,"SİNOP"]
[null,"DURAĞAN",{"$f":"IF(Detaylı!$C$2=E860,1,0)","v":0},0,"SİNOP"]
[null,"ERFELEK",{"$f":"IF(Detaylı!$C$2=E861,1,0)","v":0},0,"SİNOP"]
[null,"GERZE",{"$f":"IF(Detaylı!$C$2=E862,1,0)","v":0},0,"SİNOP"]
[null,"SARAYDÜZÜ",{"$f":"IF(Detaylı!$C$2=E863,1,0)","v":0},0,"SİNOP"]
[null,"SİNOP",{"$f":"IF(Detaylı!$C$2=E864,1,0)","v":0},0,"SİNOP"]
[null,"TÜRKELİ",{"$f":"IF(Detaylı!$C$2=E865,1,0)","v":0},0,"SİNOP"]
[null,"AKINCILAR",{"$f":"IF(Detaylı!$C$2=E866,1,0)","v":0},0,"SİVAS"]
[null,"ALTINYAYLA",{"$f":"IF(Detaylı!$C$2=E867,1,0)","v":0},0,"SİVAS"]
[null,"DİVRİĞİ",{"$f":"IF(Detaylı!$C$2=E868,1,0)","v":0},0,"SİVAS"]
[null,"DOĞANŞAR",{"$f":"IF(Detaylı!$C$2=E869,1,0)","v":0},0,"SİVAS"]
[null,"GEMEREK",{"$f":"IF(Detaylı!$C$2=E870,1,0)","v":0},0,"SİVAS"]
[null,"GÖLOVA",{"$f":"IF(Detaylı!$C$2=E871,1,0)","v":0},0,"SİVAS"]
[null,"GÜRÜN",{"$f":"IF(Detaylı!$C$2=E872,1,0)","v":0},0,"SİVAS"]
[null,"HAFİK",{"$f":"IF(Detaylı!$C$2=E873,1,0)","v":0},0,"SİVAS"]
[null,"İMRANLI",{"$f":"IF(Detaylı!$C$2=E874,1,0)","v":0},0,"SİVAS"]
[null,"KANGAL",{"$f":"IF(Detaylı!$C$2=E875,1,0)","v":0},{"$f":"IF(C875=1,D874+1,0)","v":0},"SİVAS"]
[null,"KOYULHİSAR",{"$f":"IF(Detaylı!$C$2=E876,1,0)","v":0},0,"SİVAS"]
[null,"SİVAS",{"$f":"IF(Detaylı!$C$2=E877,1,0)","v":0},0,"SİVAS"]
[null,"SUŞEHRİ",{"$f":"IF(Detaylı!$C$2=E878,1,0)","v":0},0,"SİVAS"]
[null,"ŞARKIŞLA",{"$f":"IF(Detaylı!$C$2=E879,1,0)","v":0},0,"SİVAS"]
[null,"ULAŞ",{"$f":"IF(Detaylı!$C$2=E880,1,0)","v":0},0,"SİVAS"]
[null,"YILDIZELİ",{"$f":"IF(Detaylı!$C$2=E881,1,0)","v":0},0,"SİVAS"]
[null,"ZARA",{"$f":"IF(Detaylı!$C$2=E882,1,0)","v":0},0,"SİVAS"]
[null,"ÇERKEZKÖY",{"$f":"IF(Detaylı!$C$2=E883,1,0)","v":0},0,"TEKİRDAĞ"]
[null,"ÇORLU",{"$f":"IF(Detaylı!$C$2=E884,1,0)","v":0},0,"TEKİRDAĞ"]
[null,"HAYRABOLU",{"$f":"IF(Detaylı!$C$2=E885,1,0)","v":0},0,"TEKİRDAĞ"]
[null,"MALKARA",{"$f":"IF(Detaylı!$C$2=E886,1,0)","v":0},0,"TEKİRDAĞ"]
[null,"MARMARAEREĞLİSİ",{"$f":"IF(Detaylı!$C$2=E887,1,0)","v":0},0,"TEKİRDAĞ"]
[null,"MURATLI",{"$f":"IF(Detaylı!$C$2=E888,1,0)","v":0},0,"TEKİRDAĞ"]
[null,"SARAY",{"$f":"IF(Detaylı!$C$2=E889,1,0)","v":0},0,"TEKİRDAĞ"]
[null,"ŞARKÖY",{"$f":"IF(Detaylı!$C$2=E890,1,0)","v":0},0,"TEKİRDAĞ"]
[null,"TEKİRDAĞ",{"$f":"IF(Detaylı!$C$2=E891,1,0)","v":0},0,"TEKİRDAĞ"]
[null,"ALMUS",{"$f":"IF(Detaylı!$C$2=E892,1,0)","v":0},0,"TOKAT"]
[null,"ARTOVA",{"$f":"IF(Detaylı!$C$2=E893,1,0)","v":0},0,"TOKAT"]
[null,"BAŞÇİFTLİK",{"$f":"IF(Detaylı!$C$2=E894,1,0)","v":0},0,"TOKAT"]
[null,"ERBAA",{"$f":"IF(Detaylı!$C$2=E895,1,0)","v":0},0,"TOKAT"]
[null,"NİKSAR",{"$f":"IF(Detaylı!$C$2=E896,1,0)","v":0},0,"TOKAT"]
[null,"PAZAR",{"$f":"IF(Detaylı!$C$2=E897,1,0)","v":0},0,"TOKAT"]
[null,"REŞADİYE",{"$f":"IF(Detaylı!$C$2=E898,1,0)","v":0},0,"TOKAT"]
[null,"SULUSARAY",{"$f":"IF(Detaylı!$C$2=E899,1,0)","v":0},0,"TOKAT"]
[null,"TOKAT",{"$f":"IF(Detaylı!$C$2=E900,1,0)","v":0},0,"TOKAT"]
[null,"TURHAL",{"$f":"IF(Detaylı!$C$2=E901,1,0)","v":0},0,"TOKAT"]
[null,"YEŞİLYURT",{"$f":"IF(Detaylı!$C$2=E902,1,0)","v":0},0,"TOKAT"]
[null,"ZİLE",{"$f":"IF(Detaylı!$C$2=E903,1,0)","v":0},0,"TOKAT"]
[null,"AKÇAABAT",{"$f":"IF(Detaylı!$C$2=E904,1,0)","v":0},0,"TRABZON"]
[null,"ARAKLI",{"$f":"IF(Detaylı!$C$2=E905,1,0)","v":0},0,"TRABZON"]
[null,"ARSİN",{"$f":"IF(Detaylı!$C$2=E906,1,0)","v":0},0,"TRABZON"]
[null,"BEŞİKDÜZÜ",{"$f":"IF(Detaylı!$C$2=E907,1,0)","v":0},0,"TRABZON"]
[null,"ÇARŞIBAŞI",{"$f":"IF(Detaylı!$C$2=E908,1,0)","v":0},0,"TRABZON"]
[null,"ÇAYKARA",{"$f":"IF(Detaylı!$C$2=E909,1,0)","v":0},0,"TRABZON"]
[null,"DERNEKPAZARI",{"$f":"IF(Detaylı!$C$2=E910,1,0)","v":0},0,"TRABZON"]
[null,"DÜZKÖY",{"$f":"IF(Detaylı!$C$2=E911,1,0)","v":0},0,"TRABZON"]
[null,"HAYRAT",{"$f":"IF(Detaylı!$C$2=E912,1,0)","v":0},0,"TRABZON"]
[null,"KÖPRÜBAŞI",{"$f":"IF(Detaylı!$C$2=E913,1,0)","v":0},0,"TRABZON"]
[null,"MAÇKA",{"$f":"IF(Detaylı!$C$2=E914,1,0)","v":0},0,"TRABZON"]
[null,"OF",{"$f":"IF(Detaylı!$C$2=E915,1,0)","v":0},0,"TRABZON"]
[null,"SÜRMENE",{"$f":"IF(Detaylı!$C$2=E916,1,0)","v":0},0,"TRABZON"]
[null,"ŞALPAZARI",{"$f":"IF(Detaylı!$C$2=E917,1,0)","v":0},0,"TRABZON"]
[null,"TONYA",{"$f":"IF(Detaylı!$C$2=E918,1,0)","v":0},0,"TRABZON"]
[null,"TRABZON",{"$f":"IF(Detaylı!$C$2=E919,1,0)","v":0},0,"TRABZON"]
[null,"VAKFIKEBİR",{"$f":"IF(Detaylı!$C$2=E920,1,0)","v":0},0,"TRABZON"]
[null,"YOMRA",{"$f":"IF(Detaylı!$C$2=E921,1,0)","v":0},0,"TRABZON"]
[null,"ÇEMİŞGEZEK",{"$f":"IF(Detaylı!$C$2=E922,1,0)","v":0},0,"TUNCELİ"]
[null,"HOZAT",{"$f":"IF(Detaylı!$C$2=E923,1,0)","v":0},0,"TUNCELİ"]
[null,"MAZGİRT",{"$f":"IF(Detaylı!$C$2=E924,1,0)","v":0},0,"TUNCELİ"]
[null,"NAZIMİYE",{"$f":"IF(Detaylı!$C$2=E925,1,0)","v":0},0,"TUNCELİ"]
[null,"OVACIK",{"$f":"IF(Detaylı!$C$2=E926,1,0)","v":0},0,"TUNCELİ"]
[null,"PERTEK",{"$f":"IF(Detaylı!$C$2=E927,1,0)","v":0},0,"TUNCELİ"]
[null,"PÜLÜMÜR",{"$f":"IF(Detaylı!$C$2=E928,1,0)","v":0},0,"TUNCELİ"]
[null,"TUNCELİ",{"$f":"IF(Detaylı!$C$2=E929,1,0)","v":0},0,"TUNCELİ"]
[null,"AKÇAKALE",{"$f":"IF(Detaylı!$C$2=E930,1,0)","v":0},0,"ŞANLIURFA"]
[null,"BİRECİK",{"$f":"IF(Detaylı!$C$2=E931,1,0)","v":0},0,"ŞANLIURFA"]
[null,"BOZOVA",{"$f":"IF(Detaylı!$C$2=E932,1,0)","v":0},0,"ŞANLIURFA"]
[null,"CEYLANPINAR",{"$f":"IF(Detaylı!$C$2=E933,1,0)","v":0},0,"ŞANLIURFA"]
[null,"HALFETİ",{"$f":"IF(Detaylı!$C$2=E934,1,0)","v":0},0,"ŞANLIURFA"]
[null,"HARRAN",{"$f":"IF(Detaylı!$C$2=E935,1,0)","v":0},0,"ŞANLIURFA"]
[null,"HİLVAN",{"$f":"IF(Detaylı!$C$2=E936,1,0)","v":0},0,"ŞANLIURFA"]
[null,"SİVEREK",{"$f":"IF(Detaylı!$C$2=E937,1,0)","v":0},0,"ŞANLIURFA"]
[null,"SURUÇ",{"$f":"IF(Detaylı!$C$2=E938,1,0)","v":0},0,"ŞANLIURFA"]
[null,"ŞANLIURFA",{"$f":"IF(Detaylı!$C$2=E939,1,0)","v":0},{"$f":"IF(C939=1,D938+1,0)","v":0},"ŞANLIURFA"]
[null,"VİRANŞEHİR",{"$f":"IF(Detaylı!$C$2=E940,1,0)","v":0},0,"ŞANLIURFA"]
[null,"BANAZ",{"$f":"IF(Detaylı!$C$2=E941,1,0)","v":0},0,"UŞAK"]
[null,"EŞME",{"$f":"IF(Detaylı!$C$2=E942,1,0)","v":0},0,"UŞAK"]
[null,"KARAHALLI",{"$f":"IF(Detaylı!$C$2=E943,1,0)","v":0},0,"UŞAK"]
[null,"SİVASLI",{"$f":"IF(Detaylı!$C$2=E944,1,0)","v":0},0,"UŞAK"]
[null,"ULUBEY",{"$f":"IF(Detaylı!$C$2=E945,1,0)","v":0},0,"UŞAK"]
[null,"UŞAK",{"$f":"IF(Detaylı!$C$2=E946,1,0)","v":0},0,"UŞAK"]
[null,"BAHÇESARAY",{"$f":"IF(Detaylı!$C$2=E947,1,0)","v":0},0,"VAN"]
[null,"BAŞKALE",{"$f":"IF(Detaylı!$C$2=E948,1,0)","v":0},0,"VAN"]
[null,"ÇALDIRAN",{"$f":"IF(Detaylı!$C$2=E949,1,0)","v":0},0,"VAN"]
[null,"ÇATAK",{"$f":"IF(Detaylı!$C$2=E950,1,0)","v":0},0,"VAN"]
[null,"EDREMİT(GÜMÜŞDERE)",{"$f":"IF(Detaylı!$C$2=E951,1,0)","v":0},0,"VAN"]
[null,"ERCİŞ",{"$f":"IF(Detaylı!$C$2=E952,1,0)","v":0},0,"VAN"]
[null,"GEVAŞ",{"$f":"IF(Detaylı!$C$2=E953,1,0)","v":0},0,"VAN"]
[null,"GÜRPINAR",{"$f":"IF(Detaylı!$C$2=E954,1,0)","v":0},0,"VAN"]
[null,"MURADİYE",{"$f":"IF(Detaylı!$C$2=E955,1,0)","v":0},0,"VAN"]
[null,"ÖZALP",{"$f":"IF(Detaylı!$C$2=E956,1,0)","v":0},0,"VAN"]
[null,"SARAY",{"$f":"IF(Detaylı!$C$2=E957,1,0)","v":0},0,"VAN"]
[null,"VAN",{"$f":"IF(Detaylı!$C$2=E958,1,0)","v":0},0,"VAN"]
[null,"AKDAĞMADENİ",{"$f":"IF(Detaylı!$C$2=E959,1,0)","v":0},0,"YOZGAT"]
[null,"AYDINCIK",{"$f":"IF(Detaylı!$C$2=E960,1,0)","v":0},0,"YOZGAT"]
[null,"BOĞAZLIYAN",{"$f":"IF(Detaylı!$C$2=E961,1,0)","v":0},0,"YOZGAT"]
[null,"ÇANDIR",{"$f":"IF(Detaylı!$C$2=E962,1,0)","v":0},0,"YOZGAT"]
[null,"ÇAYIRALAN",{"$f":"IF(Detaylı!$C$2=E963,1,0)","v":0},0,"YOZGAT"]
[null,"ÇEKEREK",{"$f":"IF(Detaylı!$C$2=E964,1,0)","v":0},0,"YOZGAT"]
[null,"KADIŞEHRİ",{"$f":"IF(Detaylı!$C$2=E965,1,0)","v":0},0,"YOZGAT"]
[null,"SARAYKENT",{"$f":"IF(Detaylı!$C$2=E966,1,0)","v":0},0,"YOZGAT"]
[null,"SARIKAYA",{"$f":"IF(Detaylı!$C$2=E967,1,0)","v":0},0,"YOZGAT"]
[null,"SORGUN",{"$f":"IF(Detaylı!$C$2=E968,1,0)","v":0},0,"YOZGAT"]
[null,"ŞEFAATLİ",{"$f":"IF(Detaylı!$C$2=E969,1,0)","v":0},0,"YOZGAT"]
[null,"YENİFAKILI",{"$f":"IF(Detaylı!$C$2=E970,1,0)","v":0},0,"YOZGAT"]
[null,"YERKÖY",{"$f":"IF(Detaylı!$C$2=E971,1,0)","v":0},0,"YOZGAT"]
[null,"YOZGAT",{"$f":"IF(Detaylı!$C$2=E972,1,0)","v":0},0,"YOZGAT"]
[null,"ALAPLI",{"$f":"IF(Detaylı!$C$2=E973,1,0)","v":0},0,"ZONGULDAK"]
[null,"ÇAYCUMA",{"$f":"IF(Detaylı!$C$2=E974,1,0)","v":0},0,"ZONGULDAK"]
[null,"DEVREK",{"$f":"IF(Detaylı!$C$2=E975,1,0)","v":0},0,"ZONGULDAK"]
[null,"GÖKÇEBEY",{"$f":"IF(Detaylı!$C$2=E976,1,0)","v":0},0,"ZONGULDAK"]
[null,"KARADENİZEREĞLİ",{"$f":"IF(Detaylı!$C$2=E977,1,0)","v":0},0,"ZONGULDAK"]
[null,"ZONGULDAK",{"$f":"IF(Detaylı!$C$2=E978,1,0)","v":0},0,"ZONGULDAK"]
[null,"AĞAÇÖREN",{"$f":"IF(Detaylı!$C$2=E979,1,0)","v":0},0,"AKSARAY"]
[null,"AKSARAY",{"$f":"IF(Detaylı!$C$2=E980,1,0)","v":0},0,"AKSARAY"]
[null,"ESKİL",{"$f":"IF(Detaylı!$C$2=E981,1,0)","v":0},0,"AKSARAY"]
[null,"GÜLAĞAÇ",{"$f":"IF(Detaylı!$C$2=E982,1,0)","v":0},0,"AKSARAY"]
[null,"GÜZELYURT",{"$f":"IF(Detaylı!$C$2=E983,1,0)","v":0},0,"AKSARAY"]
[null,"ORTAKÖY",{"$f":"IF(Detaylı!$C$2=E984,1,0)","v":0},0,"AKSARAY"]
[null,"SARIYAHŞİ",{"$f":"IF(Detaylı!$C$2=E985,1,0)","v":0},0,"AKSARAY"]
[null,"AYDINTEPE",{"$f":"IF(Detaylı!$C$2=E986,1,0)","v":0},0,"BAYBURT"]
[null,"BAYBURT",{"$f":"IF(Detaylı!$C$2=E987,1,0)","v":0},0,"BAYBURT"]
[null,"DEMİRÖZÜ",{"$f":"IF(Detaylı!$C$2=E988,1,0)","v":0},0,"BAYBURT"]
[null,"AYRANCI",{"$f":"IF(Detaylı!$C$2=E989,1,0)","v":0},0,"KARAMAN"]
[null,"BAŞYAYLA",{"$f":"IF(Detaylı!$C$2=E990,1,0)","v":0},0,"KARAMAN"]
[null,"ERMENEK",{"$f":"IF(Detaylı!$C$2=E991,1,0)","v":0},0,"KARAMAN"]
[null,"KARAMAN",{"$f":"IF(Detaylı!$C$2=E992,1,0)","v":0},0,"KARAMAN"]
[null,"KAZIMKARABEKİR",{"$f":"IF(Detaylı!$C$2=E993,1,0)","v":0},0,"KARAMAN"]
[null,"SARIVELİLER",{"$f":"IF(Detaylı!$C$2=E994,1,0)","v":0},0,"KARAMAN"]
[null,"BAHŞİLİ",{"$f":"IF(Detaylı!$C$2=E995,1,0)","v":0},0,"KIRIKKALE"]
[null,"BALIŞEYH",{"$f":"IF(Detaylı!$C$2=E996,1,0)","v":0},0,"KIRIKKALE"]
[null,"ÇELEBİ",{"$f":"IF(Detaylı!$C$2=E997,1,0)","v":0},0,"KIRIKKALE"]
[null,"DELİCE",{"$f":"IF(Detaylı!$C$2=E998,1,0)","v":0},0,"KIRIKKALE"]
[null,"KARAKEÇİLİ",{"$f":"IF(Detaylı!$C$2=E999,1,0)","v":0},0,"KIRIKKALE"]
[null,"KESKİN",{"$f":"IF(Detaylı!$C$2=E1000,1,0)","v":0},0,"KIRIKKALE"]
[null,"KIRIKKALE",{"$f":"IF(Detaylı!$C$2=E1001,1,0)","v":0},0,"KIRIKKALE"]
[null,"SULAKYURT",{"$f":"IF(Detaylı!$C$2=E1002,1,0)","v":0},0,"KIRIKKALE"]
[null,"YAHŞİHAN",{"$f":"IF(Detaylı!$C$2=E1003,1,0)","v":0},{"$f":"IF(C1003=1,D1002+1,0)","v":0},"KIRIKKALE"]
[null,"BATMAN",{"$f":"IF(Detaylı!$C$2=E1004,1,0)","v":0},0,"BATMAN"]
[null,"BEŞİRİ",{"$f":"IF(Detaylı!$C$2=E1005,1,0)","v":0},0,"BATMAN"]
[null,"GERCÜŞ",{"$f":"IF(Detaylı!$C$2=E1006,1,0)","v":0},0,"BATMAN"]
[null,"HASANKEYF",{"$f":"IF(Detaylı!$C$2=E1007,1,0)","v":0},0,"BATMAN"]
[null,"KOZLUK",{"$f":"IF(Detaylı!$C$2=E1008,1,0)","v":0},0,"BATMAN"]
[null,"SASON",{"$f":"IF(Detaylı!$C$2=E1009,1,0)","v":0},0,"BATMAN"]
[null,"BEYTÜŞŞEBAP",{"$f":"IF(Detaylı!$C$2=E1010,1,0)","v":0},0,"ŞIRNAK"]
[null,"CİZRE",{"$f":"IF(Detaylı!$C$2=E1011,1,0)","v":0},0,"ŞIRNAK"]
[null,"GÜÇLÜKONAK",{"$f":"IF(Detaylı!$C$2=E1012,1,0)","v":0},0,"ŞIRNAK"]
[null,"İDİL",{"$f":"IF(Detaylı!$C$2=E1013,1,0)","v":0},0,"ŞIRNAK"]
[null,"SİLOPİ",{"$f":"IF(Detaylı!$C$2=E1014,1,0)","v":0},0,"ŞIRNAK"]
[null,"ŞIRNAK",{"$f":"IF(Detaylı!$C$2=E1015,1,0)","v":0},0,"ŞIRNAK"]
[null,"ULUDERE",{"$f":"IF(Detaylı!$C$2=E1016,1,0)","v":0},0,"ŞIRNAK"]
[null,"AMASRA",{"$f":"IF(Detaylı!$C$2=E1017,1,0)","v":0},0,"BARTIN"]
[null,"BARTIN",{"$f":"IF(Detaylı!$C$2=E1018,1,0)","v":0},0,"BARTIN"]
[null,"KURUCAŞİLE",{"$f":"IF(Detaylı!$C$2=E1019,1,0)","v":0},0,"BARTIN"]
[null,"ULUS",{"$f":"IF(Detaylı!$C$2=E1020,1,0)","v":0},0,"BARTIN"]
[null,"ARDAHAN",{"$f":"IF(Detaylı!$C$2=E1021,1,0)","v":0},0,"ARDAHAN"]
[null,"ÇILDIR",{"$f":"IF(Detaylı!$C$2=E1022,1,0)","v":0},0,"ARDAHAN"]
[null,"DAMAL",{"$f":"IF(Detaylı!$C$2=E1023,1,0)","v":0},0,"ARDAHAN"]
[null,"GÖLE",{"$f":"IF(Detaylı!$C$2=E1024,1,0)","v":0},0,"ARDAHAN"]
[null,"HANAK",{"$f":"IF(Detaylı!$C$2=E1025,1,0)","v":0},0,"ARDAHAN"]
[null,"POSOF",{"$f":"IF(Detaylı!$C$2=E1026,1,0)","v":0},0,"ARDAHAN"]
[null,"ARALIK",{"$f":"IF(Detaylı!$C$2=E1027,1,0)","v":0},0,"IĞDIR"]
[null,"IĞDIR",{"$f":"IF(Detaylı!$C$2=E1028,1,0)","v":0},0,"IĞDIR"]
[null,"KARAKOYUNLU",{"$f":"IF(Detaylı!$C$2=E1029,1,0)","v":0},0,"IĞDIR"]
[null,"TUZLUCA",{"$f":"IF(Detaylı!$C$2=E1030,1,0)","v":0},0,"IĞDIR"]
[null,"ALTINOVA",{"$f":"IF(Detaylı!$C$2=E1031,1,0)","v":0},0,"YALOVA"]
[null,"ARMUTLU",{"$f":"IF(Detaylı!$C$2=E1032,1,0)","v":0},0,"YALOVA"]
[null,"ÇINARCIK",{"$f":"IF(Detaylı!$C$2=E1033,1,0)","v":0},0,"YALOVA"]
[null,"ÇİFTLİKKÖY",{"$f":"IF(Detaylı!$C$2=E1034,1,0)","v":0},0,"YALOVA"]
[null,"TERMAL",{"$f":"IF(Detaylı!$C$2=E1035,1,0)","v":0},0,"YALOVA"]
[null,"YALOVA",{"$f":"IF(Detaylı!$C$2=E1036,1,0)","v":0},0,"YALOVA"]
[null,"EFLANİ",{"$f":"IF(Detaylı!$C$2=E1037,1,0)","v":0},0,"KARABÜK"]
[null,"ESKİPAZAR",{"$f":"IF(Detaylı!$C$2=E1038,1,0)","v":0},0,"KARABÜK"]
[null,"KARABÜK",{"$f":"IF(Detaylı!$C$2=E1039,1,0)","v":0},0,"KARABÜK"]
[null,"OVACIK",{"$f":"IF(Detaylı!$C$2=E1040,1,0)","v":0},0,"KARABÜK"]
[null,"SAFRANBOLU",{"$f":"IF(Detaylı!$C$2=E1041,1,0)","v":0},0,"KARABÜK"]
[null,"YENİCE",{"$f":"IF(Detaylı!$C$2=E1042,1,0)","v":0},0,"KARABÜK"]
[null,"ELBEYLİ",{"$f":"IF(Detaylı!$C$2=E1043,1,0)","v":0},0,"KİLİS"]
[null,"KİLİS",{"$f":"IF(Detaylı!$C$2=E1044,1,0)","v":0},0,"KİLİS"]
[null,"MUSABEYLİ",{"$f":"IF(Detaylı!$C$2=E1045,1,0)","v":0},0,"KİLİS"]
[null,"POLATELİ",{"$f":"IF(Detaylı!$C$2=E1046,1,0)","v":0},0,"KİLİS"]
[null,"BAHÇE",{"$f":"IF(Detaylı!$C$2=E1047,1,0)","v":0},0,"OSMANİYE"]
[null,"DÜZİÇİ",{"$f":"IF(Detaylı!$C$2=E1048,1,0)","v":0},0,"OSMANİYE"]
[null,"HASANBEYLİ",{"$f":"IF(Detaylı!$C$2=E1049,1,0)","v":0},0,"OSMANİYE"]
[null,"KADİRLİ",{"$f":"IF(Detaylı!$C$2=E1050,1,0)","v":0},0,"OSMANİYE"]
[null,"OSMANİYE",{"$f":"IF(Detaylı!$C$2=E1051,1,0)","v":0},0,"OSMANİYE"]
[null,"SUMBAS",{"$f":"IF(Detaylı!$C$2=E1052,1,0)","v":0},0,"OSMANİYE"]
[null,"TOPRAKKALE",{"$f":"IF(Detaylı!$C$2=E1053,1,0)","v":0},0,"OSMANİYE"]
[null,"AKÇAKOCA",{"$f":"IF(Detaylı!$C$2=E1054,1,0)","v":0},0,"DÜZCE"]
[null,"CUMAYERİ",{"$f":"IF(Detaylı!$C$2=E1055,1,0)","v":0},0,"DÜZCE"]
[null,"ÇİLİMLİ",{"$f":"IF(Detaylı!$C$2=E1056,1,0)","v":0},0,"DÜZCE"]
[null,"DÜZCE",{"$f":"IF(Detaylı!$C$2=E1057,1,0)","v":0},0,"DÜZCE"]
[null,"GÖLYAKA",{"$f":"IF(Detaylı!$C$2=E1058,1,0)","v":0},0,"DÜZCE"]
[null,"GÜMÜŞOVA",{"$f":"IF(Detaylı!$C$2=E1059,1,0)","v":0},0,"DÜZCE"]
[null,"KAYNAŞLI",{"$f":"IF(Detaylı!$C$2=E1060,1,0)","v":0},0,"DÜZCE"]
[null,"YIĞILCA",{"$f":"IF(Detaylı!$C$2=E1061,1,0)","v":0},0,"DÜZCE"]

{"sheet":"Detaylı_Sonuç","index":3,"n_rows":21,"n_cols":12,"rows_kept":21,"cut":false,"hidden":false,"merged":[[1,6,1,11],[1,1,1,4],[8,1,8,4],[16,1,16,4]]}
[]
[null,"Isıtma (Hava Şartlandırma)",null,null,null,null,"Sıcak Su Sağlama (Proses, radyatör vb.)"]
[null,"Sistem","COP Ortalama","Toplam Enerji Tüketimi","Enerji Maliyeti",null,"Sistem","COP Ortalama","Toplam Enerji Tüketimi","Enerji Maliyeti","Yatırım Maliyeti","Geri Ödeme Süresi"]
[null,"Su Kaynaklı Isı Pompası",{"$f":"'Sudan Havaya'!B21/'Sudan Havaya'!B16","v":8.599764296359913},{"$f":"'Sudan Havaya'!B16","v":15471.176479101527},{"$f":"D4*Detaylı!$C$5","v":46413.529437304576},null,"Su Kaynaklı Isı Pompası",{"$f":"SUM('Sudan Sıcak Su'!B20:M20)/SUM('Sudan Sıcak Su'!B15:M15)","v":3.8120047821596881},{"$f":"SUM('Sudan Sıcak Su'!B15:M15)","v":24239.214082950562},{"$f":"I4*Detaylı!$C$5","v":72717.642248851684},44000,{"$f":"ABS(K4/($J$7-J4))","v":10.14208659678969}]
[null,"Toprak Kaynaklı Isı Pompası",{"$f":"'Topraktan Havaya'!B21/'Topraktan Havaya'!B16","v":5.3644942264989091},{"$f":"'Topraktan Havaya'!B16","v":24801.680361671955},{"$f":"D5*Detaylı!$C$5","v":74405.041085015866},null,"Toprak Kaynaklı Isı Pompası",{"$f":"SUM('Topraktan Sıcak Su'!B23:M23)/SUM('Topraktan Sıcak Su'!B17:M17)","v":3.7782706106831094},{"$f":"SUM('Topraktan Sıcak Su'!B17:M17)","v":24455.633150981244},{"$f":"I5*Detaylı!$C$5","v":73366.899452943733},49000,{"$f":"ABS(K5/($J$7-J5))","v":13.282370424709555}]
[null,"Hava Kaynaklı Isı Pompası",{"$f":"'Havadan Havaya'!B21/'Havadan Havaya'!B16","v":2.9128669816143828},{"$f":"'Havadan Havaya'!B16","v":45676.12319664588},{"$f":"D6*Detaylı!$C$5","v":137028.36958993765},null,"Hava Kaynaklı Isı Pompası",{"$f":"SUM('Havadan Sıcak Su'!B23:M23)/Detaylı_Sonuç!I6","v":3.1580765842970764},{"$f":"SUM('Havadan Sıcak Su'!B17:M17)","v":29258.315159119666},{"$f":"I6*Detaylı!$C$5","v":87774.945477358997},35000,{"$f":"ABS(K6/($J$7-J6))","v":3.2652465742948742}]
[null,{"$f":"\"Kazan/Kombi \"&Detaylı!C7","v":"Kazan/Kombi Doğalgaz"},null,{"$f":"FIXED(C5*D5*860/Detaylı!C8,0,FALSE)& \" \"&Veriler!N14&\" / \"&(FIXED(C5*D5,0,FALSE))&\" kWh\"","v":"13.869 Sm3 / 133.048 kWh"},{"$f":"C5*D5*860/Detaylı!C8*Detaylı!C9","v":110954.36136008543},null,{"$f":"\"Kazan/Kombi \"&Detaylı!C7","v":"Kazan/Kombi Doğalgaz"},null,{"$f":"FIXED(H5*I5*860/Detaylı!C8,0,FALSE)& \" \" &Veriler!N14&\" / \"&(FIXED(H5*I5,0,FALSE))&\" kWh\"","v":"9.632 Sm3 / 92.400 kWh"},{"$f":"H5*I5*860/Detaylı!C8*Detaylı!C9","v":77056}]
[]
[null,"Soğutma (Hava Şartlandırma)"]
[null,"Sistem","COP Ortalama","Toplam Enerji Tüketimi","Enerji Maliyeti"]
[null,"Su Kaynaklı Isı Pompası",{"$f":"IF('Sudan Havaya'!B23=0,\"-\",'Sudan Havaya'!B23/'Sudan Havaya'!B18)","v":"-"},{"$f":"'Sudan Havaya'!B18","v":0},{"$f":"D11*Detaylı!$C$5","v":0}]
[null,"Toprak Kaynaklı Isı Pompası",{"$f":"IF('Topraktan Havaya'!B23=0,\"-\",'Topraktan Havaya'!B23/'Topraktan Havaya'!B18)","v":"-"},{"$f":"'Topraktan Havaya'!B18","v":0},{"$f":"D12*Detaylı!$C$5","v":0}]
[null,"Hava Kaynaklı Isı Pompası",{"$f":"IF('Havadan Havaya'!B23=0,\"-\",'Havadan Havaya'!B23/'Havadan Havaya'!B18)","v":"-"},{"$f":"'Havadan Havaya'!B18","v":0},{"$f":"D13*Detaylı!$C$5","v":0}]
[null,"Klima/Chiller",{"$f":"Detaylı!C6","v":3},{"$f":"IF('Havadan Havaya'!B23=0,0,D13*C13/C14)","v":0},{"$f":"D14*Detaylı!$C$5","v":0}]
[]
[]
[null,"Finansal  (Hava Şartlandırma)"]
[null,"Sistem","Toplam Kazanç","Yatırım Maliyeti","Geri Ödeme Süresi"]
[null,"Su Kaynaklı Isı Pompası",{"$f":"$E$7-E4 +$E$14-E11","v":64540.831922780853},960000,{"$f":"IF((D19/C19)>0,(D19/C19),\"Uygun Değildir\")","v":14.874304706028289}]
[null,"Toprak Kaynaklı Isı Pompası",{"$f":"$E$7-E5 +$E$14-E12","v":36549.320275069564},80000,2.1888231955593525]
[null,"Hava Kaynaklı Isı Pompası",{"$f":"$E$7-E6 +$E$14-E13","v":-26074.008229852217},40000,{"$f":"IF((D21/C21)>0,(D21/C21),\"Uygun Değildir\")","v":"Uygun Değildir"}]

{"sheet":"Sudan Havaya","index":4,"n_rows":61,"n_cols":16,"rows_kept":61,"cut":false,"hidden":true,"merged":[]}
["Sütun1","Ocak","Şubat","Mart","Nisan","Mayıs","Haziran","Temmuz","Ağustos","Eylül","Ekim","Kasım","Aralık",null,"Subcooler Sıcaklığı",5]
["Isı kaynağı ortalama sıcaklık",{"$f":"Detaylı!F36","v":5},{"$f":"Detaylı!G36","v":8},{"$f":"Detaylı!H36","v":10},{"$f":"Detaylı!I36","v":9},{"$f":"Detaylı!J36","v":14},{"$f":"Detaylı!K36","v":22},{"$f":"Detaylı!L36","v":23},{"$f":"Detaylı!M36","v":22},{"$f":"Detaylı!N36","v":21},{"$f":"Detaylı!O36","v":18},{"$f":"Detaylı!P36","v":13},{"$f":"Detaylı!Q36","v":10},null,"Evap Superheat Sıcak",5]
["Isı aktırımı ortalama sıcaklık",{"$f":"Detaylı!F10","v":27},{"$f":"Detaylı!G10","v":26.750221878070235},{"$f":"Detaylı!H10","v":25.788138924156016},{"$f":"Detaylı!I10","v":24.553475221794113},{"$f":"Detaylı!J10","v":23.031986048648623},{"$f":"Detaylı!K10","v":22.103300267290535},{"$f":"Detaylı!L10","v":21},{"$f":"Detaylı!M10","v":21},{"$f":"Detaylı!N10","v":22.15791675388126},{"$f":"Detaylı!O10","v":23.235963588254855},{"$f":"Detaylı!P10","v":25.295230874846755},{"$f":"Detaylı!Q10","v":26.369713108783216},null,"Soğutma Kapasitesi",{"$f":"Detaylı!C10","v":100}]
["Isıtma / Soğutma",{"$f":"Detaylı!F32","v":"Isıtma"},{"$f":"Detaylı!G32","v":"Isıtma"},{"$f":"Detaylı!H32","v":"Isıtma"},{"$f":"Detaylı!I32","v":"Isıtma"},{"$f":"Detaylı!J32","v":"Isıtma"},{"$f":"Detaylı!K32","v":"Isıtma"},{"$f":"Detaylı!L32","v":"Kapalı"},{"$f":"Detaylı!M32","v":"Kapalı"},{"$f":"Detaylı!N32","v":"Isıtma"},{"$f":"Detaylı!O32","v":"Isıtma"},{"$f":"Detaylı!P32","v":"Isıtma"},{"$f":"Detaylı!Q32","v":"Isıtma"},null,"Kompresör",{"$f":"VLOOKUP(Detaylı!H5,Komp_liste,2,)","v":0.65}]
["Kapasite Kullanım %",{"$f":"Detaylı!F33","v":1},{"$f":"Detaylı!G33","v":0.95837031301170617},{"$f":"Detaylı!H33","v":0.79802315402600288},{"$f":"Detaylı!I33","v":0.59224587029901898},{"$f":"Detaylı!J33","v":0.3386643414414372},{"$f":"Detaylı!K33","v":0.18388337788175615},{"$f":"Detaylı!L33","v":0},{"$f":"Detaylı!M33","v":0},{"$f":"Detaylı!N33","v":0.19298612564687642},{"$f":"Detaylı!O33","v":0.37266059804247592},{"$f":"Detaylı!P33","v":0.71587181247445908},{"$f":"Detaylı!Q33","v":0.89495218479720251},null,"Gaz",{"$f":"Detaylı!C4","v":"R134a"}]
["Isıtma Kapasitesi",{"$f":"B61","v":100},95.837031301170612,79.802315402600286,59.224587029901897,33.866434144143717,18.388337788175615,0,0,19.298612564687641,37.26605980424759,71.587181247445912,89.495218479720251]
["Soğutma Kapasitesi",{"$f":"B59","v":80.397421468241831},83.914460555444123,71.229191677857003,52.92514035383914,31.447403133847736,17.074885089020214,0,0,17.920140238638524,34.604198389658478,65.338187503393584,79.591219901691403]
["Kapasite Kullanım kW",{"$f":"IF(B4=\"Isıtma\",B6,B7)","v":100},{"$f":"IF(C4=\"Isıtma\",C6,C7)","v":95.837031301170612},79.802315402600286,59.224587029901897,33.866434144143717,18.388337788175615,0,0,19.298612564687641,37.26605980424759,71.587181247445912,89.495218479720251]
["COP",{"$f":"IF(B8>0,B8/B10,0)","v":5.1013696916448934},8.0382858147872405,9.3084292219274953,9.4015538309021949,{"$f":"IF(F8>0,F8/F10,0)","v":13.999999999999998},{"$f":"IF(G8>0,G8/G10,0)","v":13.999999999999998},{"$f":"IF(H8>0,H8/H10,0)","v":0},{"$f":"IF(I8>0,I8/I10,0)","v":0},{"$f":"IF(J8>0,J8/J10,0)","v":14},13.999999999999998,{"$f":"IF(L8>0,L8/L10,0)","v":11.455793393229317},{"$f":"IF(M8>0,M8/M10,0)","v":9.0362713377461112}]
["Güç Gereksinimi (kW)",{"$f":"B60","v":19.602578531758173},11.922570745726494,8.5731237247432848,6.2994466760627557,2.41903101029598,1.3134526991554012,0,0,1.3784723260491172,2.6618614145891137,6.2489937440523207,9.9039985780288404]
["Çalışma Saati Günlük",{"$f":"Detaylı!$C$12","v":10},{"$f":"Detaylı!$C$12","v":10},{"$f":"Detaylı!$C$12","v":10},{"$f":"Detaylı!$C$12","v":10},{"$f":"Detaylı!$C$12","v":10},{"$f":"Detaylı!$C$12","v":10},{"$f":"Detaylı!$C$12","v":10},{"$f":"Detaylı!$C$12","v":10},{"$f":"Detaylı!$C$12","v":10},{"$f":"Detaylı!$C$12","v":10},{"$f":"Detaylı!$C$12","v":10},{"$f":"Detaylı!$C$12","v":10}]
["Ayda Kaç Gün",{"$f":"Detaylı!$C$11","v":22},{"$f":"Detaylı!$C$11","v":22},{"$f":"Detaylı!$C$11","v":22},{"$f":"Detaylı!$C$11","v":22},{"$f":"Detaylı!$C$11","v":22},{"$f":"Detaylı!$C$11","v":22},{"$f":"Detaylı!$C$11","v":22},{"$f":"Detaylı!$C$11","v":22},{"$f":"Detaylı!$C$11","v":22},{"$f":"Detaylı!$C$11","v":22},{"$f":"Detaylı!$C$11","v":22},{"$f":"Detaylı!$C$11","v":22}]
["Ayda Kaç Saat",{"$f":"B12*B11","v":220},{"$f":"C12*C11","v":220},220,220,220,220,220,220,220,220,220,220]
["Aylık Toplam Elektrik Tüketimi",{"$f":"B13*B10","v":4312.5672769867979},{"$f":"C13*C10","v":2622.9655640598289},1886.0872194435226,1385.8782687338062,532.18682226511555,288.95959381418828,0,0,303.26391173080577,585.60951120960499,1374.7786236915106,2178.8796871663449]
["Isıtma için Harcanan Enerji",{"$f":"IF(B4=\"Isıtma\",B14,0)","v":4312.5672769867979},{"$f":"IF(C4=\"Isıtma\",C14,0)","v":2622.9655640598289},1886.0872194435226,1385.8782687338062,532.18682226511555,288.95959381418828,0,0,303.26391173080577,585.60951120960499,1374.7786236915106,2178.8796871663449]
["Toplam Isıtma İçin Harcanan Enerji (kWh)",{"$f":"SUM(B15:M15)","v":15471.176479101527}]
["Soğutma için Harcanan Enerji",{"$f":"IF(B4=\"Soğutma\",B14,0)","v":0},{"$f":"IF(C4=\"Soğutma\",C14,0)","v":0},0,0,0,0,0,0,0,0,0,0]
["Toplam Soğutma için Harcanan Enerji (kWh)",{"$f":"SUM(B17:M17)","v":0}]
["Yıllık Toplam Isıtma + Soğutma(kWh)",{"$f":"SUM(B14:M14)","v":15471.176479101527}]
["Aylık Isıtma Kapasitesi",{"$f":"IF(B4=\"Isıtma\",B6*B13,0)","v":22000},21084.146886257535,17556.509388572063,13029.409146578417,7450.6155117116177,4045.4343133986354,0,0,4245.6947642312807,8198.5331569344689,15749.179874438101,19688.948065538454]
["Toplam Isıtma Kapasitesi",{"$f":"SUM(B20:M20)","v":133048.47110766059}]
["Aylık Soğutma Kapasitesi",{"$f":"IF(B4=\"Soğutma\",B7*B13,0)","v":0},0,0,0,0,0,0,0,0,0,0,0]
["Toplam Soğutma Kapasitesi",{"$f":"SUM(B22:M22)","v":0}]
[]
[]
["Sütun1","Ocak","Şubat","Mart","Nisan","Mayıs","Haziran","Temmuz","Ağustos","Eylül","Ekim","Kasım","Aralık","Sütun2"]
["Açıklama",{"$f":"Tablo4[[#Headers],[Ocak]]","v":"Ocak"},{"$f":"Tablo4[[#Headers],[Şubat]]","v":"Şubat"},{"$f":"Tablo4[[#Headers],[Mart]]","v":"Mart"},{"$f":"Tablo4[[#Headers],[Nisan]]","v":"Nisan"},{"$f":"Tablo4[[#Headers],[Mayıs]]","v":"Mayıs"},{"$f":"Tablo4[[#Headers],[Haziran]]","v":"Haziran"},{"$f":"Tablo4[[#Headers],[Temmuz]]","v":"Temmuz"},{"$f":"Tablo4[[#Headers],[Ağustos]]","v":"Ağustos"},{"$f":"Tablo4[[#Headers],[Eylül]]","v":"Eylül"},{"$f":"Tablo4[[#Headers],[Ekim]]","v":"Ekim"},{"$f":"Tablo4[[#Headers],[Kasım]]","v":"Kasım"},{"$f":"Tablo4[[#Headers],[Aralık]]","v":"Aralık"},"Birim"]
["Isı Kaynağı Isı Pompası Giriş Sıcaklığı",{"$f":"IF(B4=\"Isıtma\",B2,B3)","v":5},8,10,9,{"$f":"IF(F4=\"Isıtma\",F2,F3)","v":14},{"$f":"IF(G4=\"Isıtma\",G2,G3)","v":22},21,21,21,18,13,10,"C"]
["Isı Kaynağı Isı Pompası Çıkış Sıcaklığı",{"$f":"IF(B4=\"Isıtma\",IF(B28-Detaylı!$M$4>0,B28+Detaylı!$M$4,1),B28-Detaylı!$M$4)","v":1},{"$f":"IF(C4=\"Isıtma\",IF(C28-Detaylı!$M$4>0,C28+Detaylı!$M$4,1),C28-Detaylı!$M$4)","v":13},{"$f":"IF(D4=\"Isıtma\",IF(D28-Detaylı!$M$4>0,D28+Detaylı!$M$4,1),D28-Detaylı!$M$4)","v":15},{"$f":"IF(E4=\"Isıtma\",IF(E28-Detaylı!$M$4>0,E28+Detaylı!$M$4,1),E28-Detaylı!$M$4)","v":14},{"$f":"IF(F4=\"Isıtma\",IF(F28-Detaylı!$M$4>0,F28+Detaylı!$M$4,1),F28-Detaylı!$M$4)","v":19},{"$f":"IF(G4=\"Isıtma\",IF(G28-Detaylı!$M$4>0,G28+Detaylı!$M$4,1),G28-Detaylı!$M$4)","v":27},{"$f":"IF(H4=\"Isıtma\",IF(H28-Detaylı!$M$4>0,H28+Detaylı!$M$4,1),H28-Detaylı!$M$4)","v":16},{"$f":"IF(I4=\"Isıtma\",IF(I28-Detaylı!$M$4>0,I28+Detaylı!$M$4,1),I28-Detaylı!$M$4)","v":16},{"$f":"IF(J4=\"Isıtma\",IF(J28-Detaylı!$M$4>0,J28+Detaylı!$M$4,1),J28-Detaylı!$M$4)","v":26},{"$f":"IF(K4=\"Isıtma\",IF(K28-Detaylı!$M$4>0,K28+Detaylı!$M$4,1),K28-Detaylı!$M$4)","v":23},{"$f":"IF(L4=\"Isıtma\",IF(L28-Detaylı!$M$4>0,L28+Detaylı!$M$4,1),L28-Detaylı!$M$4)","v":18},{"$f":"IF(M4=\"Isıtma\",IF(M28-Detaylı!$M$4>0,M28+Detaylı!$M$4,1),M28-Detaylı!$M$4)","v":15},"C"]
["Isıtılacak Hava Çıkış Sıcaklığı",{"$f":"IF(B4=\"Isıtma\",B3,B2)","v":27},26.750221878070235,25.788138924156016,24.553475221794113,23.031986048648623,{"$f":"IF(G4=\"Isıtma\",G3,G2)","v":22.103300267290535},{"$f":"IF(H4=\"Isıtma\",H3,H2)","v":23},22,22.15791675388126,23.235963588254855,25.295230874846755,26.369713108783216,"C"]
["Subcooler kaç derece?",{"$f":"$P$1","v":5},{"$f":"$P$1","v":5},5,5,5,5,5,5,5,5,5,5,"C"]
["Superheat kaç derece",{"$f":"$P$2","v":5},{"$f":"$P$2","v":5},5,5,5,5,5,5,5,5,5,5,"C"]
["dış ünite Yaklaşım Sıcaklığı",{"$f":"Detaylı!$H$4","v":4},{"$f":"Detaylı!$H$4","v":4},{"$f":"Detaylı!$H$4","v":4},{"$f":"Detaylı!$H$4","v":4},{"$f":"Detaylı!$H$4","v":4},{"$f":"Detaylı!$H$4","v":4},{"$f":"Detaylı!$H$4","v":4},{"$f":"Detaylı!$H$4","v":4},{"$f":"Detaylı!$H$4","v":4},{"$f":"Detaylı!$H$4","v":4},{"$f":"Detaylı!$H$4","v":4},{"$f":"Detaylı!$H$4","v":4},"Önerilen değer"]
["iç ünite Yaklaşım Sıcaklığı",{"$f":"Detaylı!$H$3","v":3},{"$f":"Detaylı!$H$3","v":3},{"$f":"Detaylı!$H$3","v":3},{"$f":"Detaylı!$H$3","v":3},{"$f":"Detaylı!$H$3","v":3},{"$f":"Detaylı!$H$3","v":3},{"$f":"Detaylı!$H$3","v":3},{"$f":"Detaylı!$H$3","v":3},{"$f":"Detaylı!$H$3","v":3},{"$f":"Detaylı!$H$3","v":3},{"$f":"Detaylı!$H$3","v":3},{"$f":"Detaylı!$H$3","v":3},"Önerilen değer"]
["Soğutucu akışkan evaporasyon faz değişim sıcaklığı",{"$f":"IF(B4=\"Isıtma\",B29-B33,B29-B34)","v":-3},{"$f":"IF(C4=\"Isıtma\",C29-C33,C29-C34)","v":9},11,10,15,23,13,13,22,19,14,11,"C"]
["Soğutucu Akışkan evaporasyon çıkış sıcaklığı",{"$f":"B35+B32","v":2},14,16,15,20,28,18,18,27,24,19,16,"C"]
["Soğutucu akışkan evaporasyon faz değişim basıncı",{"$f":"[1]!PropsSI(\"P\",\"T\",B35+273,\"Q\",1,$P$5)","v":260824.21080265037},{"$f":"[1]!PropsSI(\"P\",\"T\",C35+273,\"Q\",1,$P$5)","v":398915.12791051267},{"$f":"[1]!PropsSI(\"P\",\"T\",D35+273,\"Q\",1,$P$5)","v":426505.38076701236},{"$f":"[1]!PropsSI(\"P\",\"T\",E35+273,\"Q\",1,$P$5)","v":412534.38524338207},{"$f":"[1]!PropsSI(\"P\",\"T\",F35+273,\"Q\",1,$P$5)","v":486025.48150286323},{"$f":"[1]!PropsSI(\"P\",\"T\",G35+273,\"Q\",1,$P$5)","v":623783.09567838116},{"$f":"[1]!PropsSI(\"P\",\"T\",H35+273,\"Q\",1,$P$5)","v":455526.25393902347},{"$f":"[1]!PropsSI(\"P\",\"T\",I35+273,\"Q\",1,$P$5)","v":455526.25393902347},{"$f":"[1]!PropsSI(\"P\",\"T\",J35+273,\"Q\",1,$P$5)","v":605119.0345006804},{"$f":"[1]!PropsSI(\"P\",\"T\",K35+273,\"Q\",1,$P$5)","v":551653.137808359},{"$f":"[1]!PropsSI(\"P\",\"T\",L35+273,\"Q\",1,$P$5)","v":470588.06508654379},{"$f":"[1]!PropsSI(\"P\",\"T\",M35+273,\"Q\",1,$P$5)","v":426505.38076701236},"kPa"]
["Soğutucu akışkan evaporasyon sıvı entalpisi",{"$f":"[1]!PropsSI(\"H\",\"P\",B37,\"Q\",0,$P$5)/1000","v":195.7814902813177},{"$f":"[1]!PropsSI(\"H\",\"P\",C37,\"Q\",0,$P$5)/1000","v":212.00074528963441},{"$f":"[1]!PropsSI(\"H\",\"P\",D37,\"Q\",0,$P$5)/1000","v":214.74512119071636},{"$f":"[1]!PropsSI(\"H\",\"P\",E37,\"Q\",0,$P$5)/1000","v":213.37137496065495},{"$f":"[1]!PropsSI(\"H\",\"P\",F37,\"Q\",0,$P$5)/1000","v":220.27217942367733},{"$f":"[1]!PropsSI(\"H\",\"P\",G37,\"Q\",0,$P$5)/1000","v":231.49061870551398},{"$f":"[1]!PropsSI(\"H\",\"P\",H37,\"Q\",0,$P$5)/1000","v":217.50214250876724},{"$f":"[1]!PropsSI(\"H\",\"P\",I37,\"Q\",0,$P$5)/1000","v":217.50214250876724},{"$f":"[1]!PropsSI(\"H\",\"P\",J37,\"Q\",0,$P$5)/1000","v":230.07563762357543},{"$f":"[1]!PropsSI(\"H\",\"P\",K37,\"Q\",0,$P$5)/1000","v":225.85288201692748},{"$f":"[1]!PropsSI(\"H\",\"P\",L37,\"Q\",0,$P$5)/1000","v":218.88551011939418},{"$f":"[1]!PropsSI(\"H\",\"P\",M37,\"Q\",0,$P$5)/1000","v":214.74512119071636},"kj/kg"]
["Soğutucu akışkan evaporasyon gaz entalpisi",{"$f":"[1]!PropsSI(\"H\",\"P\",B37,\"Q\",1,$P$5)/1000","v":396.75438781592231},{"$f":"[1]!PropsSI(\"H\",\"P\",C37,\"Q\",1,$P$5)/1000","v":403.67415591149972},{"$f":"[1]!PropsSI(\"H\",\"P\",D37,\"Q\",1,$P$5)/1000","v":404.79168822522331},{"$f":"[1]!PropsSI(\"H\",\"P\",E37,\"Q\",1,$P$5)/1000","v":404.23433342500118},{"$f":"[1]!PropsSI(\"H\",\"P\",F37,\"Q\",1,$P$5)/1000","v":406.99152253670485},{"$f":"[1]!PropsSI(\"H\",\"P\",G37,\"Q\",1,$P$5)/1000","v":411.23381089099956},{"$f":"[1]!PropsSI(\"H\",\"P\",H37,\"Q\",1,$P$5)/1000","v":405.89766123815349},{"$f":"[1]!PropsSI(\"H\",\"P\",I37,\"Q\",1,$P$5)/1000","v":405.89766123815349},{"$f":"[1]!PropsSI(\"H\",\"P\",J37,\"Q\",1,$P$5)/1000","v":410.71602423484154},{"$f":"[1]!PropsSI(\"H\",\"P\",K37,\"Q\",1,$P$5)/1000","v":409.14056447438213},{"$f":"[1]!PropsSI(\"H\",\"P\",L37,\"Q\",1,$P$5)/1000","v":406.44614138659398},{"$f":"[1]!PropsSI(\"H\",\"P\",M37,\"Q\",1,$P$5)/1000","v":404.79168822522331},"kj/kg"]
["Soğutucu akışkan evaporasyon + superheat entalpi",{"$f":"[1]!PropsSI(\"H\",\"T\",273+B36,\"P\",B37,$P$5)/1000","v":401.1544237763743},{"$f":"[1]!PropsSI(\"H\",\"T\",273+C36,\"P\",C37,$P$5)/1000","v":408.34294893974783},{"$f":"[1]!PropsSI(\"H\",\"T\",273+D36,\"P\",D37,$P$5)/1000","v":409.50917027254832},{"$f":"[1]!PropsSI(\"H\",\"T\",273+E36,\"P\",E37,$P$5)/1000","v":408.92731586875067},{"$f":"[1]!PropsSI(\"H\",\"T\",273+F36,\"P\",F37,$P$5)/1000","v":411.81028532688202},{"$f":"[1]!PropsSI(\"H\",\"T\",273+G36,\"P\",G37,$P$5)/1000","v":416.27312374494403},{"$f":"[1]!PropsSI(\"H\",\"T\",273+H36,\"P\",H37,$P$5)/1000","v":410.66510827376135},{"$f":"[1]!PropsSI(\"H\",\"T\",273+I36,\"P\",I37,$P$5)/1000","v":410.66510827376135},{"$f":"[1]!PropsSI(\"H\",\"T\",273+J36,\"P\",J37,$P$5)/1000","v":415.72629703880921},{"$f":"[1]!PropsSI(\"H\",\"T\",273+K36,\"P\",K37,$P$5)/1000","v":414.06634886576069},{"$f":"[1]!PropsSI(\"H\",\"T\",273+L36,\"P\",L37,$P$5)/1000","v":411.23907249399286},{"$f":"[1]!PropsSI(\"H\",\"T\",273+M36,\"P\",M37,$P$5)/1000","v":409.50917027254832},"kj/kg"]
["Soğutucu akışkan evaporasyon çıkış entropisi",{"$f":"[1]!PropsSI(\"S\",\"T\",B36+273,\"P\",B37,$P$5)","v":1745.0486787103021},{"$f":"[1]!PropsSI(\"S\",\"T\",C36+273,\"P\",C37,$P$5)","v":1739.0413387336309},{"$f":"[1]!PropsSI(\"S\",\"T\",D36+273,\"P\",D37,$P$5)","v":1738.2020202825097},{"$f":"[1]!PropsSI(\"S\",\"T\",E36+273,\"P\",E37,$P$5)","v":1738.6166868392204},{"$f":"[1]!PropsSI(\"S\",\"T\",F36+273,\"P\",F37,$P$5)","v":1736.6360986764914},{"$f":"[1]!PropsSI(\"S\",\"T\",G36+273,\"P\",G37,$P$5)","v":1733.8761567506212},{"$f":"[1]!PropsSI(\"S\",\"T\",H36+273,\"P\",H37,$P$5)","v":1737.4012187509534},{"$f":"[1]!PropsSI(\"S\",\"T\",I36+273,\"P\",I37,$P$5)","v":1737.4012187509534},{"$f":"[1]!PropsSI(\"S\",\"T\",J36+273,\"P\",J37,$P$5)","v":1734.1985400849533},{"$f":"[1]!PropsSI(\"S\",\"T\",K36+273,\"P\",K37,$P$5)","v":1735.2016371935072},{"$f":"[1]!PropsSI(\"S\",\"T\",L36+273,\"P\",L37,$P$5)","v":1737.0143750170776},{"$f":"[1]!PropsSI(\"S\",\"T\",M36+273,\"P\",M37,$P$5)","v":1738.2020202825097}]
["Soğutucu akışkan kondenzasyon faz değişim sıcaklığı",{"$f":"IF(Detaylı!F32=\"Isıtma\",B30+B33,B30+B34)","v":31},{"$f":"IF(Detaylı!G32=\"Isıtma\",C30+C33,C30+C34)","v":30.750221878070235},{"$f":"IF(Detaylı!H32=\"Isıtma\",D30+D33,D30+D34)","v":29.788138924156016},{"$f":"IF(Detaylı!I32=\"Isıtma\",E30+E33,E30+E34)","v":28.553475221794113},{"$f":"IF(Detaylı!J32=\"Isıtma\",F30+F33,F30+F34)","v":27.031986048648623},{"$f":"IF(Detaylı!K32=\"Isıtma\",G30+G33,G30+G34)","v":26.103300267290535},{"$f":"IF(Detaylı!L32=\"Isıtma\",H30+H33,H30+H34)","v":26},{"$f":"IF(Detaylı!M32=\"Isıtma\",I30+I33,I30+I34)","v":25},{"$f":"IF(Detaylı!N32=\"Isıtma\",J30+J33,J30+J34)","v":26.15791675388126},{"$f":"IF(Detaylı!O32=\"Isıtma\",K30+K33,K30+K34)","v":27.235963588254855},{"$f":"IF(Detaylı!P32=\"Isıtma\",L30+L33,L30+L34)","v":29.295230874846755},{"$f":"IF(Detaylı!Q32=\"Isıtma\",M30+M33,M30+M34)","v":30.369713108783216},"C"]
["Soğutucu akışkan kondenzasyon faz değişim basıncı",{"$f":"[1]!PropsSI(\"P\",\"T\",B42+273,\"Q\",1,$P$5)","v":789182.05058070191},{"$f":"[1]!PropsSI(\"P\",\"T\",C42+273,\"Q\",1,$P$5)","v":783566.83661263809},{"$f":"[1]!PropsSI(\"P\",\"T\",D42+273,\"Q\",1,$P$5)","v":762218.9072059074},{"$f":"[1]!PropsSI(\"P\",\"T\",E42+273,\"Q\",1,$P$5)","v":735467.62156010023},{"$f":"[1]!PropsSI(\"P\",\"T\",F42+273,\"Q\",1,$P$5)","v":703481.62640823424},{"$f":"[1]!PropsSI(\"P\",\"T\",G42+273,\"Q\",1,$P$5)","v":684480.47366921557},{"$f":"[1]!PropsSI(\"P\",\"T\",H42+273,\"Q\",1,$P$5)","v":682391.10084120091},{"$f":"[1]!PropsSI(\"P\",\"T\",I42+273,\"Q\",1,$P$5)","v":662412.66942434211},{"$f":"[1]!PropsSI(\"P\",\"T\",J42+273,\"Q\",1,$P$5)","v":685587.10600305477},{"$f":"[1]!PropsSI(\"P\",\"T\",K42+273,\"Q\",1,$P$5)","v":707707.77138943807},{"$f":"[1]!PropsSI(\"P\",\"T\",L42+273,\"Q\",1,$P$5)","v":751452.78293208499},{"$f":"[1]!PropsSI(\"P\",\"T\",M42+273,\"Q\",1,$P$5)","v":775070.54273743695},"Pa"]
["Soğutucu akışkan kondenzasyon sıvı entalpisi",{"$f":"[1]!PropsSI(\"H\",\"P\",B43,\"Q\",0,$P$5)/1000","v":242.95285047383018},{"$f":"[1]!PropsSI(\"H\",\"P\",C43,\"Q\",0,$P$5)/1000","v":242.59094697614674},{"$f":"[1]!PropsSI(\"H\",\"P\",D43,\"Q\",0,$P$5)/1000","v":241.19950873804731},{"$f":"[1]!PropsSI(\"H\",\"P\",E43,\"Q\",0,$P$5)/1000","v":239.41962781905227},{"$f":"[1]!PropsSI(\"H\",\"P\",F43,\"Q\",0,$P$5)/1000","v":237.23500898294427},{"$f":"[1]!PropsSI(\"H\",\"P\",G43,\"Q\",0,$P$5)/1000","v":235.90620717420961},{"$f":"[1]!PropsSI(\"H\",\"P\",H43,\"Q\",0,$P$5)/1000","v":235.75861530311886},{"$f":"[1]!PropsSI(\"H\",\"P\",I43,\"Q\",0,$P$5)/1000","v":234.33204292218576},{"$f":"[1]!PropsSI(\"H\",\"P\",J43,\"Q\",0,$P$5)/1000","v":235.98425859181486},{"$f":"[1]!PropsSI(\"H\",\"P\",K43,\"Q\",0,$P$5)/1000","v":237.52733641945161},{"$f":"[1]!PropsSI(\"H\",\"P\",L43,\"Q\",0,$P$5)/1000","v":240.48816364561728},{"$f":"[1]!PropsSI(\"H\",\"P\",M43,\"Q\",0,$P$5)/1000","v":242.0401488170389},"kj/kg"]
["Soğutucu akışkan kondenzasyon gaz entalpisi",{"$f":"[1]!PropsSI(\"H\",\"P\",B43,\"Q\",1,$P$5)/1000","v":415.22990774097065},{"$f":"[1]!PropsSI(\"H\",\"P\",C43,\"Q\",1,$P$5)/1000","v":415.10936304545925},{"$f":"[1]!PropsSI(\"H\",\"P\",D43,\"Q\",1,$P$5)/1000","v":414.64236685239342},{"$f":"[1]!PropsSI(\"H\",\"P\",E43,\"Q\",1,$P$5)/1000","v":414.03693341078326},{"$f":"[1]!PropsSI(\"H\",\"P\",F43,\"Q\",1,$P$5)/1000","v":413.28166848418505},{"$f":"[1]!PropsSI(\"H\",\"P\",G43,\"Q\",1,$P$5)/1000","v":412.81583709736231},{"$f":"[1]!PropsSI(\"H\",\"P\",H43,\"Q\",1,$P$5)/1000","v":412.76379967170936},{"$f":"[1]!PropsSI(\"H\",\"P\",I43,\"Q\",1,$P$5)/1000","v":412.25779349877496},{"$f":"[1]!PropsSI(\"H\",\"P\",J43,\"Q\",1,$P$5)/1000","v":412.84333229756965},{"$f":"[1]!PropsSI(\"H\",\"P\",K43,\"Q\",1,$P$5)/1000","v":413.38349877170958},{"$f":"[1]!PropsSI(\"H\",\"P\",L43,\"Q\",1,$P$5)/1000","v":414.40147875087945},{"$f":"[1]!PropsSI(\"H\",\"P\",M43,\"Q\",1,$P$5)/1000","v":414.92517114607853},"kj/kg"]
["Subcooling sonrası sıcaklık",{"$f":"B42-B31","v":26},25.750221878070235,24.788138924156016,23.553475221794113,22.031986048648623,21.103300267290535,21,20,21.15791675388126,22.235963588254855,24.295230874846755,25.369713108783216,"C"]
["Subcooling sonrası entalpi",{"$f":"[1]!PropsSI(\"H\",\"T\",B46+273,\"Q\",0,$P$5)/1000","v":235.75861530311795},{"$f":"[1]!PropsSI(\"H\",\"T\",C46+273,\"Q\",0,$P$5)/1000","v":235.40191697366882},{"$f":"[1]!PropsSI(\"H\",\"T\",D46+273,\"Q\",0,$P$5)/1000","v":234.03031434577048},{"$f":"[1]!PropsSI(\"H\",\"T\",E46+273,\"Q\",0,$P$5)/1000","v":232.27540505402655},{"$f":"[1]!PropsSI(\"H\",\"T\",F46+273,\"Q\",0,$P$5)/1000","v":230.12083908833333},{"$f":"[1]!PropsSI(\"H\",\"T\",G46+273,\"Q\",0,$P$5)/1000","v":228.81000469406186},{"$f":"[1]!PropsSI(\"H\",\"T\",H46+273,\"Q\",0,$P$5)/1000","v":228.66439420952528},{"$f":"[1]!PropsSI(\"H\",\"T\",I46+273,\"Q\",0,$P$5)/1000","v":227.25682844461778},{"$f":"[1]!PropsSI(\"H\",\"T\",J46+273,\"Q\",0,$P$5)/1000","v":228.88700714352336},{"$f":"[1]!PropsSI(\"H\",\"T\",K46+273,\"Q\",0,$P$5)/1000","v":230.40918244933252},{"$f":"[1]!PropsSI(\"H\",\"T\",L46+273,\"Q\",0,$P$5)/1000","v":233.3290027811484},{"$f":"[1]!PropsSI(\"H\",\"T\",M46+273,\"Q\",0,$P$5)/1000","v":234.85900413521989},"kj/kg"]
["Expansion sonrası flaşh buhar yüzdesi",{"$f":"(B47-B38)/(B39-B38)","v":0.19891799099386906},{"$f":"(C47-C38)/(C39-C38)","v":0.1220887738581561},0.10147614585193998,9.9045043865349763E-2,5.2745792163023365E-2,-1.4913577414859016E-2,5.9249029786062217E-2,5.1777696208699646E-2,-6.5800926489931293E-3,2.4858737757583148E-2,7.7007059339536721E-2,0.10583660235678675,"%"]
["Expansion sonrası flaşh sıvı yüzdesi",{"$f":"1-B48","v":0.80108200900613091},{"$f":"1-C48","v":0.87791122614184391},0.89852385414806002,0.90095495613465026,0.94725420783697667,1.014913577414859,0.94075097021393783,0.94822230379130035,1.0065800926489932,0.97514126224241682,0.92299294066046333,0.89416339764321329,"%"]
["Evaporatör soğutma kabiliyeti(sadece buharlaşma)",{"$f":"B49*(B39-B38)","v":160.99577251280436},{"$f":"C49*(C39-C38)","v":168.27223893783091},170.76137387945283,171.95892837097463,176.87068344837152,182.4238061969377,177.23326702862821,178.64083279353571,181.82901709131818,178.73138202504961,173.11713860544558,169.93268409000342,"kj/kg"]
["Evaporatör soğutma kabiliyeti superheat dahil",{"$f":"B40-B47","v":165.39580847325635},{"$f":"C40-C47","v":172.94103196607901},175.47885592677784,176.65191081472412,181.6894462385487,187.46311905088217,182.00071406423606,183.40827982914357,186.83928989528584,183.65716641642817,177.91006971284446,174.65016613732843,"kj/kg"]
["Kompresör çıkış sıcaklığı",{"$f":"[1]!PropsSI(\"T\",\"S\",B41,\"P\",B43,$P$5)","v":313.06788944904071},{"$f":"[1]!PropsSI(\"T\",\"S\",C41,\"P\",C43,$P$5)","v":310.98621137445332},{"$f":"[1]!PropsSI(\"T\",\"S\",D41,\"P\",D43,$P$5)","v":309.69378954724868},{"$f":"[1]!PropsSI(\"T\",\"S\",E41,\"P\",E43,$P$5)","v":308.48098741006538},{"$f":"[1]!PropsSI(\"T\",\"S\",F41,\"P\",F43,$P$5)","v":306.23298392351552},{"$f":"[1]!PropsSI(\"T\",\"S\",G41,\"P\",G43,$P$5)","v":304.39299890764067},{"$f":"[1]!PropsSI(\"T\",\"S\",H41,\"P\",H43,$P$5)","v":305.34046172973888},{"$f":"[1]!PropsSI(\"T\",\"S\",I41,\"P\",I43,$P$5)","v":304.25066733996982},{"$f":"[1]!PropsSI(\"T\",\"S\",J41,\"P\",J43,$P$5)","v":304.54918925466529},{"$f":"[1]!PropsSI(\"T\",\"S\",K41,\"P\",K43,$P$5)","v":306.02410063807059},{"$f":"[1]!PropsSI(\"T\",\"S\",L41,\"P\",L43,$P$5)","v":308.8036890497508},{"$f":"[1]!PropsSI(\"T\",\"S\",M41,\"P\",M43,$P$5)","v":310.32309607559688},"K"]
["Kompresör çıkış entalpisi",{"$f":"[1]!PropsSI(\"H\",\"T\",B52,\"P\",B43,$P$5)/1000","v":424.74570065003985},{"$f":"[1]!PropsSI(\"H\",\"T\",C52,\"P\",C43,$P$5)/1000","v":422.71725915710215},{"$f":"[1]!PropsSI(\"H\",\"T\",D52,\"P\",D43,$P$5)/1000","v":421.86471040837074},{"$f":"[1]!PropsSI(\"H\",\"T\",E52,\"P\",E43,$P$5)/1000","v":421.22758435557608},{"$f":"[1]!PropsSI(\"H\",\"T\",F52,\"P\",F43,$P$5)/1000","v":419.66811700008282},{"$f":"[1]!PropsSI(\"H\",\"T\",G52,\"P\",G43,$P$5)/1000","v":418.24270289831509},{"$f":"[1]!PropsSI(\"H\",\"T\",H52,\"P\",H43,$P$5)/1000","v":419.25228053309962},{"$f":"[1]!PropsSI(\"H\",\"T\",I52,\"P\",I43,$P$5)/1000","v":418.61784428834},{"$f":"[1]!PropsSI(\"H\",\"T\",J52,\"P\",J43,$P$5)/1000","v":418.37516187287213},{"$f":"[1]!PropsSI(\"H\",\"T\",K52,\"P\",K43,$P$5)/1000","v":419.35664038800292},{"$f":"[1]!PropsSI(\"H\",\"T\",L52,\"P\",L43,$P$5)/1000","v":421.19311298310674},{"$f":"[1]!PropsSI(\"H\",\"T\",M52,\"P\",M43,$P$5)/1000","v":422.22282103125855},"kj/kg"]
["Basınçlandırma için gereken entalpi %100",{"$f":"B53-B40","v":23.591276873665549},{"$f":"C53-C40","v":14.374310217354321},12.355540135822423,12.300268486825416,7.857831673200792,1.9695791533710576,8.5871722593382742,7.9527360145786474,2.6488648340629197,5.290291522242228,9.9540404891138792,12.71365075871023,"kj/kg"]
["Basınçlandırma için gereken entalpi gerçekleşen",{"$f":"B54/$P$4","v":36.294272113331616},{"$f":"C54/$P$4","v":22.114323411314338},19.008523285880649,18.923489979731411,12.088971804924295,3.0301217744170117,13.211034245135806,12.234978483967149,4.0751766677891075,8.1389100342188119,15.313908444790583,19.559462705708047]
["Sistem Entalpi ihtiyacı",{"$f":"B55/(1-Detaylı!$C$24)","v":40.326969014812903},{"$f":"C55/(1-Detaylı!$C$24)","v":24.571470457015931},{"$f":"D55/(1-Detaylı!$C$24)","v":21.120581428756278},{"$f":"E55/(1-Detaylı!$C$24)","v":21.026099977479344},{"$f":"F55/(1-Detaylı!$C$24)","v":13.432190894360328},{"$f":"G55/(1-Detaylı!$C$24)","v":3.3668019715744575},{"$f":"H55/(1-Detaylı!$C$24)","v":14.678926939039785},{"$f":"I55/(1-Detaylı!$C$24)","v":13.594420537741277},{"$f":"J55/(1-Detaylı!$C$24)","v":4.5279740753212305},{"$f":"K55/(1-Detaylı!$C$24)","v":9.0432333713542352},{"$f":"L55/(1-Detaylı!$C$24)","v":17.015453827545091},{"$f":"M55/(1-Detaylı!$C$24)","v":21.732736339675608}]
["Isı Pompası soğutma COP'si (Sistem)",{"$f":"IF(ABS(B51/B56)>Detaylı!$C$93,Detaylı!$C$93,B51/B56)","v":4.1013696916448934},{"$f":"IF(ABS(C51/C56)>Detaylı!$C$93,Detaylı!$C$93,C51/C56)","v":7.0382858147872414},{"$f":"IF(ABS(D51/D56)>Detaylı!$C$93,Detaylı!$C$93,D51/D56)","v":8.3084292219274953},{"$f":"IF(ABS(E51/E56)>Detaylı!$C$93,Detaylı!$C$93,E51/E56)","v":8.4015538309021949},{"$f":"IF(ABS(F51/F56)>Detaylı!$C$93,Detaylı!$C$93,F51/F56)","v":13},{"$f":"IF(ABS(G51/G56)>Detaylı!$C$93,Detaylı!$C$93,G51/G56)","v":13},{"$f":"IF(ABS(H51/H56)>Detaylı!$C$93,Detaylı!$C$93,H51/H56)","v":12.398775116196713},{"$f":"IF(ABS(I51/I56)>Detaylı!$C$93,Detaylı!$C$93,I51/I56)","v":13},{"$f":"IF(ABS(J51/J56)>Detaylı!$C$93,Detaylı!$C$93,J51/J56)","v":13},{"$f":"IF(ABS(K51/K56)>Detaylı!$C$93,Detaylı!$C$93,K51/K56)","v":13},{"$f":"IF(ABS(L51/L56)>Detaylı!$C$93,Detaylı!$C$93,L51/L56)","v":10.455793393229317},{"$f":"IF(ABS(M51/M56)>Detaylı!$C$93,Detaylı!$C$93,M51/M56)","v":8.0362713377461112},"kW/kW"]
["Isı Pompası ısıtma COP'si",{"$f":"B57+1","v":5.1013696916448934},{"$f":"C57+1","v":8.0382858147872405},9.3084292219274953,9.4015538309021949,14,14,13.398775116196713,14,14,14,11.455793393229317,9.0362713377461112,"kW/kW"]
["Soğutma için gereken güç",{"$f":"IF(B4=\"Isıtma\",B61-B60,Detaylı!F28)","v":80.397421468241831},{"$f":"IF(C4=\"Isıtma\",C61-C60,Detaylı!G28)","v":83.914460555444123},{"$f":"IF(D4=\"Isıtma\",D61-D60,Detaylı!H28)","v":71.229191677857003},{"$f":"IF(E4=\"Isıtma\",E61-E60,Detaylı!I28)","v":52.92514035383914},{"$f":"IF(F4=\"Isıtma\",F61-F60,Detaylı!J28)","v":31.447403133847736},{"$f":"IF(G4=\"Isıtma\",G61-G60,Detaylı!K28)","v":17.074885089020214},{"$f":"IF(H4=\"Isıtma\",H61-H60,Detaylı!L28)","v":0},{"$f":"IF(I4=\"Isıtma\",I61-I60,Detaylı!M28)","v":0},{"$f":"IF(J4=\"Isıtma\",J61-J60,Detaylı!N28)","v":17.920140238638524},{"$f":"IF(K4=\"Isıtma\",K61-K60,Detaylı!O28)","v":34.604198389658478},{"$f":"IF(L4=\"Isıtma\",L61-L60,Detaylı!P28)","v":65.338187503393584},{"$f":"IF(M4=\"Isıtma\",M61-M60,Detaylı!Q28)","v":79.591219901691403},"kW"]
["Kompresör elektrik tüketimi",{"$f":"IF(B4=\"Isıtma\",B61/B58,B59/B57)","v":19.602578531758173},11.922570745726494,8.5731237247432848,6.2994466760627557,2.41903101029598,1.3134526991554012,0,0,1.3784723260491172,2.6618614145891137,6.2489937440523207,9.9039985780288404,"kW"]
["Isıtma gücü",{"$f":"IF(B4=\"Isıtma\",Detaylı!F28,Detaylı!F28/B57*B58)","v":100},{"$f":"IF(C4=\"Isıtma\",Detaylı!G28,Detaylı!G28/C57*C58)","v":95.837031301170612},{"$f":"IF(D4=\"Isıtma\",Detaylı!H28,Detaylı!H28/D57*D58)","v":79.802315402600286},{"$f":"IF(E4=\"Isıtma\",Detaylı!I28,Detaylı!I28/E57*E58)","v":59.224587029901897},{"$f":"IF(F4=\"Isıtma\",Detaylı!J28,Detaylı!J28/F57*F58)","v":33.866434144143717},{"$f":"IF(G4=\"Isıtma\",Detaylı!K28,Detaylı!K28/G57*G58)","v":18.388337788175615},{"$f":"IF(H4=\"Isıtma\",Detaylı!L28,Detaylı!L28/H57*H58)","v":0},{"$f":"IF(I4=\"Isıtma\",Detaylı!M28,Detaylı!M28/I57*I58)","v":0},{"$f":"IF(J4=\"Isıtma\",Detaylı!N28,Detaylı!N28/J57*J58)","v":19.298612564687641},{"$f":"IF(K4=\"Isıtma\",Detaylı!O28,Detaylı!O28/K57*K58)","v":37.26605980424759},{"$f":"IF(L4=\"Isıtma\",Detaylı!P28,Detaylı!P28/L57*L58)","v":71.587181247445912},{"$f":"IF(M4=\"Isıtma\",Detaylı!Q28,Detaylı!Q28/M57*M58)","v":89.495218479720251},"kW"]

{"sheet":"Havadan Havaya","index":5,"n_rows":60,"n_cols":16,"rows_kept":60,"cut":false,"hidden":true,"merged":[]}
["Açıklama","Ocak","Şubat","Mart","Nisan","Mayıs","Haziran","Temmuz","Ağustos","Eylül","Ekim","Kasım","Aralık",null,"Subcooler",5]
["Isı kaynağı ortalama sıcaklık",{"$f":"Detaylı!F30","v":-12.948825999999997},{"$f":"Detaylı!G30","v":-11.378515999999934},{"$f":"Detaylı!H30","v":-5.3300739999999678},{"$f":"Detaylı!I30","v":2.4320340000000442},{"$f":"Detaylı!J30","v":11.997362000000066},{"$f":"Detaylı!K30","v":17.835842000000014},{"$f":"Detaylı!L30","v":21.546194000000014},{"$f":"Detaylı!M30","v":21.481400000000008},{"$f":"Detaylı!N30","v":17.492478000000062},{"$f":"Detaylı!O30","v":10.714992000000052},{"$f":"Detaylı!P30","v":-2.2312500000000455},{"$f":"Detaylı!Q30","v":-8.9863260000000764},null,"Superheat",5]
["Isı aktırımı ortalama sıcaklık",{"$f":"Detaylı!F29","v":27},{"$f":"Detaylı!G29","v":26.750221878070235},{"$f":"Detaylı!H29","v":25.788138924156016},{"$f":"Detaylı!I29","v":24.553475221794113},{"$f":"Detaylı!J29","v":23.031986048648623},{"$f":"Detaylı!K29","v":22.103300267290535},{"$f":"Detaylı!L29","v":21},{"$f":"Detaylı!M29","v":21},{"$f":"Detaylı!N29","v":22.15791675388126},{"$f":"Detaylı!O29","v":23.235963588254855},{"$f":"Detaylı!P29","v":25.295230874846755},{"$f":"Detaylı!Q29","v":26.369713108783216}]
["Isıtma / Soğutma",{"$f":"Detaylı!F32","v":"Isıtma"},{"$f":"Detaylı!G32","v":"Isıtma"},{"$f":"Detaylı!H32","v":"Isıtma"},{"$f":"Detaylı!I32","v":"Isıtma"},{"$f":"Detaylı!J32","v":"Isıtma"},{"$f":"Detaylı!K32","v":"Isıtma"},{"$f":"Detaylı!L32","v":"Kapalı"},{"$f":"Detaylı!M32","v":"Kapalı"},{"$f":"Detaylı!N32","v":"Isıtma"},{"$f":"Detaylı!O32","v":"Isıtma"},{"$f":"Detaylı!P32","v":"Isıtma"},{"$f":"Detaylı!Q32","v":"Isıtma"},null,"Kompresör Verimi",{"$f":"VLOOKUP(Detaylı!H5,Komp_liste,2,)","v":0.65}]
["Kapasite Kullanım",{"$f":"Detaylı!F33","v":1},{"$f":"Detaylı!G33","v":0.95837031301170617},{"$f":"Detaylı!H33","v":0.79802315402600288},{"$f":"Detaylı!I33","v":0.59224587029901898},{"$f":"Detaylı!J33","v":0.3386643414414372},{"$f":"Detaylı!K33","v":0.18388337788175615},{"$f":"Detaylı!L33","v":0},{"$f":"Detaylı!M33","v":0},{"$f":"Detaylı!N33","v":0.19298612564687642},{"$f":"Detaylı!O33","v":0.37266059804247592},{"$f":"Detaylı!P33","v":0.71587181247445908},{"$f":"Detaylı!Q33","v":0.89495218479720251},null,"Gaz",{"$f":"Detaylı!C4","v":"R134a"}]
["Isıtma Kapasitesi",{"$f":"B60","v":100},95.837031301170612,79.802315402600286,59.224587029901897,33.866434144143717,18.388337788175615,0,0,19.298612564687641,37.26605980424759,71.587181247445912,89.495218479720251]
["Soğutma Kapasitesi",{"$f":"B6-B10","v":58.131431286281298},{"$f":"C6-C10","v":56.85108874025115},{"$f":"D6-D10","v":51.094045548188248},41.668085404312123,26.623156133044532,15.427930130242366,0,0,16.130622090608046,28.872260766982595,47.615127216215519,54.733288643031862]
["Kapasite Kullanım kW",{"$f":"IF(B4=\"Isıtma\",B6,B7)","v":100},95.837031301170612,79.802315402600286,59.224587029901897,33.866434144143717,18.388337788175615,0,0,19.298612564687641,37.26605980424759,71.587181247445912,89.495218479720251]
["COP",{"$f":"IF(B8>0,B8/B10,0)","v":2.388426523098075},2.4582458446763367,2.7797674958226661,3.3733706345903283,{"$f":"IF(F8>0,F8/F10,0)","v":4.6755673456477478},{"$f":"IF(G8>0,G8/G10,0)","v":6.2114208287831145},0,0,6.0917520815129711,4.4397131309436535,2.9862764848678935,2.5745181265875905]
["Güç Gereksinimi (kW)",{"$f":"B59","v":41.868568713718702},38.985942560919462,28.708269854412038,17.556501625589771,7.2432780110991857,2.9604076579332483,0,0,3.1679904740795957,8.3937990372649942,23.972054031230392,34.761929836688388]
["Çalışma Saati Günlük",{"$f":"Detaylı!$C$12","v":10},{"$f":"Detaylı!$C$12","v":10},{"$f":"Detaylı!$C$12","v":10},{"$f":"Detaylı!$C$12","v":10},{"$f":"Detaylı!$C$12","v":10},{"$f":"Detaylı!$C$12","v":10},{"$f":"Detaylı!$C$12","v":10},{"$f":"Detaylı!$C$12","v":10},{"$f":"Detaylı!$C$12","v":10},{"$f":"Detaylı!$C$12","v":10},{"$f":"Detaylı!$C$12","v":10},{"$f":"Detaylı!$C$12","v":10}]
["Ayda Kaç Gün",{"$f":"Detaylı!$C$11","v":22},{"$f":"Detaylı!$C$11","v":22},{"$f":"Detaylı!$C$11","v":22},{"$f":"Detaylı!$C$11","v":22},{"$f":"Detaylı!$C$11","v":22},{"$f":"Detaylı!$C$11","v":22},{"$f":"Detaylı!$C$11","v":22},{"$f":"Detaylı!$C$11","v":22},{"$f":"Detaylı!$C$11","v":22},{"$f":"Detaylı!$C$11","v":22},{"$f":"Detaylı!$C$11","v":22},{"$f":"Detaylı!$C$11","v":22}]
["Ayda Kaç Saat",{"$f":"B12*B11","v":220},{"$f":"C12*C11","v":220},220,220,220,220,220,220,220,220,220,220]
["Aylık Toplam Elektrik Tüketimi",{"$f":"B13*B10","v":9211.085117018114},{"$f":"C13*C10","v":8576.9073634022807},6315.8193679706483,3862.4303576297498,1593.5211624418209,651.28968474531462,0,0,696.95790429751105,1846.6357881982988,5273.851886870686,7647.6245640714451]
["Isıtma için Harcanan Enerji",{"$f":"IF(B4=\"Isıtma\",B14,0)","v":9211.085117018114},8576.9073634022807,6315.8193679706483,3862.4303576297498,1593.5211624418209,651.28968474531462,0,0,696.95790429751105,1846.6357881982988,5273.851886870686,7647.6245640714451]
["Toplam Isıtma İçin Harcanan Enerji (kWh)",{"$f":"SUM(B15:M15)","v":45676.12319664588}]
["Soğutma için Harcanan Enerji",{"$f":"IF(B4=\"Soğutma\",B14,0)","v":0},0,0,0,0,0,0,0,0,0,0,0]
["Toplam Soğutma için Harcanan Enerji (kWh)",{"$f":"SUM(B17:M17)","v":0}]
["Yıllık Toplam (kWh)",{"$f":"SUM(B14:M14)","v":45676.12319664588}]
["Aylık Isıtma Kapasitesi",{"$f":"IF(B4=\"Isıtma\",B6*B13,0)","v":22000},21084.146886257535,17556.509388572063,13029.409146578417,{"$f":"IF(F4=\"Isıtma\",F6*F13,0)","v":7450.6155117116177},4045.4343133986354,0,0,4245.6947642312807,8198.5331569344689,15749.179874438101,19688.948065538454]
["Toplam Isıtma Kapasitesi",{"$f":"SUM(B20:M20)","v":133048.47110766059}]
["Aylık Soğutma Kapasitesi",{"$f":"IF(B4=\"Soğutma\",B7*B13,0)","v":0},0,0,0,0,0,0,0,0,0,0,0]
["Toplam Soğutma Kapasitesi",{"$f":"SUM(B22:M22)","v":0}]
[]
["Sütun1","Ocak","Şubat","Mart","Nisan","Mayıs","Haziran","Temmuz","Ağustos","Eylül","Ekim","Kasım","Aralık","Sütun2"]
["Açıklama","Ocak","Şubat","Mart","Nisan","Mayıs","Haziran","Temmuz","Ağustos","Eylül","Ekim","Kasım","Aralık","Birim"]
["Isı Kaynağı Isı Pompası Giriş Sıcaklığı",{"$f":"IF(B4=\"Isıtma\",B2,B3)","v":-12.948825999999997},-11.378515999999934,-5.3300739999999678,2.4320340000000442,11.997362000000066,17.835842000000014,21,21,17.492478000000062,10.714992000000052,-2.2312500000000455,-8.9863260000000764,"C"]
["Isı Kaynağı Isı Pompası Çıkış Sıcaklığı",{"$f":"B27-5","v":-17.948825999999997},-16.378515999999934,-10.330073999999968,-2.5679659999999558,6.9973620000000665,12.835842000000014,16,16,12.492478000000062,5.714992000000052,-7.2312500000000455,-13.986326000000076,"C"]
["Isıtılacak Hava Çıkış Sıcaklığı",{"$f":"IF(B4=\"Isıtma\",B3,B2)","v":27},{"$f":"IF(C4=\"Isıtma\",C3,C2)","v":26.750221878070235},25.788138924156016,24.553475221794113,23.031986048648623,22.103300267290535,21.546194000000014,21.481400000000008,22.15791675388126,23.235963588254855,25.295230874846755,26.369713108783216,"C"]
["Subcooler kaç derece?",{"$f":"$P$1","v":5},5,5,5,5,5,5,5,5,5,5,5,"K"]
["Superheat kaç derece",{"$f":"$P$2","v":5},5,5,5,5,5,5,5,5,5,5,5,"K"]
["Evaporatör Yaklaşım Sıcaklığı",{"$f":"Detaylı!I4","v":5},5,5,5,5,5,5,5,5,5,5,5,"K"]
["Kondenser Yaklaşım Sıcaklığı",{"$f":"Detaylı!I3","v":5},{"$f":"Detaylı!$H$3","v":3},{"$f":"Detaylı!$H$3","v":3},{"$f":"Detaylı!$H$3","v":3},{"$f":"Detaylı!$H$3","v":3},{"$f":"Detaylı!$H$3","v":3},{"$f":"Detaylı!$H$3","v":3},{"$f":"Detaylı!$H$3","v":3},{"$f":"Detaylı!$H$3","v":3},{"$f":"Detaylı!$H$3","v":3},{"$f":"Detaylı!$H$3","v":3},{"$f":"Detaylı!$H$3","v":3},"K"]
["Soğutucu akışkan evap faz değişim sıcaklığı",{"$f":"IF(B4=\"Isıtma\",B28-B32,B28-B33)","v":-22.948825999999997},-21.378515999999934,-15.330073999999968,-7.5679659999999558,1.9973620000000665,7.8358420000000137,{"$f":"IF(H4=\"Isıtma\",H28-H32,H28-H33)","v":13},13,7.4924780000000624,0.71499200000005203,-12.231250000000045,-18.986326000000076,"K"]
["Soğutucu Akışkan evap çıkış sıcaklığı",{"$f":"B34+B31","v":-17.948825999999997},-16.378515999999934,-10.330073999999968,-2.5679659999999558,6.9973620000000665,12.835842000000014,18,18,12.492478000000062,5.714992000000052,-7.2312500000000455,-13.986326000000076,"K"]
["Soğutucu akışkan evap faz değişim basıncı",{"$f":"[1]!PropsSI(\"P\",\"T\",B34+273,\"Q\",1,$P$5)","v":115875.71004200571},{"$f":"[1]!PropsSI(\"P\",\"T\",C34+273,\"Q\",1,$P$5)","v":124193.77775814474},{"$f":"[1]!PropsSI(\"P\",\"T\",D34+273,\"Q\",1,$P$5)","v":160716.61373396788},{"$f":"[1]!PropsSI(\"P\",\"T\",E34+273,\"Q\",1,$P$5)","v":219317.74117734528},{"$f":"[1]!PropsSI(\"P\",\"T\",F34+273,\"Q\",1,$P$5)","v":312911.75486909837},{"$f":"[1]!PropsSI(\"P\",\"T\",G34+273,\"Q\",1,$P$5)","v":383495.45597240794},{"$f":"[1]!PropsSI(\"P\",\"T\",H34+273,\"Q\",1,$P$5)","v":455526.25393902347},{"$f":"[1]!PropsSI(\"P\",\"T\",I34+273,\"Q\",1,$P$5)","v":455526.25393902347},{"$f":"[1]!PropsSI(\"P\",\"T\",J34+273,\"Q\",1,$P$5)","v":379035.65456111624},{"$f":"[1]!PropsSI(\"P\",\"T\",K34+273,\"Q\",1,$P$5)","v":298844.40595527488},{"$f":"[1]!PropsSI(\"P\",\"T\",L34+273,\"Q\",1,$P$5)","v":182423.26633200742},{"$f":"[1]!PropsSI(\"P\",\"T\",M34+273,\"Q\",1,$P$5)","v":137761.19392114691},"kPa"]
["Soğutucu akışkan evap sıvı entalpisi",{"$f":"[1]!PropsSI(\"H\",\"P\",B36,\"Q\",0,$P$5)/1000","v":169.63353493742028},{"$f":"[1]!PropsSI(\"H\",\"P\",C36,\"Q\",0,$P$5)/1000","v":171.65906920778241},{"$f":"[1]!PropsSI(\"H\",\"P\",D36,\"Q\",0,$P$5)/1000","v":179.51085252906381},{"$f":"[1]!PropsSI(\"H\",\"P\",E36,\"Q\",0,$P$5)/1000","v":189.71008987331118},{"$f":"[1]!PropsSI(\"H\",\"P\",F36,\"Q\",0,$P$5)/1000","v":202.48652949434813},{"$f":"[1]!PropsSI(\"H\",\"P\",G36,\"Q\",0,$P$5)/1000","v":210.4089841624789},{"$f":"[1]!PropsSI(\"H\",\"P\",H36,\"Q\",0,$P$5)/1000","v":217.50214250876724},{"$f":"[1]!PropsSI(\"H\",\"P\",I36,\"Q\",0,$P$5)/1000","v":217.50214250876724},{"$f":"[1]!PropsSI(\"H\",\"P\",J36,\"Q\",0,$P$5)/1000","v":209.94028584123484},{"$f":"[1]!PropsSI(\"H\",\"P\",K36,\"Q\",0,$P$5)/1000","v":200.75946534134343},{"$f":"[1]!PropsSI(\"H\",\"P\",L36,\"Q\",0,$P$5)/1000","v":183.56551112074695},{"$f":"[1]!PropsSI(\"H\",\"P\",M36,\"Q\",0,$P$5)/1000","v":174.75487945625034},"kj/kg"]
["Soğutucu akışkan evap gaz entalpisi",{"$f":"[1]!PropsSI(\"H\",\"P\",B36,\"Q\",1,$P$5)/1000","v":384.63317307349655},{"$f":"[1]!PropsSI(\"H\",\"P\",C36,\"Q\",1,$P$5)/1000","v":385.60808703488078},{"$f":"[1]!PropsSI(\"H\",\"P\",D36,\"Q\",1,$P$5)/1000","v":389.3344681341668},{"$f":"[1]!PropsSI(\"H\",\"P\",E36,\"Q\",1,$P$5)/1000","v":394.03703234672491},{"$f":"[1]!PropsSI(\"H\",\"P\",F36,\"Q\",1,$P$5)/1000","v":399.67767107590555},{"$f":"[1]!PropsSI(\"H\",\"P\",G36,\"Q\",1,$P$5)/1000","v":403.01855166462383},{"$f":"[1]!PropsSI(\"H\",\"P\",H36,\"Q\",1,$P$5)/1000","v":405.89766123815349},{"$f":"[1]!PropsSI(\"H\",\"P\",I36,\"Q\",1,$P$5)/1000","v":405.89766123815349},{"$f":"[1]!PropsSI(\"H\",\"P\",J36,\"Q\",1,$P$5)/1000","v":402.82448477856639},{"$f":"[1]!PropsSI(\"H\",\"P\",K36,\"Q\",1,$P$5)/1000","v":398.93281383615431},{"$f":"[1]!PropsSI(\"H\",\"P\",L36,\"Q\",1,$P$5)/1000","v":391.22361183331356},{"$f":"[1]!PropsSI(\"H\",\"P\",M36,\"Q\",1,$P$5)/1000","v":387.08760917329698},"kj/kg"]
["Soğutucu akışkan evap + superheat entalpi",{"$f":"[1]!PropsSI(\"H\",\"T\",273+B35,\"P\",B36,$P$5)/1000","v":388.65603069482728},{"$f":"[1]!PropsSI(\"H\",\"T\",273+C35,\"P\",C36,$P$5)/1000","v":389.65804701019545},{"$f":"[1]!PropsSI(\"H\",\"T\",273+D35,\"P\",D36,$P$5)/1000","v":393.49265867385105},{"$f":"[1]!PropsSI(\"H\",\"T\",273+E35,\"P\",E36,$P$5)/1000","v":398.34386890923173},{"$f":"[1]!PropsSI(\"H\",\"T\",273+F35,\"P\",F36,$P$5)/1000","v":404.18511331965772},{"$f":"[1]!PropsSI(\"H\",\"T\",273+G35,\"P\",G36,$P$5)/1000","v":407.65956413297579},{"$f":"[1]!PropsSI(\"H\",\"T\",273+H35,\"P\",H36,$P$5)/1000","v":410.66510827376135},{"$f":"[1]!PropsSI(\"H\",\"T\",273+I35,\"P\",I36,$P$5)/1000","v":410.66510827376135},{"$f":"[1]!PropsSI(\"H\",\"T\",273+J35,\"P\",J36,$P$5)/1000","v":407.45737977594439},{"$f":"[1]!PropsSI(\"H\",\"T\",273+K35,\"P\",K36,$P$5)/1000","v":403.41211902330588},{"$f":"[1]!PropsSI(\"H\",\"T\",273+L35,\"P\",L36,$P$5)/1000","v":395.43976033571914},{"$f":"[1]!PropsSI(\"H\",\"T\",273+M35,\"P\",M36,$P$5)/1000","v":391.17963020687006},"kj/kg"]
["Soğutucu akışkan evap çıkış entropisi",{"$f":"[1]!PropsSI(\"S\",\"T\",B35+273,\"P\",B36,$P$5)","v":1760.1399155253191},{"$f":"[1]!PropsSI(\"S\",\"T\",C35+273,\"P\",C36,$P$5)","v":1758.6576450733874},{"$f":"[1]!PropsSI(\"S\",\"T\",D35+273,\"P\",D36,$P$5)","v":1753.4626179249635},{"$f":"[1]!PropsSI(\"S\",\"T\",E35+273,\"P\",E36,$P$5)","v":1747.8614333825014},{"$f":"[1]!PropsSI(\"S\",\"T\",F35+273,\"P\",F36,$P$5)","v":1742.3251876709733},{"$f":"[1]!PropsSI(\"S\",\"T\",G35+273,\"P\",G36,$P$5)","v":1739.5487552284746},{"$f":"[1]!PropsSI(\"S\",\"T\",H35+273,\"P\",H36,$P$5)","v":1737.4012187509534},{"$f":"[1]!PropsSI(\"S\",\"T\",I35+273,\"P\",I36,$P$5)","v":1737.4012187509534},{"$f":"[1]!PropsSI(\"S\",\"T\",J35+273,\"P\",J36,$P$5)","v":1739.7011757910007},{"$f":"[1]!PropsSI(\"S\",\"T\",K35+273,\"P\",K36,$P$5)","v":1742.9913926818692},{"$f":"[1]!PropsSI(\"S\",\"T\",L35+273,\"P\",L36,$P$5)","v":1751.0928954619749},{"$f":"[1]!PropsSI(\"S\",\"T\",M35+273,\"P\",M36,$P$5)","v":1756.5082343375589}]
["Soğutucu akışkan kondenser faz değişim sıcaklığı",{"$f":"IF(B4=\"Isıtma\",B29+B32,B29+B31)","v":32},31.750221878070235,30.788138924156016,29.553475221794113,{"$f":"IF(F4=\"Isıtma\",F29+F32,F29+F31)","v":28.031986048648623},27.103300267290535,26.546194000000014,26.481400000000008,27.15791675388126,28.235963588254855,30.295230874846755,31.369713108783216,"C"]
["Soğutucu akışkan kondenser faz değişim basıncı",{"$f":"[1]!PropsSI(\"P\",\"T\",B41+273,\"Q\",1,$P$5)","v":811966.62694894522},{"$f":"[1]!PropsSI(\"P\",\"T\",C41+273,\"Q\",1,$P$5)","v":806229.77957445593},{"$f":"[1]!PropsSI(\"P\",\"T\",D41+273,\"Q\",1,$P$5)","v":784417.30093020073},{"$f":"[1]!PropsSI(\"P\",\"T\",E41+273,\"Q\",1,$P$5)","v":757078.98913026368},{"$f":"[1]!PropsSI(\"P\",\"T\",F41+273,\"Q\",1,$P$5)","v":724383.60541555891},{"$f":"[1]!PropsSI(\"P\",\"T\",G41+273,\"Q\",1,$P$5)","v":704956.99387974676},{"$f":"[1]!PropsSI(\"P\",\"T\",H41+273,\"Q\",1,$P$5)","v":693493.26984247868},{"$f":"[1]!PropsSI(\"P\",\"T\",I41+273,\"Q\",1,$P$5)","v":692169.16923019662},{"$f":"[1]!PropsSI(\"P\",\"T\",J41+273,\"Q\",1,$P$5)","v":706088.49039641942},{"$f":"[1]!PropsSI(\"P\",\"T\",K41+273,\"Q\",1,$P$5)","v":728703.96161821426},{"$f":"[1]!PropsSI(\"P\",\"T\",L41+273,\"Q\",1,$P$5)","v":773415.59344025934},{"$f":"[1]!PropsSI(\"P\",\"T\",M41+273,\"Q\",1,$P$5)","v":797549.00505588192},"Pa"]
["Soğutucu akışkan kondenser sıvı entalpisi",{"$f":"[1]!PropsSI(\"H\",\"P\",B42,\"Q\",0,$P$5)/1000","v":244.4044925342134},{"$f":"[1]!PropsSI(\"H\",\"P\",C42,\"Q\",0,$P$5)/1000","v":244.04149040827164},{"$f":"[1]!PropsSI(\"H\",\"P\",D42,\"Q\",0,$P$5)/1000","v":242.64586748629105},{"$f":"[1]!PropsSI(\"H\",\"P\",E42,\"Q\",0,$P$5)/1000","v":240.8607226265359},{"$f":"[1]!PropsSI(\"H\",\"P\",F42,\"Q\",0,$P$5)/1000","v":238.66977497983461},{"$f":"[1]!PropsSI(\"H\",\"P\",G42,\"Q\",0,$P$5)/1000","v":237.33719264079068},{"$f":"[1]!PropsSI(\"H\",\"P\",H42,\"Q\",0,$P$5)/1000","v":236.53948366733383},{"$f":"[1]!PropsSI(\"H\",\"P\",I42,\"Q\",0,$P$5)/1000","v":236.44678798212027},{"$f":"[1]!PropsSI(\"H\",\"P\",J42,\"Q\",0,$P$5)/1000","v":237.41546470662834},{"$f":"[1]!PropsSI(\"H\",\"P\",K42,\"Q\",0,$P$5)/1000","v":238.96294103134764},{"$f":"[1]!PropsSI(\"H\",\"P\",L42,\"Q\",0,$P$5)/1000","v":241.93240678745482},{"$f":"[1]!PropsSI(\"H\",\"P\",M42,\"Q\",0,$P$5)/1000","v":243.48902833407644},"kj/kg"]
["Soğutucu akışkan kondenser gaz entalpisi",{"$f":"[1]!PropsSI(\"H\",\"P\",B42,\"Q\",1,$P$5)/1000","v":415.70957882301701},{"$f":"[1]!PropsSI(\"H\",\"P\",C42,\"Q\",1,$P$5)/1000","v":415.59021146042789},{"$f":"[1]!PropsSI(\"H\",\"P\",D42,\"Q\",1,$P$5)/1000","v":415.12768075923668},{"$f":"[1]!PropsSI(\"H\",\"P\",E42,\"Q\",1,$P$5)/1000","v":414.52782117471713},{"$f":"[1]!PropsSI(\"H\",\"P\",F42,\"Q\",1,$P$5)/1000","v":413.77919233779681},{"$f":"[1]!PropsSI(\"H\",\"P\",G42,\"Q\",1,$P$5)/1000","v":413.31729022606174},{"$f":"[1]!PropsSI(\"H\",\"P\",H42,\"Q\",1,$P$5)/1000","v":413.03844332580701},{"$f":"[1]!PropsSI(\"H\",\"P\",I42,\"Q\",1,$P$5)/1000","v":413.0059276656616},{"$f":"[1]!PropsSI(\"H\",\"P\",J42,\"Q\",1,$P$5)/1000","v":413.34455682283931},{"$f":"[1]!PropsSI(\"H\",\"P\",K42,\"Q\",1,$P$5)/1000","v":413.88014745783522},{"$f":"[1]!PropsSI(\"H\",\"P\",L42,\"Q\",1,$P$5)/1000","v":414.88903867226821},{"$f":"[1]!PropsSI(\"H\",\"P\",M42,\"Q\",1,$P$5)/1000","v":415.40779874492523},"kj/kg"]
["Subcooling sonrası sıcaklık",{"$f":"B41-B30","v":27},26.750221878070235,25.788138924156016,24.553475221794113,23.031986048648623,22.103300267290535,21.546194000000014,21.481400000000008,22.15791675388126,23.235963588254855,25.295230874846755,26.369713108783216,"C"]
["Subcooling sonrası entalpi",{"$f":"[1]!PropsSI(\"H\",\"T\",B45+273,\"Q\",0,$P$5)/1000","v":237.18918401132589},{"$f":"[1]!PropsSI(\"H\",\"T\",C45+273,\"Q\",0,$P$5)/1000","v":236.83148103764725},{"$f":"[1]!PropsSI(\"H\",\"T\",D45+273,\"Q\",0,$P$5)/1000","v":235.45604881001529},{"$f":"[1]!PropsSI(\"H\",\"T\",E45+273,\"Q\",0,$P$5)/1000","v":233.69631575576472},{"$f":"[1]!PropsSI(\"H\",\"T\",F45+273,\"Q\",0,$P$5)/1000","v":231.53594073377667},{"$f":"[1]!PropsSI(\"H\",\"T\",G45+273,\"Q\",0,$P$5)/1000","v":230.22163140074443},{"$f":"[1]!PropsSI(\"H\",\"T\",H45+273,\"Q\",0,$P$5)/1000","v":229.43474731929192},{"$f":"[1]!PropsSI(\"H\",\"T\",I45+273,\"Q\",0,$P$5)/1000","v":229.34330406030085},{"$f":"[1]!PropsSI(\"H\",\"T\",J45+273,\"Q\",0,$P$5)/1000","v":230.2988367625457},{"$f":"[1]!PropsSI(\"H\",\"T\",K45+273,\"Q\",0,$P$5)/1000","v":231.82505442864709},{"$f":"[1]!PropsSI(\"H\",\"T\",L45+273,\"Q\",0,$P$5)/1000","v":234.75279941391977},{"$f":"[1]!PropsSI(\"H\",\"T\",M45+273,\"Q\",0,$P$5)/1000","v":236.28704602229763},"kj/kg"]
["Expansion sonrası flaşh buhar yüzdesi",{"$f":"(B46-B37)/(B38-B37)","v":0.31421285012186251},{"$f":"(C46-C37)/(C38-C37)","v":0.30461655067065341},0.26662964566506531,0.21527374388317322,0.14731600520408683,0.10286429430897762,6.3338050135177723E-2,6.2852670973253949E-2,0.10554804921021757,0.15675967188956849,0.24649791227756898,0.28979124719982974,"%"]
["Expansion sonrası flaşh sıvı yüzdesi",{"$f":"1-B47","v":0.68578714987813749},{"$f":"1-C47","v":0.69538344932934659},0.73337035433493469,0.78472625611682678,0.85268399479591317,0.89713570569102241,0.93666194986482232,0.93714732902674602,0.89445195078978246,0.84324032811043148,0.75350208772243099,0.71020875280017026,"%"]
["Evaporatör soğutma kabiliyeti(sadece buharlaşma)",{"$f":"B48*(B38-B37)","v":147.44398906217066},{"$f":"C48*(C38-C37)","v":148.77660599723353},153.87841932415151,160.3407165909602,168.14173034212888,172.7969202638794,176.46291391886157,176.55435717785264,172.52564801602068,167.10775940750722,156.47081241939378,150.80056315099935,"kj/kg"]
["Evaporatör soğutma kabiliyeti superheat dahil",{"$f":"B39-B46","v":151.46684668350139},{"$f":"C39-C46","v":152.8265659725482},158.03660986383576,164.64755315346702,172.64917258588105,177.43793273223136,181.23036095446943,181.3218042134605,177.15854301339868,171.58706459465878,160.68696092179937,154.89258418457243,"kj/kg"]
["Kompresör çıkış sıcaklığı",{"$f":"[1]!PropsSI(\"T\",\"S\",B40,\"P\",B42,$P$5)","v":318.77258960788049},{"$f":"[1]!PropsSI(\"T\",\"S\",C40,\"P\",C42,$P$5)","v":318.04601300202125},{"$f":"[1]!PropsSI(\"T\",\"S\",D40,\"P\",D42,$P$5)","v":315.41140850013062},{"$f":"[1]!PropsSI(\"T\",\"S\",E40,\"P\",E42,$P$5)","v":312.36614014443342},{"$f":"[1]!PropsSI(\"T\",\"S\",F40,\"P\",F42,$P$5)","v":309.03686248302034},{"$f":"[1]!PropsSI(\"T\",\"S\",G40,\"P\",G42,$P$5)","v":307.18885742085246},{"$f":"[1]!PropsSI(\"T\",\"S\",H40,\"P\",H42,$P$5)","v":305.93495229817972},{"$f":"[1]!PropsSI(\"T\",\"S\",I40,\"P\",I42,$P$5)","v":305.86445585576683},{"$f":"[1]!PropsSI(\"T\",\"S\",J40,\"P\",J42,$P$5)","v":307.29425145026244},{"$f":"[1]!PropsSI(\"T\",\"S\",K40,\"P\",K42,$P$5)","v":309.45989317413137},{"$f":"[1]!PropsSI(\"T\",\"S\",L40,\"P\",L42,$P$5)","v":314.15387396758052},{"$f":"[1]!PropsSI(\"T\",\"S\",M40,\"P\",M42,$P$5)","v":316.97390355165811},"K"]
["Kompresör çıkış entalpisi %100 verim",{"$f":"[1]!PropsSI(\"H\",\"T\",B51,\"P\",B42,$P$5)/1000","v":430.13843361153749},{"$f":"[1]!PropsSI(\"H\",\"T\",C51,\"P\",C42,$P$5)/1000","v":429.50887320881884},{"$f":"[1]!PropsSI(\"H\",\"T\",D51,\"P\",D42,$P$5)/1000","v":427.25741785827836},{"$f":"[1]!PropsSI(\"H\",\"T\",E51,\"P\",E42,$P$5)/1000","v":424.72290603649128},{"$f":"[1]!PropsSI(\"H\",\"T\",F51,\"P\",F42,$P$5)/1000","v":422.04626010384533},{"$f":"[1]!PropsSI(\"H\",\"T\",G51,\"P\",G42,$P$5)/1000","v":420.60627792526526},{"$f":"[1]!PropsSI(\"H\",\"T\",H51,\"P\",H42,$P$5)/1000","v":419.59699267345582},{"$f":"[1]!PropsSI(\"H\",\"T\",I51,\"P\",I42,$P$5)/1000","v":419.55616696366121},{"$f":"[1]!PropsSI(\"H\",\"T\",J51,\"P\",J42,$P$5)/1000","v":420.68750860044679},{"$f":"[1]!PropsSI(\"H\",\"T\",K51,\"P\",K42,$P$5)/1000","v":422.38055587496257},{"$f":"[1]!PropsSI(\"H\",\"T\",L51,\"P\",L42,$P$5)/1000","v":426.20144802421737},{"$f":"[1]!PropsSI(\"H\",\"T\",M51,\"P\",M42,$P$5)/1000","v":428.58657023609123},"kj/kg"]
["Basınçlandırma için gereken entalpi %100",{"$f":"B52-B39","v":41.482402916710214},39.850826198623395,33.764759184427305,26.379037127259551,17.861146784187611,12.946713792289472,8.9318843996944679,8.8910586898998645,13.230128824502401,18.968436851656691,30.761687688498228,37.406940029221175,"kj/kg"]
["Basınçlandırma için gereken entalpi gerçekleşen",{"$f":"B53/$P$4","v":63.819081410323406},{"$f":"C53/$P$4","v":61.308963382497531},51.945783360657394,40.583134041937768,27.478687360288632,19.91802121890688,13.741360614914566,13.678551830615175,20.35404434538831,29.182210541010292,47.325673366920348,57.549138506494117]
["Sistem Entalpi ihtiyacı",{"$f":"B54/(1-Detaylı!$C$24)","v":70.910090455914897},{"$f":"C54/(1-Detaylı!$C$24)","v":68.121070424997257},{"$f":"D54/(1-Detaylı!$C$24)","v":57.717537067397103},{"$f":"E54/(1-Detaylı!$C$24)","v":45.092371157708634},{"$f":"F54/(1-Detaylı!$C$24)","v":30.531874844765145},{"$f":"G54/(1-Detaylı!$C$24)","v":22.131134687674312},{"$f":"H54/(1-Detaylı!$C$24)","v":15.268178461016184},{"$f":"I54/(1-Detaylı!$C$24)","v":15.19839092290575},{"$f":"J54/(1-Detaylı!$C$24)","v":22.615604828209232},{"$f":"K54/(1-Detaylı!$C$24)","v":32.424678378900325},{"$f":"L54/(1-Detaylı!$C$24)","v":52.584081518800389},{"$f":"M54/(1-Detaylı!$C$24)","v":63.943487229437906}]
["Isı Pompası soğutma COP'si",{"$f":"IF(ABS(B50/B55)*$P$4>Detaylı!$C$93,Detaylı!$C$93,B50/B55*$P$4)","v":1.388426523098075},{"$f":"IF(ABS(C50/C55)*$P$4>Detaylı!$C$93,Detaylı!$C$93,C50/C55*$P$4)","v":1.4582458446763367},{"$f":"IF(ABS(D50/D55)*$P$4>Detaylı!$C$93,Detaylı!$C$93,D50/D55*$P$4)","v":1.7797674958226661},{"$f":"IF(ABS(E50/E55)*$P$4>Detaylı!$C$93,Detaylı!$C$93,E50/E55*$P$4)","v":2.3733706345903283},{"$f":"IF(ABS(F50/F55)*$P$4>Detaylı!$C$93,Detaylı!$C$93,F50/F55*$P$4)","v":3.6755673456477482},{"$f":"IF(ABS(G50/G55)*$P$4>Detaylı!$C$93,Detaylı!$C$93,G50/G55*$P$4)","v":5.2114208287831145},{"$f":"IF(ABS(H50/H55)*$P$4>Detaylı!$C$93,Detaylı!$C$93,H50/H55*$P$4)","v":7.7153758007990225},{"$f":"IF(ABS(I50/I55)*$P$4>Detaylı!$C$93,Detaylı!$C$93,I50/I55*$P$4)","v":7.7547138599469632},{"$f":"IF(ABS(J50/J55)*$P$4>Detaylı!$C$93,Detaylı!$C$93,J50/J55*$P$4)","v":5.0917520815129711},{"$f":"IF(ABS(K50/K55)*$P$4>Detaylı!$C$93,Detaylı!$C$93,K50/K55*$P$4)","v":3.4397131309436531},{"$f":"IF(ABS(L50/L55)*$P$4>Detaylı!$C$93,Detaylı!$C$93,L50/L55*$P$4)","v":1.9862764848678933},{"$f":"IF(ABS(M50/M55)*$P$4>Detaylı!$C$93,Detaylı!$C$93,M50/M55*$P$4)","v":1.5745181265875903},"kW/kW"]
["Isı Pompası ısıtma COP'si",{"$f":"B56+1","v":2.388426523098075},{"$f":"C56+1","v":2.4582458446763367},2.7797674958226661,3.3733706345903283,4.6755673456477478,6.2114208287831145,8.7153758007990234,8.754713859946964,6.0917520815129711,4.4397131309436535,2.9862764848678935,2.5745181265875905,"kW/kW"]
["Soğutma için gereken güç",{"$f":"IF(B4=\"Isıtma\",B60-B59,Detaylı!F28)","v":58.131431286281298},{"$f":"IF(C4=\"Isıtma\",C60-C59,Detaylı!G28)","v":56.85108874025115},{"$f":"IF(D4=\"Isıtma\",D60-D59,Detaylı!H28)","v":51.094045548188248},{"$f":"IF(E4=\"Isıtma\",E60-E59,Detaylı!I28)","v":41.668085404312123},{"$f":"IF(F4=\"Isıtma\",F60-F59,Detaylı!J28)","v":26.623156133044532},{"$f":"IF(G4=\"Isıtma\",G60-G59,Detaylı!K28)","v":15.427930130242366},{"$f":"IF(H4=\"Isıtma\",H60-H59,Detaylı!L28)","v":0},{"$f":"IF(I4=\"Isıtma\",I60-I59,Detaylı!M28)","v":0},{"$f":"IF(J4=\"Isıtma\",J60-J59,Detaylı!N28)","v":16.130622090608046},{"$f":"IF(K4=\"Isıtma\",K60-K59,Detaylı!O28)","v":28.872260766982595},{"$f":"IF(L4=\"Isıtma\",L60-L59,Detaylı!P28)","v":47.615127216215519},{"$f":"IF(M4=\"Isıtma\",M60-M59,Detaylı!Q28)","v":54.733288643031862},"kW"]
["Kompresör elektrik tüketimi",{"$f":"IF(B4=\"Isıtma\",B60/B57,B58/B56)","v":41.868568713718702},38.985942560919462,28.708269854412038,17.556501625589771,7.2432780110991857,2.9604076579332483,0,0,3.1679904740795957,8.3937990372649942,23.972054031230392,34.761929836688388,"kW"]
["Isıtma gücü",{"$f":"IF(B4=\"Isıtma\",Detaylı!F28,Detaylı!F28/B56*B57)","v":100},{"$f":"IF(C4=\"Isıtma\",Detaylı!G28,Detaylı!G28/C56*C57)","v":95.837031301170612},{"$f":"IF(D4=\"Isıtma\",Detaylı!H28,Detaylı!H28/D56*D57)","v":79.802315402600286},{"$f":"IF(E4=\"Isıtma\",Detaylı!I28,Detaylı!I28/E56*E57)","v":59.224587029901897},{"$f":"IF(F4=\"Isıtma\",Detaylı!J28,Detaylı!J28/F56*F57)","v":33.866434144143717},{"$f":"IF(G4=\"Isıtma\",Detaylı!K28,Detaylı!K28/G56*G57)","v":18.388337788175615},{"$f":"IF(H4=\"Isıtma\",Detaylı!L28,Detaylı!L28/H56*H57)","v":0},{"$f":"IF(I4=\"Isıtma\",Detaylı!M28,Detaylı!M28/I56*I57)","v":0},{"$f":"IF(J4=\"Isıtma\",Detaylı!N28,Detaylı!N28/J56*J57)","v":19.298612564687641},{"$f":"IF(K4=\"Isıtma\",Detaylı!O28,Detaylı!O28/K56*K57)","v":37.26605980424759},{"$f":"IF(L4=\"Isıtma\",Detaylı!P28,Detaylı!P28/L56*L57)","v":71.587181247445912},{"$f":"IF(M4=\"Isıtma\",Detaylı!Q28,Detaylı!Q28/M56*M57)","v":89.495218479720251},"kW"]

{"sheet":"Topraktan Havaya","index":6,"n_rows":62,"n_cols":16,"rows_kept":62,"cut":false,"hidden":true,"merged":[[25,3,25,5]]}
["Sütun1","Ocak","Şubat","Mart","Nisan","Mayıs","Haziran","Temmuz","Ağustos","Eylül","Ekim","Kasım","Aralık",null,"Subcooler",5]
["Isı kaynağı ortalama sıcaklık",{"$f":"Veriler!Z84","v":6.2231108077817243},{"$f":"Veriler!AA84","v":5.1355418913451754},{"$f":"Veriler!AB84","v":5.4886291482180658},{"$f":"Veriler!AC84","v":7.1585690668729116},{"$f":"Veriler!AD84","v":9.7098058782172174},{"$f":"Veriler!AE84","v":12.476922881273349},{"$f":"Veriler!AF84","v":14.738197239805453},{"$f":"Veriler!AG84","v":15.903840613911489},{"$f":"Veriler!AH84","v":15.669828475148966},{"$f":"Veriler!AI84","v":14.097196155350536},{"$f":"Veriler!AJ84","v":11.596119536832539},{"$f":"Veriler!AK84","v":8.8189324778186649},null,"Superheat",5]
["Isı aktırımı ortalama sıcaklık",{"$f":"Detaylı!F10","v":27},{"$f":"Detaylı!G10","v":26.750221878070235},{"$f":"Detaylı!H10","v":25.788138924156016},{"$f":"Detaylı!I10","v":24.553475221794113},{"$f":"Detaylı!J10","v":23.031986048648623},{"$f":"Detaylı!K10","v":22.103300267290535},{"$f":"Detaylı!L10","v":21},{"$f":"Detaylı!M10","v":21},{"$f":"Detaylı!N10","v":22.15791675388126},{"$f":"Detaylı!O10","v":23.235963588254855},{"$f":"Detaylı!P10","v":25.295230874846755},{"$f":"Detaylı!Q10","v":26.369713108783216}]
["Isıtma / Soğutma",{"$f":"IF(Detaylı!F30<Detaylı!F29,\"Isıtma\",\"Soğutma\")","v":"Isıtma"},{"$f":"IF(Detaylı!G30<Detaylı!G29,\"Isıtma\",\"Soğutma\")","v":"Isıtma"},{"$f":"IF(Detaylı!H30<Detaylı!H29,\"Isıtma\",\"Soğutma\")","v":"Isıtma"},{"$f":"IF(Detaylı!I30<Detaylı!I29,\"Isıtma\",\"Soğutma\")","v":"Isıtma"},{"$f":"IF(Detaylı!J30<Detaylı!J29,\"Isıtma\",\"Soğutma\")","v":"Isıtma"},{"$f":"IF(Detaylı!K30<Detaylı!K29,\"Isıtma\",\"Soğutma\")","v":"Isıtma"},{"$f":"IF(Detaylı!L30<Detaylı!L29,\"Isıtma\",\"Soğutma\")","v":"Soğutma"},{"$f":"IF(Detaylı!M30<Detaylı!M29,\"Isıtma\",\"Soğutma\")","v":"Soğutma"},{"$f":"IF(Detaylı!N30<Detaylı!N29,\"Isıtma\",\"Soğutma\")","v":"Isıtma"},{"$f":"IF(Detaylı!O30<Detaylı!O29,\"Isıtma\",\"Soğutma\")","v":"Isıtma"},{"$f":"IF(Detaylı!P30<Detaylı!P29,\"Isıtma\",\"Soğutma\")","v":"Isıtma"},{"$f":"IF(Detaylı!Q30<Detaylı!Q29,\"Isıtma\",\"Soğutma\")","v":"Isıtma"},null,"kompresör verimi",{"$f":"VLOOKUP(Detaylı!H5,Komp_liste,2,)","v":0.65}]
["Kapasite Kullanım %",{"$f":"Detaylı!F33","v":1},{"$f":"Detaylı!G33","v":0.95837031301170617},{"$f":"Detaylı!H33","v":0.79802315402600288},{"$f":"Detaylı!I33","v":0.59224587029901898},{"$f":"Detaylı!J33","v":0.3386643414414372},{"$f":"Detaylı!K33","v":0.18388337788175615},{"$f":"Detaylı!L33","v":0},{"$f":"Detaylı!M33","v":0},{"$f":"Detaylı!N33","v":0.19298612564687642},{"$f":"Detaylı!O33","v":0.37266059804247592},{"$f":"Detaylı!P33","v":0.71587181247445908},{"$f":"Detaylı!Q33","v":0.89495218479720251},null,"Gaz",{"$f":"Detaylı!C4","v":"R134a"}]
["Isıtma Kapasitesi",{"$f":"B62","v":100},95.837031301170612,79.802315402600286,59.224587029901897,33.866434144143717,18.388337788175615,0,0,19.298612564687641,37.26605980424759,71.587181247445912,89.495218479720251]
["Soğutma Kapasitesi",{"$f":"B60","v":79.35217285747089},75.566494963183203,63.510557394919289,48.118914116611677,28.309769358013487,15.765766941088142,0,0,16.902542118668972,32.071491421623953,59.740016668281228,72.693141187360141]
["Kapasite Kullanım kW",{"$f":"IF(B4=\"Isıtma\",B6,B7)","v":100},{"$f":"IF(C4=\"Isıtma\",C6,C7)","v":95.837031301170612},79.802315402600286,59.224587029901897,33.866434144143717,18.388337788175615,0,0,19.298612564687641,37.26605980424759,71.587181247445912,89.495218479720251]
["COP",{"$f":"IF(B8>0,B8/B10,0)","v":4.8431246207997454},4.7278981524317159,4.898324377576456,5.3328229178285564,{"$f":"IF(F8>0,F8/F10,0)","v":6.0947412607426621},{"$f":"IF(G8>0,G8/G10,0)","v":7.011569509589032},0,0,8.0542759486702025,7.1740435507416489,6.0425581808278874,5.3264377328161467]
["Güç Gereksinimi (kW)",{"$f":"B61","v":20.647827142529113},20.270536337987405,16.291758007681,11.105672913290217,5.5566647861302307,2.6225708470874745,0,0,2.3960704460186677,5.194568382623638,11.84716457916468,16.80207729236011]
["Çalışma Saati Günlük",{"$f":"Detaylı!$C$12","v":10},{"$f":"Detaylı!$C$12","v":10},{"$f":"Detaylı!$C$12","v":10},{"$f":"Detaylı!$C$12","v":10},{"$f":"Detaylı!$C$12","v":10},{"$f":"Detaylı!$C$12","v":10},{"$f":"Detaylı!$C$12","v":10},{"$f":"Detaylı!$C$12","v":10},{"$f":"Detaylı!$C$12","v":10},{"$f":"Detaylı!$C$12","v":10},{"$f":"Detaylı!$C$12","v":10},{"$f":"Detaylı!$C$12","v":10}]
["Ayda Kaç Gün",{"$f":"Detaylı!$C$11","v":22},{"$f":"Detaylı!$C$11","v":22},{"$f":"Detaylı!$C$11","v":22},{"$f":"Detaylı!$C$11","v":22},{"$f":"Detaylı!$C$11","v":22},{"$f":"Detaylı!$C$11","v":22},{"$f":"Detaylı!$C$11","v":22},{"$f":"Detaylı!$C$11","v":22},{"$f":"Detaylı!$C$11","v":22},{"$f":"Detaylı!$C$11","v":22},{"$f":"Detaylı!$C$11","v":22},{"$f":"Detaylı!$C$11","v":22}]
["Ayda Kaç Saat",{"$f":"B12*B11","v":220},{"$f":"C12*C11","v":220},220,220,220,220,220,220,220,220,220,220]
["Aylık Toplam Elektrik Tüketimi",{"$f":"B13*B10","v":4542.5219713564047},{"$f":"C13*C10","v":4459.5179943572293},3584.1867616898203,2443.2480409238478,1222.4662529486507,576.96558635924441,0,0,527.1354981241069,1142.8050441772004,2606.3762074162296,3696.4570043192243]
["Isıtma için Harcanan Enerji",{"$f":"IF(B4=\"Isıtma\",B14,0)","v":4542.5219713564047},{"$f":"IF(C4=\"Isıtma\",C14,0)","v":4459.5179943572293},3584.1867616898203,2443.2480409238478,1222.4662529486507,576.96558635924441,0,0,527.1354981241069,1142.8050441772004,2606.3762074162296,3696.4570043192243]
["Toplam Isıtma İçin Harcanan Enerji (kWh)",{"$f":"SUM(B15:M15)","v":24801.680361671955}]
["Soğutma için Harcanan Enerji",{"$f":"IF(B4=\"Soğutma\",B14,0)","v":0},{"$f":"IF(C4=\"Soğutma\",C14,0)","v":0},0,0,0,0,0,0,0,0,0,0]
["Toplam Soğutma için Harcanan Enerji (kWh)",{"$f":"SUM(B17:M17)","v":0}]
["Yıllık Toplam (kWh)",{"$f":"SUM(B14:M14)","v":24801.680361671955}]
["Aylık Isıtma Kapasitesi",{"$f":"IF(B4=\"Isıtma\",B6*B13,0)","v":22000},21084.146886257535,17556.509388572063,13029.409146578417,7450.6155117116177,4045.4343133986354,0,0,4245.6947642312807,8198.5331569344689,15749.179874438101,19688.948065538454]
["Toplam Isıtma Kapasitesi",{"$f":"SUM(B20:M20)","v":133048.47110766059}]
["Aylık Soğutma Kapasitesi",{"$f":"IF(B4=\"Soğutma\",B7*B13,0)","v":0},{"$f":"IF(C4=\"Soğutma\",C7*C13,0)","v":0},0,0,0,0,0,0,0,0,0,0]
["Toplam Soğutma Kapasitesi",{"$f":"SUM(B22:M22)","v":0}]
[]
[]
[]
["Sütun1","Ocak","Şubat","Mart","Nisan","Mayıs","Haziran","Temmuz","Ağustos","Eylül","Ekim","Kasım","Aralık","Sütun2"]
["Açıklama","Ocak","Şubat","Mart","Nisan","Mayıs","Haziran","Temmuz","Ağustos","Eylül","Ekim","Kasım","Aralık","Birim"]
["Isı Kaynağı Isı Pompası Giriş Sıcaklığı",{"$f":"IF(B4=\"Isıtma\",B2,B3)","v":6.2231108077817243},5.1355418913451754,5.4886291482180658,7.1585690668729116,9.7098058782172174,12.476922881273349,21,21,15.669828475148966,14.097196155350536,11.596119536832539,8.8189324778186649,"C"]
["Isı Kaynağı Isı Pompası Çıkış Sıcaklığı",{"$f":"B29-Detaylı!$O$4","v":1.2231108077817243},{"$f":"C29-Detaylı!$O$4","v":0.13554189134517536},{"$f":"D29-Detaylı!$O$4","v":0.4886291482180658},{"$f":"E29-Detaylı!$O$4","v":2.1585690668729116},{"$f":"F29-Detaylı!$O$4","v":4.7098058782172174},{"$f":"G29-Detaylı!$O$4","v":7.4769228812733495},{"$f":"H29-Detaylı!$O$4","v":16},{"$f":"I29-Detaylı!$O$4","v":16},{"$f":"J29-Detaylı!$O$4","v":10.669828475148966},{"$f":"K29-Detaylı!$O$4","v":9.0971961553505363},{"$f":"L29-Detaylı!$O$4","v":6.5961195368325392},{"$f":"M29-Detaylı!$O$4","v":3.8189324778186649},"C"]
["Isıtılacak Hava Çıkış Sıcaklığı",{"$f":"IF(B4=\"Isıtma\",B3,B2)","v":27},26.750221878070235,25.788138924156016,24.553475221794113,23.031986048648623,22.103300267290535,{"$f":"IF(H4=\"Isıtma\",H3,H2)","v":14.738197239805453},15.903840613911489,22.15791675388126,23.235963588254855,25.295230874846755,26.369713108783216,"C"]
["Subcooler kaç derece?",{"$f":"$P$1","v":5},{"$f":"$P$1","v":5},5,5,5,5,5,5,5,5,5,5,"K"]
["Superheat kaç derece",{"$f":"$P$2","v":5},{"$f":"$P$2","v":5},5,5,5,5,5,5,5,5,5,5,"K"]
["Evaporatör Yaklaşım Sıcaklığı",{"$f":"Detaylı!$J$4","v":6},{"$f":"Detaylı!$J$4","v":6},{"$f":"Detaylı!$J$4","v":6},{"$f":"Detaylı!$J$4","v":6},{"$f":"Detaylı!$J$4","v":6},{"$f":"Detaylı!$J$4","v":6},{"$f":"Detaylı!$J$4","v":6},{"$f":"Detaylı!$J$4","v":6},{"$f":"Detaylı!$J$4","v":6},{"$f":"Detaylı!$J$4","v":6},{"$f":"Detaylı!$J$4","v":6},{"$f":"Detaylı!$J$4","v":6},"Önerilen değer"]
["Kondenser Yaklaşım Sıcaklığı",{"$f":"Detaylı!$J$3","v":4},{"$f":"Detaylı!$J$3","v":4},{"$f":"Detaylı!$J$3","v":4},{"$f":"Detaylı!$J$3","v":4},{"$f":"Detaylı!$J$3","v":4},{"$f":"Detaylı!$J$3","v":4},{"$f":"Detaylı!$J$3","v":4},{"$f":"Detaylı!$J$3","v":4},{"$f":"Detaylı!$J$3","v":4},{"$f":"Detaylı!$J$3","v":4},{"$f":"Detaylı!$J$3","v":4},{"$f":"Detaylı!$J$3","v":4},"Önerilen değer"]
["Soğutucu akışkan evap faz değişim sıcaklığı",{"$f":"IF(B4=\"Isıtma\",B30-B34,B30-B35)","v":-4.7768891922182757},{"$f":"IF(C4=\"Isıtma\",C30-C34,C30-C35)","v":-5.8644581086548246},-5.5113708517819342,-3.8414309331270884,-1.2901941217827826,1.4769228812733495,12,12,4.6698284751489663,3.0971961553505363,0.59611953683253915,-2.1810675221813351,"C"]
["Soğutucu Akışkan evap çıkış sıcaklığı",{"$f":"B36+B33","v":0.22311080778172432},-0.86445810865482464,-0.5113708517819342,1.1585690668729116,3.7098058782172174,6.4769228812733495,17,17,9.6698284751489663,8.0971961553505363,5.5961195368325392,2.8189324778186649,"C"]
["Soğutucu akışkan evap faz değişim basıncı",{"$f":"[1]!PropsSI(\"P\",\"T\",B36+273,\"Q\",1,$P$5)","v":244015.56180027669},{"$f":"[1]!PropsSI(\"P\",\"T\",C36+273,\"Q\",1,$P$5)","v":234148.77173024294},{"$f":"[1]!PropsSI(\"P\",\"T\",D36+273,\"Q\",1,$P$5)","v":237317.61020441051},{"$f":"[1]!PropsSI(\"P\",\"T\",E36+273,\"Q\",1,$P$5)","v":252756.79595787919},{"$f":"[1]!PropsSI(\"P\",\"T\",F36+273,\"Q\",1,$P$5)","v":277828.45069529692},{"$f":"[1]!PropsSI(\"P\",\"T\",G36+273,\"Q\",1,$P$5)","v":307142.64832727722},{"$f":"[1]!PropsSI(\"P\",\"T\",H36+273,\"Q\",1,$P$5)","v":440834.02139955107},{"$f":"[1]!PropsSI(\"P\",\"T\",I36+273,\"Q\",1,$P$5)","v":440834.02139955107},{"$f":"[1]!PropsSI(\"P\",\"T\",J36+273,\"Q\",1,$P$5)","v":343858.50853492471},{"$f":"[1]!PropsSI(\"P\",\"T\",K36+273,\"Q\",1,$P$5)","v":325377.02769546205},{"$f":"[1]!PropsSI(\"P\",\"T\",L36+273,\"Q\",1,$P$5)","v":297565.46257485083},{"$f":"[1]!PropsSI(\"P\",\"T\",M36+273,\"Q\",1,$P$5)","v":268865.31194672256},"kPa"]
["Soğutucu akışkan evap sıvı entalpisi",{"$f":"[1]!PropsSI(\"H\",\"P\",B38,\"Q\",0,$P$5)/1000","v":193.41343339953201},{"$f":"[1]!PropsSI(\"H\",\"P\",C38,\"Q\",0,$P$5)/1000","v":191.9680470790766},{"$f":"[1]!PropsSI(\"H\",\"P\",D38,\"Q\",0,$P$5)/1000","v":192.43697155334891},{"$f":"[1]!PropsSI(\"H\",\"P\",E38,\"Q\",0,$P$5)/1000","v":194.65909416229752},{"$f":"[1]!PropsSI(\"H\",\"P\",F38,\"Q\",0,$P$5)/1000","v":198.06797264982401},{"$f":"[1]!PropsSI(\"H\",\"P\",G38,\"Q\",0,$P$5)/1000","v":201.78506463150003},{"$f":"[1]!PropsSI(\"H\",\"P\",H38,\"Q\",0,$P$5)/1000","v":216.12202848615689},{"$f":"[1]!PropsSI(\"H\",\"P\",I38,\"Q\",0,$P$5)/1000","v":216.12202848615689},{"$f":"[1]!PropsSI(\"H\",\"P\",J38,\"Q\",0,$P$5)/1000","v":206.10061446605363},{"$f":"[1]!PropsSI(\"H\",\"P\",K38,\"Q\",0,$P$5)/1000","v":203.9714206792178},{"$f":"[1]!PropsSI(\"H\",\"P\",L38,\"Q\",0,$P$5)/1000","v":200.59960116198994},{"$f":"[1]!PropsSI(\"H\",\"P\",M38,\"Q\",0,$P$5)/1000","v":196.8756609012643},"kj/kg"]
["Soğutucu akışkan evap gaz entalpisi",{"$f":"[1]!PropsSI(\"H\",\"P\",B38,\"Q\",1,$P$5)/1000","v":395.70220960891635},{"$f":"[1]!PropsSI(\"H\",\"P\",C38,\"Q\",1,$P$5)/1000","v":395.05512217637227},{"$f":"[1]!PropsSI(\"H\",\"P\",D38,\"Q\",1,$P$5)/1000","v":395.2654553392527},{"$f":"[1]!PropsSI(\"H\",\"P\",E38,\"Q\",1,$P$5)/1000","v":396.25693149166744},{"$f":"[1]!PropsSI(\"H\",\"P\",F38,\"Q\",1,$P$5)/1000","v":397.76069794929037},{"$f":"[1]!PropsSI(\"H\",\"P\",G38,\"Q\",1,$P$5)/1000","v":399.37583318579158},{"$f":"[1]!PropsSI(\"H\",\"P\",H38,\"Q\",1,$P$5)/1000","v":405.3461535766391},{"$f":"[1]!PropsSI(\"H\",\"P\",I38,\"Q\",1,$P$5)/1000","v":405.3461535766391},{"$f":"[1]!PropsSI(\"H\",\"P\",J38,\"Q\",1,$P$5)/1000","v":401.21747948565735},{"$f":"[1]!PropsSI(\"H\",\"P\",K38,\"Q\",1,$P$5)/1000","v":400.31344939843802},{"$f":"[1]!PropsSI(\"H\",\"P\",L38,\"Q\",1,$P$5)/1000","v":398.86357719401138},{"$f":"[1]!PropsSI(\"H\",\"P\",M38,\"Q\",1,$P$5)/1000","v":397.23714100550097},"kj/kg"]
["Soğutucu akışkan evap + superheat entalpi",{"$f":"[1]!PropsSI(\"H\",\"T\",273+B37,\"P\",B38,$P$5)/1000","v":400.06545339393023},{"$f":"[1]!PropsSI(\"H\",\"T\",273+C37,\"P\",C38,$P$5)/1000","v":399.39618900007025},{"$f":"[1]!PropsSI(\"H\",\"T\",273+D37,\"P\",D38,$P$5)/1000","v":399.61369407285463},{"$f":"[1]!PropsSI(\"H\",\"T\",273+E37,\"P\",E38,$P$5)/1000","v":400.63945717152671},{"$f":"[1]!PropsSI(\"H\",\"T\",273+F37,\"P\",F38,$P$5)/1000","v":402.19681292370768},{"$f":"[1]!PropsSI(\"H\",\"T\",273+G37,\"P\",G38,$P$5)/1000","v":403.87180670803747},{"$f":"[1]!PropsSI(\"H\",\"T\",273+H37,\"P\",H38,$P$5)/1000","v":410.08845411434254},{"$f":"[1]!PropsSI(\"H\",\"T\",273+I37,\"P\",I38,$P$5)/1000","v":410.08845411434254},{"$f":"[1]!PropsSI(\"H\",\"T\",273+J37,\"P\",J38,$P$5)/1000","v":405.78491325514591},{"$f":"[1]!PropsSI(\"H\",\"T\",273+K37,\"P\",K38,$P$5)/1000","v":404.8453550155329},{"$f":"[1]!PropsSI(\"H\",\"T\",273+L37,\"P\",L38,$P$5)/1000","v":403.3402948143999},{"$f":"[1]!PropsSI(\"H\",\"T\",273+M37,\"P\",M38,$P$5)/1000","v":401.65437322400294},"kj/kg"]
["Soğutucu akışkan evap çıkış entropisi",{"$f":"[1]!PropsSI(\"S\",\"T\",B37+273,\"P\",B38,$P$5)","v":1746.1038885403032},{"$f":"[1]!PropsSI(\"S\",\"T\",C37+273,\"P\",C38,$P$5)","v":1746.7738327791642},{"$f":"[1]!PropsSI(\"S\",\"T\",D37+273,\"P\",D38,$P$5)","v":1746.5542812678982},{"$f":"[1]!PropsSI(\"S\",\"T\",E37+273,\"P\",E38,$P$5)","v":1745.5423848187847},{"$f":"[1]!PropsSI(\"S\",\"T\",F37+273,\"P\",F38,$P$5)","v":1744.0775885205951},{"$f":"[1]!PropsSI(\"S\",\"T\",G37+273,\"P\",G38,$P$5)","v":1742.5929555680887},{"$f":"[1]!PropsSI(\"S\",\"T\",H37+273,\"P\",H38,$P$5)","v":1737.7969825888451},{"$f":"[1]!PropsSI(\"S\",\"T\",I37+273,\"P\",I38,$P$5)","v":1737.7969825888451},{"$f":"[1]!PropsSI(\"S\",\"T\",J37+273,\"P\",J38,$P$5)","v":1741.0041492105709},{"$f":"[1]!PropsSI(\"S\",\"T\",K37+273,\"P\",K38,$P$5)","v":1741.7707620069575},{"$f":"[1]!PropsSI(\"S\",\"T\",L37+273,\"P\",L38,$P$5)","v":1743.0542520922504},{"$f":"[1]!PropsSI(\"S\",\"T\",M37+273,\"P\",M38,$P$5)","v":1744.5782688244194}]
["Soğutucu akışkan kondenser faz değişim sıcaklığı",{"$f":"IF(B4=\"Isıtma\",B31+B35,B31+B34)","v":31},30.750221878070235,29.788138924156016,28.553475221794113,27.031986048648623,26.103300267290535,{"$f":"IF(H4=\"Isıtma\",H31+H35,H31+H34)","v":20.738197239805451},21.903840613911491,26.15791675388126,27.235963588254855,29.295230874846755,30.369713108783216,"C"]
["Soğutucu akışkan kondenser faz değişim basıncı",{"$f":"[1]!PropsSI(\"P\",\"T\",B43+273,\"Q\",1,$P$5)","v":789182.05058070191},{"$f":"[1]!PropsSI(\"P\",\"T\",C43+273,\"Q\",1,$P$5)","v":783566.83661263809},{"$f":"[1]!PropsSI(\"P\",\"T\",D43+273,\"Q\",1,$P$5)","v":762218.9072059074},{"$f":"[1]!PropsSI(\"P\",\"T\",E43+273,\"Q\",1,$P$5)","v":735467.62156010023},{"$f":"[1]!PropsSI(\"P\",\"T\",F43+273,\"Q\",1,$P$5)","v":703481.62640823424},{"$f":"[1]!PropsSI(\"P\",\"T\",G43+273,\"Q\",1,$P$5)","v":684480.47366921557},{"$f":"[1]!PropsSI(\"P\",\"T\",H43+273,\"Q\",1,$P$5)","v":582174.73664319934},{"$f":"[1]!PropsSI(\"P\",\"T\",I43+273,\"Q\",1,$P$5)","v":603346.82435568317},{"$f":"[1]!PropsSI(\"P\",\"T\",J43+273,\"Q\",1,$P$5)","v":685587.10600305477},{"$f":"[1]!PropsSI(\"P\",\"T\",K43+273,\"Q\",1,$P$5)","v":707707.77138943807},{"$f":"[1]!PropsSI(\"P\",\"T\",L43+273,\"Q\",1,$P$5)","v":751452.78293208499},{"$f":"[1]!PropsSI(\"P\",\"T\",M43+273,\"Q\",1,$P$5)","v":775070.54273743695},"Pa"]
["Soğutucu akışkan kondenser sıvı entalpisi",{"$f":"[1]!PropsSI(\"H\",\"P\",B44,\"Q\",0,$P$5)/1000","v":242.95285047383018},{"$f":"[1]!PropsSI(\"H\",\"P\",C44,\"Q\",0,$P$5)/1000","v":242.59094697614674},{"$f":"[1]!PropsSI(\"H\",\"P\",D44,\"Q\",0,$P$5)/1000","v":241.19950873804731},{"$f":"[1]!PropsSI(\"H\",\"P\",E44,\"Q\",0,$P$5)/1000","v":239.41962781905227},{"$f":"[1]!PropsSI(\"H\",\"P\",F44,\"Q\",0,$P$5)/1000","v":237.23500898294427},{"$f":"[1]!PropsSI(\"H\",\"P\",G44,\"Q\",0,$P$5)/1000","v":235.90620717420961},{"$f":"[1]!PropsSI(\"H\",\"P\",H44,\"Q\",0,$P$5)/1000","v":228.29553663162352},{"$f":"[1]!PropsSI(\"H\",\"P\",I44,\"Q\",0,$P$5)/1000","v":229.93977186395381},{"$f":"[1]!PropsSI(\"H\",\"P\",J44,\"Q\",0,$P$5)/1000","v":235.98425859181486},{"$f":"[1]!PropsSI(\"H\",\"P\",K44,\"Q\",0,$P$5)/1000","v":237.52733641945161},{"$f":"[1]!PropsSI(\"H\",\"P\",L44,\"Q\",0,$P$5)/1000","v":240.48816364561728},{"$f":"[1]!PropsSI(\"H\",\"P\",M44,\"Q\",0,$P$5)/1000","v":242.0401488170389},"kj/kg"]
["Soğutucu akışkan kondenser gaz entalpisi",{"$f":"[1]!PropsSI(\"H\",\"P\",B44,\"Q\",1,$P$5)/1000","v":415.22990774097065},{"$f":"[1]!PropsSI(\"H\",\"P\",C44,\"Q\",1,$P$5)/1000","v":415.10936304545925},{"$f":"[1]!PropsSI(\"H\",\"P\",D44,\"Q\",1,$P$5)/1000","v":414.64236685239342},{"$f":"[1]!PropsSI(\"H\",\"P\",E44,\"Q\",1,$P$5)/1000","v":414.03693341078326},{"$f":"[1]!PropsSI(\"H\",\"P\",F44,\"Q\",1,$P$5)/1000","v":413.28166848418505},{"$f":"[1]!PropsSI(\"H\",\"P\",G44,\"Q\",1,$P$5)/1000","v":412.81583709736231},{"$f":"[1]!PropsSI(\"H\",\"P\",H44,\"Q\",1,$P$5)/1000","v":410.05735137835381},{"$f":"[1]!PropsSI(\"H\",\"P\",I44,\"Q\",1,$P$5)/1000","v":410.66603557180315},{"$f":"[1]!PropsSI(\"H\",\"P\",J44,\"Q\",1,$P$5)/1000","v":412.84333229756965},{"$f":"[1]!PropsSI(\"H\",\"P\",K44,\"Q\",1,$P$5)/1000","v":413.38349877170958},{"$f":"[1]!PropsSI(\"H\",\"P\",L44,\"Q\",1,$P$5)/1000","v":414.40147875087945},{"$f":"[1]!PropsSI(\"H\",\"P\",M44,\"Q\",1,$P$5)/1000","v":414.92517114607853},"kj/kg"]
["Subcooling sonrası sıcaklık",{"$f":"B43-B32","v":26},25.750221878070235,24.788138924156016,23.553475221794113,22.031986048648623,21.103300267290535,15.738197239805451,16.903840613911491,21.15791675388126,22.235963588254855,24.295230874846755,25.369713108783216,"C"]
["Subcooling sonrası entalpi",{"$f":"[1]!PropsSI(\"H\",\"T\",B47+273,\"Q\",0,$P$5)/1000","v":235.75861530311795},{"$f":"[1]!PropsSI(\"H\",\"T\",C47+273,\"Q\",0,$P$5)/1000","v":235.40191697366882},{"$f":"[1]!PropsSI(\"H\",\"T\",D47+273,\"Q\",0,$P$5)/1000","v":234.03031434577048},{"$f":"[1]!PropsSI(\"H\",\"T\",E47+273,\"Q\",0,$P$5)/1000","v":232.27540505402655},{"$f":"[1]!PropsSI(\"H\",\"T\",F47+273,\"Q\",0,$P$5)/1000","v":230.12083908833333},{"$f":"[1]!PropsSI(\"H\",\"T\",G47+273,\"Q\",0,$P$5)/1000","v":228.81000469406186},{"$f":"[1]!PropsSI(\"H\",\"T\",H47+273,\"Q\",0,$P$5)/1000","v":221.29796200736402},{"$f":"[1]!PropsSI(\"H\",\"T\",I47+273,\"Q\",0,$P$5)/1000","v":222.92148216565536},{"$f":"[1]!PropsSI(\"H\",\"T\",J47+273,\"Q\",0,$P$5)/1000","v":228.88700714352336},{"$f":"[1]!PropsSI(\"H\",\"T\",K47+273,\"Q\",0,$P$5)/1000","v":230.40918244933252},{"$f":"[1]!PropsSI(\"H\",\"T\",L47+273,\"Q\",0,$P$5)/1000","v":233.3290027811484},{"$f":"[1]!PropsSI(\"H\",\"T\",M47+273,\"Q\",0,$P$5)/1000","v":234.85900413521989},"kj/kg"]
["Expansion sonrası flaşh buhar yüzdesi",{"$f":"(B48-B39)/(B40-B39)","v":0.20933035780371442},{"$f":"(C48-C39)/(C40-C39)","v":0.21386821329611336},0.20506657652840093,0.18659084536840351,0.16051093694295415,0.13677228071075723,2.7353454633399027E-2,3.5933333956476972E-2,0.11678330663615545,0.13465156666951911,0.16507992159842677,0.18957407987900179,"%"]
["Expansion sonrası flaşh sıvı yüzdesi",{"$f":"1-B49","v":0.79066964219628555},{"$f":"1-C49","v":0.78613178670388661},0.79493342347159901,0.81340915463159646,0.83948906305704585,0.8632277192892428,0.972646545366601,0.96406666604352298,0.88321669336384456,0.86534843333048084,0.83492007840157323,0.81042592012099823,"%"]
["Evaporatör soğutma kabiliyeti(sadece buharlaşma)",{"$f":"B50*(B40-B39)","v":159.9435943057984},{"$f":"C50*(C40-C39)","v":159.65320520270345},161.23514099348222,163.98152643764089,167.63985886095705,170.56582849172972,184.04819156927508,182.42467141098373,172.33047234213399,169.90426694910551,165.53457441286298,162.37813687028108,"kj/kg"]
["Evaporatör soğutma kabiliyeti superheat dahil",{"$f":"B41-B48","v":164.30683809081228},{"$f":"C41-C48","v":163.99427202640143},165.58337972708415,168.36405211750017,172.07597383537436,175.06180201397561,188.79049210697852,187.16697194868718,176.89790611162255,174.43617256620038,170.01129203325149,166.79536908878305,"kj/kg"]
["Kompresör çıkış sıcaklığı",{"$f":"[1]!PropsSI(\"T\",\"S\",B42,\"P\",B44,$P$5)","v":313.38821164624613},{"$f":"[1]!PropsSI(\"T\",\"S\",C42,\"P\",C44,$P$5)","v":313.32312667012246},{"$f":"[1]!PropsSI(\"T\",\"S\",D42,\"P\",D44,$P$5)","v":312.22010379514563},{"$f":"[1]!PropsSI(\"T\",\"S\",E42,\"P\",E44,$P$5)","v":310.57941045986769},{"$f":"[1]!PropsSI(\"T\",\"S\",F42,\"P\",F44,$P$5)","v":308.48661714402522},{"$f":"[1]!PropsSI(\"T\",\"S\",G42,\"P\",G44,$P$5)","v":307.02672298371698},{"$f":"[1]!PropsSI(\"T\",\"S\",H42,\"P\",H44,$P$5)","v":299.70460822951759},{"$f":"[1]!PropsSI(\"T\",\"S\",I42,\"P\",I44,$P$5)","v":300.98452673940136},{"$f":"[1]!PropsSI(\"T\",\"S\",J42,\"P\",J44,$P$5)","v":306.60288945052469},{"$f":"[1]!PropsSI(\"T\",\"S\",K42,\"P\",K44,$P$5)","v":308.0059846421093},{"$f":"[1]!PropsSI(\"T\",\"S\",L42,\"P\",L44,$P$5)","v":310.62435443978558},{"$f":"[1]!PropsSI(\"T\",\"S\",M42,\"P\",M44,$P$5)","v":312.24612376302866},"K"]
["Kompresör çıkış entalpisi",{"$f":"[1]!PropsSI(\"H\",\"T\",B53,\"P\",B44,$P$5)/1000","v":425.07622191361537},{"$f":"[1]!PropsSI(\"H\",\"T\",C53,\"P\",C44,$P$5)/1000","v":425.13097176844207},{"$f":"[1]!PropsSI(\"H\",\"T\",D53,\"P\",D44,$P$5)/1000","v":424.4618769735718},{"$f":"[1]!PropsSI(\"H\",\"T\",E53,\"P\",E44,$P$5)/1000","v":423.37128174793901},{"$f":"[1]!PropsSI(\"H\",\"T\",F53,\"P\",F44,$P$5)/1000","v":421.95531282425418},{"$f":"[1]!PropsSI(\"H\",\"T\",G53,\"P\",G44,$P$5)/1000","v":420.90748333372068},{"$f":"[1]!PropsSI(\"H\",\"T\",H53,\"P\",H44,$P$5)/1000","v":415.98415945603762},{"$f":"[1]!PropsSI(\"H\",\"T\",I53,\"P\",I44,$P$5)/1000","v":416.745265522598},{"$f":"[1]!PropsSI(\"H\",\"T\",J53,\"P\",J44,$P$5)/1000","v":420.45477814678048},{"$f":"[1]!PropsSI(\"H\",\"T\",K53,\"P\",K44,$P$5)/1000","v":421.37344719897226},{"$f":"[1]!PropsSI(\"H\",\"T\",L53,\"P\",L44,$P$5)/1000","v":423.06373721662982},{"$f":"[1]!PropsSI(\"H\",\"T\",M53,\"P\",M44,$P$5)/1000","v":424.20763688866333},"kj/kg"]
["Basınçlandırma için gereken entalpi %100 verim",{"$f":"B54-B41","v":25.010768519685143},25.734782768371815,24.848182900717177,22.731824576412293,19.758499900546497,17.035676625683209,5.8957053416950771,6.6568114082554644,14.669864891634575,16.528092183439355,19.723442402229921,22.553263664660392,"kj/kg"]
["Basınçlandırma için gereken entalpi gerçek verim",{"$f":"B55/$P$4","v":38.47810541490022},39.59197348980279,38.227973693411037,34.972037809865064,30.397692154686915,26.208733270281858,9.0703159103001187,10.241248320393021,22.569022910207035,25.427834128368239,30.343757541892185,34.697328714862138,"kj/kg"]
["Basınçlandırma için gereken entalpi gerçek verim Sistem",{"$f":"B56/(1-Detaylı!$C$24)","v":42.753450461000241},{"$f":"C56/(1-Detaylı!$C$24)","v":43.99108165533643},{"$f":"D56/(1-Detaylı!$C$24)","v":42.475526326012265},{"$f":"E56/(1-Detaylı!$C$24)","v":38.857819788738958},{"$f":"F56/(1-Detaylı!$C$24)","v":33.775213505207681},{"$f":"G56/(1-Detaylı!$C$24)","v":29.12081474475762},{"$f":"H56/(1-Detaylı!$C$24)","v":10.078128789222355},{"$f":"I56/(1-Detaylı!$C$24)","v":11.379164800436691},{"$f":"J56/(1-Detaylı!$C$24)","v":25.076692122452261},{"$f":"K56/(1-Detaylı!$C$24)","v":28.253149031520266},{"$f":"L56/(1-Detaylı!$C$24)","v":33.715286157657985},{"$f":"M56/(1-Detaylı!$C$24)","v":38.55258746095793}]
["Isı Pompası soğutma COP'si",{"$f":"IF(ABS(B52/B57)>Detaylı!$C$93,Detaylı!$C$93,B52/B57)","v":3.8431246207997458},{"$f":"IF(ABS(C52/C57)>Detaylı!$C$93,Detaylı!$C$93,C52/C57)","v":3.7278981524317159},{"$f":"IF(ABS(D52/D57)>Detaylı!$C$93,Detaylı!$C$93,D52/D57)","v":3.8983243775764564},{"$f":"IF(ABS(E52/E57)>Detaylı!$C$93,Detaylı!$C$93,E52/E57)","v":4.3328229178285564},{"$f":"IF(ABS(F52/F57)>Detaylı!$C$93,Detaylı!$C$93,F52/F57)","v":5.0947412607426621},{"$f":"IF(ABS(G52/G57)>Detaylı!$C$93,Detaylı!$C$93,G52/G57)","v":6.011569509589032},{"$f":"IF(ABS(H52/H57)>Detaylı!$C$93,Detaylı!$C$93,H52/H57)","v":13},{"$f":"IF(ABS(I52/I57)>Detaylı!$C$93,Detaylı!$C$93,I52/I57)","v":13},{"$f":"IF(ABS(J52/J57)>Detaylı!$C$93,Detaylı!$C$93,J52/J57)","v":7.0542759486702034},{"$f":"IF(ABS(K52/K57)>Detaylı!$C$93,Detaylı!$C$93,K52/K57)","v":6.1740435507416498},{"$f":"IF(ABS(L52/L57)>Detaylı!$C$93,Detaylı!$C$93,L52/L57)","v":5.0425581808278874},{"$f":"IF(ABS(M52/M57)>Detaylı!$C$93,Detaylı!$C$93,M52/M57)","v":4.3264377328161467},"kW/kW"]
["Isı Pompası ısıtma COP'si",{"$f":"B58+1","v":4.8431246207997454},{"$f":"C58+1","v":4.7278981524317159},4.898324377576456,5.3328229178285564,6.0947412607426621,7.011569509589032,14,14,8.0542759486702025,7.1740435507416498,6.0425581808278874,5.3264377328161467,"kW/kW"]
["Soğutma için gereken güç",{"$f":"IF(B4=\"Isıtma\",B62-B61,Detaylı!F28)","v":79.35217285747089},{"$f":"IF(C4=\"Isıtma\",C62-C61,Detaylı!G28)","v":75.566494963183203},{"$f":"IF(D4=\"Isıtma\",D62-D61,Detaylı!H28)","v":63.510557394919289},{"$f":"IF(E4=\"Isıtma\",E62-E61,Detaylı!I28)","v":48.118914116611677},{"$f":"IF(F4=\"Isıtma\",F62-F61,Detaylı!J28)","v":28.309769358013487},{"$f":"IF(G4=\"Isıtma\",G62-G61,Detaylı!K28)","v":15.765766941088142},{"$f":"IF(H4=\"Isıtma\",H62-H61,Detaylı!L28)","v":0},{"$f":"IF(I4=\"Isıtma\",I62-I61,Detaylı!M28)","v":0},{"$f":"IF(J4=\"Isıtma\",J62-J61,Detaylı!N28)","v":16.902542118668972},{"$f":"IF(K4=\"Isıtma\",K62-K61,Detaylı!O28)","v":32.071491421623953},{"$f":"IF(L4=\"Isıtma\",L62-L61,Detaylı!P28)","v":59.740016668281228},{"$f":"IF(M4=\"Isıtma\",M62-M61,Detaylı!Q28)","v":72.693141187360141},"kW"]
["Kompresör elektrik tüketimi",{"$f":"IF(B4=\"Isıtma\",B62/B59,B60/B58)","v":20.647827142529113},20.270536337987405,16.291758007681,11.105672913290217,5.5566647861302307,2.6225708470874745,0,0,2.3960704460186677,5.194568382623638,11.84716457916468,16.80207729236011,"kW"]
["Isıtma gücü",{"$f":"IF(B4=\"Isıtma\",Detaylı!F28,Detaylı!F28/B58*B59)","v":100},{"$f":"IF(C4=\"Isıtma\",Detaylı!G28,Detaylı!G28/C58*C59)","v":95.837031301170612},{"$f":"IF(D4=\"Isıtma\",Detaylı!H28,Detaylı!H28/D58*D59)","v":79.802315402600286},{"$f":"IF(E4=\"Isıtma\",Detaylı!I28,Detaylı!I28/E58*E59)","v":59.224587029901897},{"$f":"IF(F4=\"Isıtma\",Detaylı!J28,Detaylı!J28/F58*F59)","v":33.866434144143717},{"$f":"IF(G4=\"Isıtma\",Detaylı!K28,Detaylı!K28/G58*G59)","v":18.388337788175615},{"$f":"IF(H4=\"Isıtma\",Detaylı!L28,Detaylı!L28/H58*H59)","v":0},{"$f":"IF(I4=\"Isıtma\",Detaylı!M28,Detaylı!M28/I58*I59)","v":0},{"$f":"IF(J4=\"Isıtma\",Detaylı!N28,Detaylı!N28/J58*J59)","v":19.298612564687641},{"$f":"IF(K4=\"Isıtma\",Detaylı!O28,Detaylı!O28/K58*K59)","v":37.26605980424759},{"$f":"IF(L4=\"Isıtma\",Detaylı!P28,Detaylı!P28/L58*L59)","v":71.587181247445912},{"$f":"IF(M4=\"Isıtma\",Detaylı!Q28,Detaylı!Q28/M58*M59)","v":89.495218479720251},"kW"]

{"sheet":"Sudan Sıcak Su","index":7,"n_rows":60,"n_cols":16,"rows_kept":60,"cut":false,"hidden":true,"merged":[]}
["Sütun1","Ocak","Şubat","Mart","Nisan","Mayıs","Haziran","Temmuz","Ağustos","Eylül","Ekim","Kasım","Aralık"]
["Isı kaynağı ortalama sıcaklık",35,{"$f":"Detaylı!G57","v":8},{"$f":"Detaylı!H57","v":10},{"$f":"Detaylı!I57","v":9},{"$f":"Detaylı!J57","v":12},{"$f":"Detaylı!K57","v":17},{"$f":"Detaylı!L57","v":19},{"$f":"Detaylı!M57","v":22},{"$f":"Detaylı!N57","v":21},{"$f":"Detaylı!O57","v":18},{"$f":"Detaylı!P57","v":13},{"$f":"Detaylı!Q57","v":10}]
["Isı aktırımı ortalama sıcaklık",{"$f":"Detaylı!F54","v":52},{"$f":"Detaylı!G54","v":52},{"$f":"Detaylı!H54","v":52},{"$f":"Detaylı!I54","v":52},{"$f":"Detaylı!J54","v":52},{"$f":"Detaylı!K54","v":52},{"$f":"Detaylı!L54","v":52},{"$f":"Detaylı!M54","v":52},{"$f":"Detaylı!N54","v":52},{"$f":"Detaylı!O54","v":52},{"$f":"Detaylı!P54","v":52},{"$f":"Detaylı!Q54","v":52},null,"Soğutma Kapasitesi",{"$f":"Detaylı!C10","v":100}]
["Isıtma / Soğutma",{"$f":"IF(B2<B3,\"Isıtma\",\"Soğutma\")","v":"Isıtma"},"Isıtma","Isıtma","Isıtma","Isıtma","Isıtma","Isıtma","Isıtma","Isıtma","Isıtma","Isıtma","Isıtma",null,"Kompresör Verimi",{"$f":"VLOOKUP(Detaylı!H5,Komp_liste,2,)","v":0.65}]
["Kapasite Kullanım %",null,null,null,null,null,null,null,null,null,null,null,null,null,"Gaz",{"$f":"Detaylı!C4","v":"R134a"}]
["Isıtma Kapasitesi",{"$f":"B60","v":35},35,35,35,35,35,35,35,35,35,35,35]
["Soğutma Kapasitesi",{"$f":"B6-B10","v":24.666588261494667},{"$f":"C6-C10","v":24.666588261494667},{"$f":"D6-D10","v":25.058025389139601},24.862411496409226,25.44857300273657,26.420382287376817,26.807023749145973,27.384458798194807,27.192332746371481,26.613863747513705,25.643481039389425,25.058025389139601]
["Kapasite Kullanım kW",{"$f":"IF(B4=\"Isıtma\",B6,B7)","v":35},{"$f":"IF(C4=\"Isıtma\",C6,C7)","v":35},35,35,35,35,35,35,35,35,35,35]
["COP",{"$f":"(B8/B10)","v":3.3870710744622419},{"$f":"(C8/C10)","v":3.3870710744622419},{"$f":"(D8/D10)","v":3.5204274170813861},3.4524976021272575,3.6643739213028392,4.0794358411219811,4.2719518436723938,4.5958650964561212,4.4827730054369539,4.1735548942009277,3.7407074305459447,3.5204274170813861]
["Güç Gereksinimi (kW)",{"$f":"B59","v":10.333411738505333},10.333411738505333,9.9419746108604006,10.137588503590774,9.5514269972634303,8.5796177126231825,8.1929762508540271,7.6155412018051951,7.8076672536285185,8.3861362524862937,9.3565189606105754,9.9419746108604006]
["Çalışma Saati Günlük",{"$f":"Detaylı!$C$12","v":10},{"$f":"Detaylı!$C$12","v":10},{"$f":"Detaylı!$C$12","v":10},{"$f":"Detaylı!$C$12","v":10},{"$f":"Detaylı!$C$12","v":10},{"$f":"Detaylı!$C$12","v":10},{"$f":"Detaylı!$C$12","v":10},{"$f":"Detaylı!$C$12","v":10},{"$f":"Detaylı!$C$12","v":10},{"$f":"Detaylı!$C$12","v":10},{"$f":"Detaylı!$C$12","v":10},{"$f":"Detaylı!$C$12","v":10}]
["Ayda Kaç Gün",{"$f":"Detaylı!$C$11","v":22},{"$f":"Detaylı!$C$11","v":22},{"$f":"Detaylı!$C$11","v":22},{"$f":"Detaylı!$C$11","v":22},{"$f":"Detaylı!$C$11","v":22},{"$f":"Detaylı!$C$11","v":22},{"$f":"Detaylı!$C$11","v":22},{"$f":"Detaylı!$C$11","v":22},{"$f":"Detaylı!$C$11","v":22},{"$f":"Detaylı!$C$11","v":22},{"$f":"Detaylı!$C$11","v":22},{"$f":"Detaylı!$C$11","v":22}]
["Ayda Kaç Saat",{"$f":"B12*B11","v":220},{"$f":"C12*C11","v":220},220,220,220,220,220,220,220,220,220,220]
["Aylık Toplam Elektrik Tüketimi",{"$f":"B13*B10","v":2273.3505824711733},{"$f":"C13*C10","v":2273.3505824711733},2187.2344143892883,2230.26947078997,2101.3139393979545,1887.5158967771001,1802.4547751878861,1675.4190643971428,1717.686795798274,1844.9499755469847,2058.4341713343265,2187.2344143892883]
["Isıtma için Harcanan Enerji",{"$f":"IF(B4=\"Isıtma\",B14,0)","v":2273.3505824711733},{"$f":"IF(C4=\"Isıtma\",C14,0)","v":2273.3505824711733},2187.2344143892883,2230.26947078997,2101.3139393979545,1887.5158967771001,1802.4547751878861,1675.4190643971428,1717.686795798274,1844.9499755469847,2058.4341713343265,2187.2344143892883]
["Toplam Isıtma İçin Harcanan Enerji (kWh)",{"$f":"SUM(B15:M15)","v":24239.214082950562}]
["Soğutma için Harcanan Enerji",{"$f":"IF(B4=\"Soğutma\",B14,0)","v":0},{"$f":"IF(C4=\"Soğutma\",C14,0)","v":0},0,0,0,0,0,0,0,0,0,0]
["Toplam Soğutma için Harcanan Enerji (kWh)",{"$f":"SUM(B17:M17)","v":0}]
["Yıllık Toplam (kWh)",{"$f":"SUM(B14:M14)","v":24239.214082950562}]
["Aylık Isıtma Kapasitesi",{"$f":"B6*B13","v":7700},7700,7700,7700,7700,7700,7700,7700,7700,7700,7700,7700]
["Toplam Isıtma Kapasitesi",{"$f":"SUM(B20:M20)","v":92400}]
[]
[]
["Sütun1","OCAK","ŞUBAT","MART","NİSAN","MAYIS","HAZİRAN","TEMMUZ","AĞUSTOS","EYLÜL","EKİM","KASIM","ARALIK","Sütun2"]
["Açıklama","Değer","Değer","Değer","Değer","Değer","Değer","Değer","Değer","Değer","Değer","Değer","Değer","Birim"]
["Kapasite",{"$f":"B58","v":24.666588261494667},{"$f":"C58","v":24.666588261494667},25.058025389139601,24.862411496409226,25.44857300273657,26.420382287376817,26.807023749145973,27.384458798194807,27.192332746371481,26.613863747513705,25.643481039389425,25.058025389139601,"kW"]
["Isı Kaynağı Su Debisi",{"$f":"B26*3600/4.186/(B28-B29)/1000","v":4.2427003220917721},4.2427003220917721,4.3100282561348564,4.2763822927411947,4.3772031920617129,4.5443562462759939,4.6108593166232916,4.7101792486144918,4.677133200522567,4.5776354271882145,4.4107277468610571,4.3100282561348564,"m3/h"]
["Isı Kaynağı Isı Pompası Giriş Sıcaklığı",{"$f":"Detaylı!F57","v":8},{"$f":"Detaylı!G57","v":8},{"$f":"Detaylı!H57","v":10},{"$f":"Detaylı!I57","v":9},{"$f":"Detaylı!J57","v":12},{"$f":"Detaylı!K57","v":17},{"$f":"Detaylı!L57","v":19},{"$f":"Detaylı!M57","v":22},{"$f":"Detaylı!N57","v":21},{"$f":"Detaylı!O57","v":18},{"$f":"Detaylı!P57","v":13},{"$f":"Detaylı!Q57","v":10},"C"]
["Isı Kaynağı Isı Pompası Çıkış Sıcaklığı",{"$f":"B28-Detaylı!$M$4","v":3},{"$f":"C28-Detaylı!$M$4","v":3},{"$f":"D28-Detaylı!$M$4","v":5},{"$f":"E28-Detaylı!$M$4","v":4},{"$f":"F28-Detaylı!$M$4","v":7},{"$f":"G28-Detaylı!$M$4","v":12},{"$f":"H28-Detaylı!$M$4","v":14},{"$f":"I28-Detaylı!$M$4","v":17},{"$f":"J28-Detaylı!$M$4","v":16},{"$f":"K28-Detaylı!$M$4","v":13},{"$f":"L28-Detaylı!$M$4","v":8},{"$f":"M28-Detaylı!$M$4","v":5},"C"]
["Isıtılacak Su Giriş Sıcaklığı",{"$f":"B31-Detaylı!$M$3","v":49},{"$f":"C31-Detaylı!$M$3","v":49},{"$f":"D31-Detaylı!$M$3","v":49},{"$f":"E31-Detaylı!$M$3","v":49},{"$f":"F31-Detaylı!$M$3","v":49},{"$f":"G31-Detaylı!$M$3","v":49},{"$f":"H31-Detaylı!$M$3","v":49},{"$f":"I31-Detaylı!$M$3","v":49},{"$f":"J31-Detaylı!$M$3","v":49},{"$f":"K31-Detaylı!$M$3","v":49},{"$f":"L31-Detaylı!$M$3","v":49},{"$f":"M31-Detaylı!$M$3","v":49},"C"]
["Isıtılacak Su Çıkış Sıcaklığı",{"$f":"Detaylı!F54","v":52},{"$f":"Detaylı!G54","v":52},{"$f":"Detaylı!H54","v":52},{"$f":"Detaylı!I54","v":52},{"$f":"Detaylı!J54","v":52},{"$f":"Detaylı!K54","v":52},{"$f":"Detaylı!L54","v":52},{"$f":"Detaylı!M54","v":52},{"$f":"Detaylı!N54","v":52},{"$f":"Detaylı!O54","v":52},{"$f":"Detaylı!P54","v":52},{"$f":"Detaylı!Q54","v":52},"C"]
["Subcooler kaç derece?",5,5,5,5,5,5,5,5,5,5,5,5,"C"]
["Superheat kaç derece",5,5,5,5,5,5,5,5,5,5,5,5,"C"]
["Evaporatör Yaklaşım Sıcaklığı",{"$f":"Detaylı!$H$4","v":4},{"$f":"Detaylı!$H$4","v":4},{"$f":"Detaylı!$H$4","v":4},{"$f":"Detaylı!$H$4","v":4},{"$f":"Detaylı!$H$4","v":4},{"$f":"Detaylı!$H$4","v":4},{"$f":"Detaylı!$H$4","v":4},{"$f":"Detaylı!$H$4","v":4},{"$f":"Detaylı!$H$4","v":4},{"$f":"Detaylı!$H$4","v":4},{"$f":"Detaylı!$H$4","v":4},{"$f":"Detaylı!$H$4","v":4},"Önerilen değer"]
["Kondenser Yaklaşım Sıcaklığı",{"$f":"Detaylı!$H$3","v":3},{"$f":"Detaylı!$H$3","v":3},{"$f":"Detaylı!$H$3","v":3},{"$f":"Detaylı!$H$3","v":3},{"$f":"Detaylı!$H$3","v":3},{"$f":"Detaylı!$H$3","v":3},{"$f":"Detaylı!$H$3","v":3},{"$f":"Detaylı!$H$3","v":3},{"$f":"Detaylı!$H$3","v":3},{"$f":"Detaylı!$H$3","v":3},{"$f":"Detaylı!$H$3","v":3},{"$f":"Detaylı!$H$3","v":3},"Önerilen değer"]
["Soğutucu akışkan evap faz değişim sıcaklığı",{"$f":"B29-B34","v":-1},-1,1,0,3,8,10,13,12,9,4,1,"C"]
["Soğutucu Akışkan evap çıkış sıcaklığı",{"$f":"B36+B33","v":4},4,6,5,8,13,15,18,17,14,9,6,"C"]
["Soğutucu akışkan evap faz değişim basıncı",{"$f":"[1]!PropsSI(\"P\",\"T\",B36+273,\"Q\",1,$P$5)","v":280797.25431742257},{"$f":"[1]!PropsSI(\"P\",\"T\",C36+273,\"Q\",1,$P$5)","v":280797.25431742257},{"$f":"[1]!PropsSI(\"P\",\"T\",D36+273,\"Q\",1,$P$5)","v":301928.00917394378},{"$f":"[1]!PropsSI(\"P\",\"T\",E36+273,\"Q\",1,$P$5)","v":291215.19234826823},{"$f":"[1]!PropsSI(\"P\",\"T\",F36+273,\"Q\",1,$P$5)","v":324260.33202434238},{"$f":"[1]!PropsSI(\"P\",\"T\",G36+273,\"Q\",1,$P$5)","v":385641.74173936818},{"$f":"[1]!PropsSI(\"P\",\"T\",H36+273,\"Q\",1,$P$5)","v":412534.38524338207},{"$f":"[1]!PropsSI(\"P\",\"T\",I36+273,\"Q\",1,$P$5)","v":455526.25393902347},{"$f":"[1]!PropsSI(\"P\",\"T\",J36+273,\"Q\",1,$P$5)","v":440834.02139955107},{"$f":"[1]!PropsSI(\"P\",\"T\",K36+273,\"Q\",1,$P$5)","v":398915.12791051267},{"$f":"[1]!PropsSI(\"P\",\"T\",L36+273,\"Q\",1,$P$5)","v":335890.9672719785},{"$f":"[1]!PropsSI(\"P\",\"T\",M36+273,\"Q\",1,$P$5)","v":301928.00917394378},"kPa"]
["Soğutucu akışkan evap sıvı entalpisi",{"$f":"[1]!PropsSI(\"H\",\"P\",B38,\"Q\",0,$P$5)/1000","v":198.45681624254064},{"$f":"[1]!PropsSI(\"H\",\"P\",C38,\"Q\",0,$P$5)/1000","v":198.45681624254064},{"$f":"[1]!PropsSI(\"H\",\"P\",D38,\"Q\",0,$P$5)/1000","v":201.14291334702304},{"$f":"[1]!PropsSI(\"H\",\"P\",E38,\"Q\",0,$P$5)/1000","v":199.7985014124304},{"$f":"[1]!PropsSI(\"H\",\"P\",F38,\"Q\",0,$P$5)/1000","v":203.8400581496314},{"$f":"[1]!PropsSI(\"H\",\"P\",G38,\"Q\",0,$P$5)/1000","v":210.63318878521753},{"$f":"[1]!PropsSI(\"H\",\"P\",H38,\"Q\",0,$P$5)/1000","v":213.37137496065495},{"$f":"[1]!PropsSI(\"H\",\"P\",I38,\"Q\",0,$P$5)/1000","v":217.50214250876724},{"$f":"[1]!PropsSI(\"H\",\"P\",J38,\"Q\",0,$P$5)/1000","v":216.12202848615689},{"$f":"[1]!PropsSI(\"H\",\"P\",K38,\"Q\",0,$P$5)/1000","v":212.00074528963441},{"$f":"[1]!PropsSI(\"H\",\"P\",L38,\"Q\",0,$P$5)/1000","v":205.19286339965367},{"$f":"[1]!PropsSI(\"H\",\"P\",M38,\"Q\",0,$P$5)/1000","v":201.14291334702304},"kj/kg"]
["Soğutucu akışkan evap gaz entalpisi",{"$f":"[1]!PropsSI(\"H\",\"P\",B38,\"Q\",1,$P$5)/1000","v":397.93087480942228},{"$f":"[1]!PropsSI(\"H\",\"P\",C38,\"Q\",1,$P$5)/1000","v":397.93087480942228},{"$f":"[1]!PropsSI(\"H\",\"P\",D38,\"Q\",1,$P$5)/1000","v":399.09868483859537},{"$f":"[1]!PropsSI(\"H\",\"P\",E38,\"Q\",1,$P$5)/1000","v":398.51589154883101},{"$f":"[1]!PropsSI(\"H\",\"P\",F38,\"Q\",1,$P$5)/1000","v":400.25737916809845},{"$f":"[1]!PropsSI(\"H\",\"P\",G38,\"Q\",1,$P$5)/1000","v":403.11122098791873},{"$f":"[1]!PropsSI(\"H\",\"P\",H38,\"Q\",1,$P$5)/1000","v":404.23433342500118},{"$f":"[1]!PropsSI(\"H\",\"P\",I38,\"Q\",1,$P$5)/1000","v":405.89766123815349},{"$f":"[1]!PropsSI(\"H\",\"P\",J38,\"Q\",1,$P$5)/1000","v":405.3461535766391},{"$f":"[1]!PropsSI(\"H\",\"P\",K38,\"Q\",1,$P$5)/1000","v":403.67415591149972},{"$f":"[1]!PropsSI(\"H\",\"P\",L38,\"Q\",1,$P$5)/1000","v":400.83316697346453},{"$f":"[1]!PropsSI(\"H\",\"P\",M38,\"Q\",1,$P$5)/1000","v":399.09868483859537},"kj/kg"]
["Soğutucu akışkan evap + superheat entalpi",{"$f":"[1]!PropsSI(\"H\",\"T\",273+B37,\"P\",B38,$P$5)/1000","v":402.37318081427435},{"$f":"[1]!PropsSI(\"H\",\"T\",273+C37,\"P\",C38,$P$5)/1000","v":402.37318081427435},{"$f":"[1]!PropsSI(\"H\",\"T\",273+D37,\"P\",D38,$P$5)/1000","v":403.58420813632648},{"$f":"[1]!PropsSI(\"H\",\"T\",273+E37,\"P\",E38,$P$5)/1000","v":402.97968517384629},{"$f":"[1]!PropsSI(\"H\",\"T\",273+F37,\"P\",F38,$P$5)/1000","v":404.78711032404135},{"$f":"[1]!PropsSI(\"H\",\"T\",273+G37,\"P\",G38,$P$5)/1000","v":407.75612648968928},{"$f":"[1]!PropsSI(\"H\",\"T\",273+H37,\"P\",H38,$P$5)/1000","v":408.92731586875067},{"$f":"[1]!PropsSI(\"H\",\"T\",273+I37,\"P\",I38,$P$5)/1000","v":410.66510827376135},{"$f":"[1]!PropsSI(\"H\",\"T\",273+J37,\"P\",J38,$P$5)/1000","v":410.08845411434254},{"$f":"[1]!PropsSI(\"H\",\"T\",273+K37,\"P\",K38,$P$5)/1000","v":408.34294893974783},{"$f":"[1]!PropsSI(\"H\",\"T\",273+L37,\"P\",L38,$P$5)/1000","v":405.385388119666},{"$f":"[1]!PropsSI(\"H\",\"T\",273+M37,\"P\",M38,$P$5)/1000","v":403.58420813632648},"kj/kg"]
["Soğutucu akışkan evap çıkış entropisi",{"$f":"[1]!PropsSI(\"S\",\"T\",B37+273,\"P\",B38,$P$5)","v":1743.9169388227604},{"$f":"[1]!PropsSI(\"S\",\"T\",C37+273,\"P\",C38,$P$5)","v":1743.9169388227604},{"$f":"[1]!PropsSI(\"S\",\"T\",D37+273,\"P\",D38,$P$5)","v":1742.8414514151023},{"$f":"[1]!PropsSI(\"S\",\"T\",E37+273,\"P\",E38,$P$5)","v":1743.3723570981756},{"$f":"[1]!PropsSI(\"S\",\"T\",F37+273,\"P\",F38,$P$5)","v":1741.8191420403321},{"$f":"[1]!PropsSI(\"S\",\"T\",G37+273,\"P\",G38,$P$5)","v":1739.4763341172111},{"$f":"[1]!PropsSI(\"S\",\"T\",H37+273,\"P\",H38,$P$5)","v":1738.6166868392204},{"$f":"[1]!PropsSI(\"S\",\"T\",I37+273,\"P\",I38,$P$5)","v":1737.4012187509534},{"$f":"[1]!PropsSI(\"S\",\"T\",J37+273,\"P\",J38,$P$5)","v":1737.7969825888451},{"$f":"[1]!PropsSI(\"S\",\"T\",K37+273,\"P\",K38,$P$5)","v":1739.0413387336309},{"$f":"[1]!PropsSI(\"S\",\"T\",L37+273,\"P\",L38,$P$5)","v":1741.3269838269568},{"$f":"[1]!PropsSI(\"S\",\"T\",M37+273,\"P\",M38,$P$5)","v":1742.8414514151023}]
["Soğutucu akışkan kondenser faz değişim sıcaklığı",{"$f":"B31+B35","v":55},55,55,55,55,55,55,55,55,55,55,55,"C"]
["Soğutucu akışkan kondenser faz değişim basıncı",{"$f":"[1]!PropsSI(\"P\",\"T\",B43+273,\"Q\",1,$P$5)","v":1486068.7286750872},{"$f":"[1]!PropsSI(\"P\",\"T\",C43+273,\"Q\",1,$P$5)","v":1486068.7286750872},{"$f":"[1]!PropsSI(\"P\",\"T\",D43+273,\"Q\",1,$P$5)","v":1486068.7286750872},{"$f":"[1]!PropsSI(\"P\",\"T\",E43+273,\"Q\",1,$P$5)","v":1486068.7286750872},{"$f":"[1]!PropsSI(\"P\",\"T\",F43+273,\"Q\",1,$P$5)","v":1486068.7286750872},{"$f":"[1]!PropsSI(\"P\",\"T\",G43+273,\"Q\",1,$P$5)","v":1486068.7286750872},{"$f":"[1]!PropsSI(\"P\",\"T\",H43+273,\"Q\",1,$P$5)","v":1486068.7286750872},{"$f":"[1]!PropsSI(\"P\",\"T\",I43+273,\"Q\",1,$P$5)","v":1486068.7286750872},{"$f":"[1]!PropsSI(\"P\",\"T\",J43+273,\"Q\",1,$P$5)","v":1486068.7286750872},{"$f":"[1]!PropsSI(\"P\",\"T\",K43+273,\"Q\",1,$P$5)","v":1486068.7286750872},{"$f":"[1]!PropsSI(\"P\",\"T\",L43+273,\"Q\",1,$P$5)","v":1486068.7286750872},{"$f":"[1]!PropsSI(\"P\",\"T\",M43+273,\"Q\",1,$P$5)","v":1486068.7286750872},"Pa"]
["Soğutucu akışkan kondenser sıvı entalpisi",{"$f":"[1]!PropsSI(\"H\",\"P\",B44,\"Q\",0,$P$5)/1000","v":279.23103003834154},{"$f":"[1]!PropsSI(\"H\",\"P\",C44,\"Q\",0,$P$5)/1000","v":279.23103003834154},{"$f":"[1]!PropsSI(\"H\",\"P\",D44,\"Q\",0,$P$5)/1000","v":279.23103003834154},{"$f":"[1]!PropsSI(\"H\",\"P\",E44,\"Q\",0,$P$5)/1000","v":279.23103003834154},{"$f":"[1]!PropsSI(\"H\",\"P\",F44,\"Q\",0,$P$5)/1000","v":279.23103003834154},{"$f":"[1]!PropsSI(\"H\",\"P\",G44,\"Q\",0,$P$5)/1000","v":279.23103003834154},{"$f":"[1]!PropsSI(\"H\",\"P\",H44,\"Q\",0,$P$5)/1000","v":279.23103003834154},{"$f":"[1]!PropsSI(\"H\",\"P\",I44,\"Q\",0,$P$5)/1000","v":279.23103003834154},{"$f":"[1]!PropsSI(\"H\",\"P\",J44,\"Q\",0,$P$5)/1000","v":279.23103003834154},{"$f":"[1]!PropsSI(\"H\",\"P\",K44,\"Q\",0,$P$5)/1000","v":279.23103003834154},{"$f":"[1]!PropsSI(\"H\",\"P\",L44,\"Q\",0,$P$5)/1000","v":279.23103003834154},{"$f":"[1]!PropsSI(\"H\",\"P\",M44,\"Q\",0,$P$5)/1000","v":279.23103003834154},"kj/kg"]
["Soğutucu akışkan kondenser gaz entalpisi",{"$f":"[1]!PropsSI(\"H\",\"P\",B44,\"Q\",1,$P$5)/1000","v":425.10477586150898},{"$f":"[1]!PropsSI(\"H\",\"P\",C44,\"Q\",1,$P$5)/1000","v":425.10477586150898},{"$f":"[1]!PropsSI(\"H\",\"P\",D44,\"Q\",1,$P$5)/1000","v":425.10477586150898},{"$f":"[1]!PropsSI(\"H\",\"P\",E44,\"Q\",1,$P$5)/1000","v":425.10477586150898},{"$f":"[1]!PropsSI(\"H\",\"P\",F44,\"Q\",1,$P$5)/1000","v":425.10477586150898},{"$f":"[1]!PropsSI(\"H\",\"P\",G44,\"Q\",1,$P$5)/1000","v":425.10477586150898},{"$f":"[1]!PropsSI(\"H\",\"P\",H44,\"Q\",1,$P$5)/1000","v":425.10477586150898},{"$f":"[1]!PropsSI(\"H\",\"P\",I44,\"Q\",1,$P$5)/1000","v":425.10477586150898},{"$f":"[1]!PropsSI(\"H\",\"P\",J44,\"Q\",1,$P$5)/1000","v":425.10477586150898},{"$f":"[1]!PropsSI(\"H\",\"P\",K44,\"Q\",1,$P$5)/1000","v":425.10477586150898},{"$f":"[1]!PropsSI(\"H\",\"P\",L44,\"Q\",1,$P$5)/1000","v":425.10477586150898},{"$f":"[1]!PropsSI(\"H\",\"P\",M44,\"Q\",1,$P$5)/1000","v":425.10477586150898},"kj/kg"]
["Subcooling sonrası sıcaklık",{"$f":"B43-B32","v":50},50,50,50,50,50,50,50,50,50,50,50,"C"]
["Subcooling sonrası entalpi",{"$f":"[1]!PropsSI(\"H\",\"T\",B47+273,\"Q\",0,$P$5)/1000","v":271.39044671412069},{"$f":"[1]!PropsSI(\"H\",\"T\",C47+273,\"Q\",0,$P$5)/1000","v":271.39044671412069},{"$f":"[1]!PropsSI(\"H\",\"T\",D47+273,\"Q\",0,$P$5)/1000","v":271.39044671412069},{"$f":"[1]!PropsSI(\"H\",\"T\",E47+273,\"Q\",0,$P$5)/1000","v":271.39044671412069},{"$f":"[1]!PropsSI(\"H\",\"T\",F47+273,\"Q\",0,$P$5)/1000","v":271.39044671412069},{"$f":"[1]!PropsSI(\"H\",\"T\",G47+273,\"Q\",0,$P$5)/1000","v":271.39044671412069},{"$f":"[1]!PropsSI(\"H\",\"T\",H47+273,\"Q\",0,$P$5)/1000","v":271.39044671412069},{"$f":"[1]!PropsSI(\"H\",\"T\",I47+273,\"Q\",0,$P$5)/1000","v":271.39044671412069},{"$f":"[1]!PropsSI(\"H\",\"T\",J47+273,\"Q\",0,$P$5)/1000","v":271.39044671412069},{"$f":"[1]!PropsSI(\"H\",\"T\",K47+273,\"Q\",0,$P$5)/1000","v":271.39044671412069},{"$f":"[1]!PropsSI(\"H\",\"T\",L47+273,\"Q\",0,$P$5)/1000","v":271.39044671412069},{"$f":"[1]!PropsSI(\"H\",\"T\",M47+273,\"Q\",0,$P$5)/1000","v":271.39044671412069},"kj/kg"]
["Expansion sonrası flaşh buhar yüzdesi",{"$f":"(B48-B39)/(B40-B39)","v":0.36562965127180252},{"$f":"(C48-C39)/(C40-C39)","v":0.36562965127180252},0.35486479044177971,0.3602701567917595,0.34391258476709513,0.31565814152193156,0.30398287975979305,0.28603814235496389,0.29207913209552866,0.30984840949927428,0.33836373234563139,0.35486479044177971,"%"]
["Expansion sonrası flaşh sıvı yüzdesi",{"$f":"1-B49","v":0.63437034872819753},{"$f":"1-C49","v":0.63437034872819753},0.64513520955822035,0.63972984320824056,0.65608741523290481,0.6843418584780685,0.69601712024020701,0.71396185764503617,0.70792086790447128,0.69015159050072572,0.66163626765436856,0.64513520955822035,"%"]
["Evaporatör soğutma kabiliyeti(sadece buharlaşma)",{"$f":"B50*(B40-B39)","v":126.54042809530161},{"$f":"C50*(C40-C39)","v":126.54042809530161},127.7082381244747,127.12544483471034,128.86693245397774,131.72077427379804,132.8438867108805,134.5072145240328,133.95570686251841,132.28370919737904,129.44272025934384,127.7082381244747,"kj/kg"]
["Evaporatör soğutma kabiliyeti superheat dahil",{"$f":"B41-B48","v":130.98273410015366},{"$f":"C41-C48","v":130.98273410015366},132.1937614222058,131.58923845972561,133.39666360992067,136.36567977556859,137.53686915462998,139.27466155964066,138.69800740022185,136.95250222562714,133.99494140554532,132.1937614222058,"kj/kg"]
["Kompresör çıkış sıcaklığı",{"$f":"[1]!PropsSI(\"T\",\"S\",B42,\"P\",B44,$P$5)","v":338.40464831245293},{"$f":"[1]!PropsSI(\"T\",\"S\",C42,\"P\",C44,$P$5)","v":338.40464831245293},{"$f":"[1]!PropsSI(\"T\",\"S\",D42,\"P\",D44,$P$5)","v":338.10045323425834},{"$f":"[1]!PropsSI(\"T\",\"S\",E42,\"P\",E44,$P$5)","v":338.25051454988869},{"$f":"[1]!PropsSI(\"T\",\"S\",F42,\"P\",F44,$P$5)","v":337.81205999141645},{"$f":"[1]!PropsSI(\"T\",\"S\",G42,\"P\",G44,$P$5)","v":337.15398493079931},{"$f":"[1]!PropsSI(\"T\",\"S\",H42,\"P\",H44,$P$5)","v":336.91351710118437},{"$f":"[1]!PropsSI(\"T\",\"S\",I42,\"P\",I44,$P$5)","v":336.57444330870635},{"$f":"[1]!PropsSI(\"T\",\"S\",J42,\"P\",J44,$P$5)","v":336.68472799019798},{"$f":"[1]!PropsSI(\"T\",\"S\",K42,\"P\",K44,$P$5)","v":337.03223672941442},{"$f":"[1]!PropsSI(\"T\",\"S\",L42,\"P\",L44,$P$5)","v":337.67348852877507},{"$f":"[1]!PropsSI(\"T\",\"S\",M42,\"P\",M44,$P$5)","v":338.10045323425834},"K"]
["Kompresör çıkış entalpisi",{"$f":"[1]!PropsSI(\"H\",\"T\",B53,\"P\",B44,$P$5)/1000","v":438.03980929297597},{"$f":"[1]!PropsSI(\"H\",\"T\",C53,\"P\",C44,$P$5)/1000","v":438.03980929297597},{"$f":"[1]!PropsSI(\"H\",\"T\",D53,\"P\",D44,$P$5)/1000","v":437.67602301744478},{"$f":"[1]!PropsSI(\"H\",\"T\",E53,\"P\",E44,$P$5)/1000","v":437.85556228974303},{"$f":"[1]!PropsSI(\"H\",\"T\",F53,\"P\",F44,$P$5)/1000","v":437.33052724205771},{"$f":"[1]!PropsSI(\"H\",\"T\",G53,\"P\",G44,$P$5)/1000","v":436.53987014509363},{"$f":"[1]!PropsSI(\"H\",\"T\",H53,\"P\",H44,$P$5)/1000","v":436.25014004887959},{"$f":"[1]!PropsSI(\"H\",\"T\",I53,\"P\",I44,$P$5)/1000","v":435.84083861553256},{"$f":"[1]!PropsSI(\"H\",\"T\",J53,\"P\",J44,$P$5)/1000","v":435.97406442239458},{"$f":"[1]!PropsSI(\"H\",\"T\",K53,\"P\",K44,$P$5)/1000","v":436.39323620886779},{"$f":"[1]!PropsSI(\"H\",\"T\",L53,\"P\",L44,$P$5)/1000","v":437.16430437423861},{"$f":"[1]!PropsSI(\"H\",\"T\",M53,\"P\",M44,$P$5)/1000","v":437.67602301744478},"kj/kg"]
["Basınçlandırma için gereken entalpi",{"$f":"B54-B41","v":35.666628478701625},{"$f":"C54-C41","v":35.666628478701625},34.091814881118296,34.875877115896742,32.543416918016362,28.783743655404351,27.322824180128919,25.175730341771214,25.885610308052037,28.050287269119963,31.778916254572607,34.091814881118296,"kj/kg"]
["Isı Pompası soğutma COP'si",{"$f":"IF(B52/B55*$P$4>Detaylı!$C$93,Detaylı!$C$93,B52/B55*$P$4)","v":2.3870710744622419},{"$f":"IF(C52/C55*$P$4>Detaylı!$C$93,Detaylı!$C$93,C52/C55*$P$4)","v":2.3870710744622419},{"$f":"IF(D52/D55*$P$4>Detaylı!$C$93,Detaylı!$C$93,D52/D55*$P$4)","v":2.5204274170813865},{"$f":"IF(E52/E55*$P$4>Detaylı!$C$93,Detaylı!$C$93,E52/E55*$P$4)","v":2.4524976021272575},{"$f":"IF(F52/F55*$P$4>Detaylı!$C$93,Detaylı!$C$93,F52/F55*$P$4)","v":2.6643739213028397},{"$f":"IF(G52/G55*$P$4>Detaylı!$C$93,Detaylı!$C$93,G52/G55*$P$4)","v":3.0794358411219815},{"$f":"IF(H52/H55*$P$4>Detaylı!$C$93,Detaylı!$C$93,H52/H55*$P$4)","v":3.2719518436723942},{"$f":"IF(I52/I55*$P$4>Detaylı!$C$93,Detaylı!$C$93,I52/I55*$P$4)","v":3.5958650964561207},{"$f":"IF(J52/J55*$P$4>Detaylı!$C$93,Detaylı!$C$93,J52/J55*$P$4)","v":3.4827730054369543},{"$f":"IF(K52/K55*$P$4>Detaylı!$C$93,Detaylı!$C$93,K52/K55*$P$4)","v":3.1735548942009282},{"$f":"IF(L52/L55*$P$4>Detaylı!$C$93,Detaylı!$C$93,L52/L55*$P$4)","v":2.7407074305459451},{"$f":"IF(M52/M55*$P$4>Detaylı!$C$93,Detaylı!$C$93,M52/M55*$P$4)","v":2.5204274170813865},"kW/kW"]
["Isı Pompası ısıtma COP'si",{"$f":"B56+1","v":3.3870710744622419},{"$f":"C56+1","v":3.3870710744622419},3.5204274170813865,3.4524976021272575,3.6643739213028397,4.0794358411219811,4.2719518436723938,4.5958650964561212,4.4827730054369539,4.1735548942009277,3.7407074305459451,3.5204274170813865,"kW/kW"]
["Soğutma için gereken güç",{"$f":"B60-B59","v":24.666588261494667},{"$f":"C60-C59","v":24.666588261494667},25.058025389139601,24.862411496409226,25.44857300273657,26.420382287376817,26.807023749145973,27.384458798194807,27.192332746371481,26.613863747513705,25.643481039389425,25.058025389139601,"kW"]
["Kompresör elektrik tüketimi",{"$f":"B60/B57","v":10.333411738505333},{"$f":"C60/C57","v":10.333411738505333},9.9419746108604006,10.137588503590774,9.5514269972634303,8.5796177126231825,8.1929762508540271,7.6155412018051951,7.8076672536285185,8.3861362524862937,9.3565189606105754,9.9419746108604006,"kW"]
["Isıtma gücü",{"$f":"Detaylı!F53","v":35},{"$f":"Detaylı!G53","v":35},{"$f":"Detaylı!H53","v":35},{"$f":"Detaylı!I53","v":35},{"$f":"Detaylı!J53","v":35},{"$f":"Detaylı!K53","v":35},{"$f":"Detaylı!L53","v":35},{"$f":"Detaylı!M53","v":35},{"$f":"Detaylı!N53","v":35},{"$f":"Detaylı!O53","v":35},{"$f":"Detaylı!P53","v":35},{"$f":"Detaylı!Q53","v":35},"kW"]

{"sheet":"Havadan Sıcak Su","index":8,"n_rows":70,"n_cols":16,"rows_kept":70,"cut":false,"hidden":true,"merged":[[22,1,22,12]]}
["Sütun1","Ocak","Şubat","Mart","Nisan","Mayıs","Haziran","Temmuz","Ağustos","Eylül","Ekim","Kasım","Aralık"]
["Isı kaynağı ortalama sıcaklık",{"$f":"Detaylı!F30","v":-12.948825999999997},{"$f":"Detaylı!G30","v":-11.378515999999934},{"$f":"Detaylı!H30","v":-5.3300739999999678},{"$f":"Detaylı!I30","v":2.4320340000000442},{"$f":"Detaylı!J30","v":11.997362000000066},{"$f":"Detaylı!K30","v":17.835842000000014},{"$f":"Detaylı!L30","v":21.546194000000014},{"$f":"Detaylı!M30","v":21.481400000000008},{"$f":"Detaylı!N30","v":17.492478000000062},{"$f":"Detaylı!O30","v":10.714992000000052},{"$f":"Detaylı!P30","v":-2.2312500000000455},{"$f":"Detaylı!Q30","v":-8.9863260000000764}]
["Isı Kaynağı Nem Miktarı",{"$f":"B30","v":0.4},0.4,0.4,0.4,0.4,0.4,0.4,0.4,0.4,0.4,0.4,0.4,null,"Soğutma Kapasitesi",{"$f":"Detaylı!C10","v":100}]
["Isı aktırımı ortalama sıcaklık",{"$f":"B38","v":52},52,52,52,52,52,52,52,52,52,52,52,null,"Kompresör Verimi",{"$f":"VLOOKUP(Detaylı!H5,Komp_liste,2,)","v":0.65}]
["Isı Aktarımı Nem Miktarı","-","-","-","-","-","-","-","-","-","-","-","-",null,"Gaz",{"$f":"Detaylı!C4","v":"R134a"}]
["Isıtma / Soğutma",{"$f":"IF(B2<B4,\"Isıtma\",\"Soğutma\")","v":"Isıtma"},{"$f":"IF(C2<C4,\"Isıtma\",\"Soğutma\")","v":"Isıtma"},"Isıtma","Isıtma","Isıtma","Isıtma","Isıtma","Isıtma","Isıtma","Isıtma","Isıtma","Isıtma"]
["Kapasite Kullanım %"]
["Isıtma Kapasitesi",{"$f":"B70","v":35},35,35,35,35,35,35,35,35,35,35,35]
["Soğutma Kapasitesi",{"$f":"B8-B12","v":20.343000084899188},{"$f":"C8-C12","v":20.652675072457541},{"$f":"D8-D12","v":21.847206106141691},23.379874745698487,25.258520700971992,26.394967642385428,27.111714349608349,27.099238668330479,26.328408246724187,25.007705350054067,22.459465641469063,21.124881758897423]
["Kapasite Kullanım kW",{"$f":"IF(B6=\"Isıtma\",B8,B9)","v":35},{"$f":"IF(C6=\"Isıtma\",C8,C9)","v":35},35,35,35,35,35,35,35,35,35,35]
["COP",{"$f":"(B10/B12)","v":2.3879375180960603},{"$f":"(C10/C12)","v":2.4394791486746596},{"$f":"(D10/D12)","v":2.6610315863265548},3.012015725651819,3.5928834754586245,4.0673873781576875,4.4369589985958804,4.4299528274199993,4.0361678681169764,3.5026989521560377,2.790949651694115,2.5225010260682827]
["Güç Gereksinimi (kW)",{"$f":"B69","v":14.656999915100812},14.347324927542459,13.152793893858309,11.620125254301513,9.7414792990280095,8.6050323576145722,7.8882856503916523,7.9007613316695222,8.6715917532758144,9.9922946499459329,12.540534358530937,13.875118241102578]
["Çalışma Saati Günlük",{"$f":"Detaylı!$C$12","v":10},{"$f":"Detaylı!$C$12","v":10},{"$f":"Detaylı!$C$12","v":10},{"$f":"Detaylı!$C$12","v":10},{"$f":"Detaylı!$C$12","v":10},{"$f":"Detaylı!$C$12","v":10},{"$f":"Detaylı!$C$12","v":10},{"$f":"Detaylı!$C$12","v":10},{"$f":"Detaylı!$C$12","v":10},{"$f":"Detaylı!$C$12","v":10},{"$f":"Detaylı!$C$12","v":10},{"$f":"Detaylı!$C$12","v":10}]
["Ayda Kaç Gün",{"$f":"Detaylı!$C$11","v":22},{"$f":"Detaylı!$C$11","v":22},{"$f":"Detaylı!$C$11","v":22},{"$f":"Detaylı!$C$11","v":22},{"$f":"Detaylı!$C$11","v":22},{"$f":"Detaylı!$C$11","v":22},{"$f":"Detaylı!$C$11","v":22},{"$f":"Detaylı!$C$11","v":22},{"$f":"Detaylı!$C$11","v":22},{"$f":"Detaylı!$C$11","v":22},{"$f":"Detaylı!$C$11","v":22},{"$f":"Detaylı!$C$11","v":22}]
["Ayda Kaç Saat",{"$f":"B14*B13","v":220},{"$f":"C14*C13","v":220},220,220,220,220,220,220,220,220,220,220]
["Aylık Toplam Elektrik Tüketimi",{"$f":"B15*B12","v":3224.5399813221784},{"$f":"C15*C12","v":3156.4114840593411},2893.6146566488278,2556.4275559463331,2143.1254457861619,1893.1071186752058,1735.4228430861635,1738.1674929672949,1907.7501857206792,2198.3048229881051,2758.9175588768062,3052.5260130425672]
["Isıtma için Harcanan Enerji",{"$f":"IF(B6=\"Isıtma\",B16,0)","v":3224.5399813221784},{"$f":"IF(C6=\"Isıtma\",C16,0)","v":3156.4114840593411},2893.6146566488278,2556.4275559463331,2143.1254457861619,1893.1071186752058,1735.4228430861635,1738.1674929672949,1907.7501857206792,2198.3048229881051,2758.9175588768062,3052.5260130425672]
["Toplam Isıtma İçin Harcanan Enerji (kWh)",{"$f":"SUM(B17:M17)","v":29258.315159119666}]
["Soğutma için Harcanan Enerji",{"$f":"IF(B6=\"Soğutma\",B16,0)","v":0},{"$f":"IF(C6=\"Soğutma\",C16,0)","v":0},0,0,0,0,0,0,0,0,0,0]
["Toplam Soğutma için Harcanan Enerji (kWh)",{"$f":"SUM(B19:M19)","v":0}]
["Yıllık Toplam (kWh)",{"$f":"SUM(B16:M16)","v":29258.315159119666}]
["Aylık Isıtma Kapasitesi",{"$f":"IF(B6=\"Isıtma\",B8*B15,0)","v":7700},{"$f":"IF(C6=\"Isıtma\",C8*C15,0)","v":7700},7700,7700,7700,7700,7700,7700,7700,7700,7700,7700]
["Toplam Isıtma Kapasitesi",{"$f":"SUM(B22:M22)","v":92400}]
[]
["Sütun1","Sütun2","Sütun3","Sütun4","Sütun5","Sütun6","Sütun7","Sütun8","Sütun9","Sütun10","Sütun11","Sütun12","Sütun13","Sütun14"]
[null,"Ocak","Şubat","Mart","Nisan","Mayıs","Haziran","Temmuz","Ağustos","Eylül","Ekim","Kasım","Aralık"]
["Açıklama","Değer","Değer","Değer","Değer","Değer","Değer","Değer","Değer","Değer","Değer","Değer","Değer","Birim"]
[]
["Isı Kaynağı Isı Pompası Giriş Sıcaklığı",{"$f":"B2","v":-12.948825999999997},{"$f":"C2","v":-11.378515999999934},-5.3300739999999678,2.4320340000000442,11.997362000000066,17.835842000000014,21.546194000000014,21.481400000000008,17.492478000000062,10.714992000000052,-2.2312500000000455,-8.9863260000000764,"C"]
["Isı Kaynağı Isı Pompası Giriş Nem",0.4,0.4,0.4,0.4,0.4,0.4,0.4,0.4,0.4,0.4,0.4,0.4,"%"]
["Isı Kaynağı Isı Pompası Giriş Dew Point",{"$f":"[1]!HAPropsSI(\"D\",\"T\",273+B29,\"P\",101325,\"R\",B30)-273","v":-22.65156700048297},{"$f":"[1]!HAPropsSI(\"D\",\"T\",273+C29,\"P\",101325,\"R\",C30)-273","v":-21.196859574498546},{"$f":"[1]!HAPropsSI(\"D\",\"T\",273+D29,\"P\",101325,\"R\",D30)-273","v":-15.60025735910142},{"$f":"[1]!HAPropsSI(\"D\",\"T\",273+E29,\"P\",101325,\"R\",E30)-273","v":-8.6846133034560467},{"$f":"[1]!HAPropsSI(\"D\",\"T\",273+F29,\"P\",101325,\"R\",F30)-273","v":-1.0058217019119979},{"$f":"[1]!HAPropsSI(\"D\",\"T\",273+G29,\"P\",101325,\"R\",G30)-273","v":4.083151489054103},{"$f":"[1]!HAPropsSI(\"D\",\"T\",273+H29,\"P\",101325,\"R\",H30)-273","v":7.4066643465674815},{"$f":"[1]!HAPropsSI(\"D\",\"T\",273+I29,\"P\",101325,\"R\",I30)-273","v":7.3486763284516314},{"$f":"[1]!HAPropsSI(\"D\",\"T\",273+J29,\"P\",101325,\"R\",J30)-273","v":3.7752887931191026},{"$f":"[1]!HAPropsSI(\"D\",\"T\",273+K29,\"P\",101325,\"R\",K30)-273","v":-2.0266703750715465},{"$f":"[1]!HAPropsSI(\"D\",\"T\",273+L29,\"P\",101325,\"R\",L30)-273","v":-12.736968549354913},{"$f":"[1]!HAPropsSI(\"D\",\"T\",273+M29,\"P\",101325,\"R\",M30)-273","v":-18.982127629517208},"C"]
["Isı Kaynağı Isı Pompası Çıkış Sıcaklığı",{"$f":"B29-Detaylı!$N$4","v":-15.948825999999997},{"$f":"C29-Detaylı!$N$4","v":-14.378515999999934},{"$f":"D29-Detaylı!$N$4","v":-8.3300739999999678},{"$f":"E29-Detaylı!$N$4","v":-0.56796599999995578},{"$f":"F29-Detaylı!$N$4","v":8.9973620000000665},{"$f":"G29-Detaylı!$N$4","v":14.835842000000014},{"$f":"H29-Detaylı!$N$4","v":18.546194000000014},{"$f":"I29-Detaylı!$N$4","v":18.481400000000008},{"$f":"J29-Detaylı!$N$4","v":14.492478000000062},{"$f":"K29-Detaylı!$N$4","v":7.714992000000052},{"$f":"L29-Detaylı!$N$4","v":-5.2312500000000455},{"$f":"M29-Detaylı!$N$4","v":-11.986326000000076},"C"]
["Isı Kaynağı Isı Pompası Çıkış Nem",{"$f":"[1]!HAPropsSI(\"RH\",\"D\",273+B31,\"T\",273+B32,\"P\",101325)","v":0.52708808293464049},{"$f":"[1]!HAPropsSI(\"RH\",\"D\",273+C31,\"T\",273+C32,\"P\",101325)","v":0.52533455286320174},{"$f":"[1]!HAPropsSI(\"RH\",\"D\",273+D31,\"T\",273+D32,\"P\",101325)","v":0.51891303961236224},{"$f":"[1]!HAPropsSI(\"RH\",\"D\",273+E31,\"T\",273+E32,\"P\",101325)","v":0.50020617902469233},{"$f":"[1]!HAPropsSI(\"RH\",\"D\",273+F31,\"T\",273+F32,\"P\",101325)","v":0.48879538231120212},{"$f":"[1]!HAPropsSI(\"RH\",\"D\",273+G31,\"T\",273+G32,\"P\",101325)","v":0.48441104335580498},{"$f":"[1]!HAPropsSI(\"RH\",\"D\",273+H31,\"T\",273+H32,\"P\",101325)","v":0.48178778110102383},{"$f":"[1]!HAPropsSI(\"RH\",\"D\",273+I31,\"T\",273+I32,\"P\",101325)","v":0.48183256244280731},{"$f":"[1]!HAPropsSI(\"RH\",\"D\",273+J31,\"T\",273+J32,\"P\",101325)","v":0.48466000843759877},{"$f":"[1]!HAPropsSI(\"RH\",\"D\",273+K31,\"T\",273+K32,\"P\",101325)","v":0.48980305529606372},{"$f":"[1]!HAPropsSI(\"RH\",\"D\",273+L31,\"T\",273+L32,\"P\",101325)","v":0.51581501620014192},{"$f":"[1]!HAPropsSI(\"RH\",\"D\",273+M31,\"T\",273+M32,\"P\",101325)","v":0.52273317851588963},"%"]
[]
[null,{"$f":"B68","v":20.343000084899188},{"$f":"C68","v":20.652675072457541},21.847206106141691,23.379874745698487,25.258520700971992,26.394967642385428,27.111714349608349,27.099238668330479,26.328408246724187,25.007705350054067,22.459465641469063,21.124881758897423]
[null,{"$f":"B35*3600*1000","v":73234800.305637076},{"$f":"C35*3600*1000","v":74349630.260847151},78649941.982110083,84167549.084514558,90930674.523499176,95021883.512587532,97602171.658590063,97557259.205989733,94782269.688207075,{"$f":"K35*3600*1000","v":90027739.260194644},{"$f":"L35*3600*1000","v":80854076.309288621},{"$f":"M35*3600*1000","v":76049574.332030728}]
["Isıtılacak Su Giriş Sıcaklığı",{"$f":"B38-Detaylı!$N$3","v":47},{"$f":"C38-Detaylı!$N$3","v":47},{"$f":"D38-Detaylı!$N$3","v":47},{"$f":"E38-Detaylı!$N$3","v":47},{"$f":"F38-Detaylı!$N$3","v":47},{"$f":"G38-Detaylı!$N$3","v":47},{"$f":"H38-Detaylı!$N$3","v":47},{"$f":"I38-Detaylı!$N$3","v":47},{"$f":"J38-Detaylı!$N$3","v":47},{"$f":"K38-Detaylı!$N$3","v":47},{"$f":"L38-Detaylı!$N$3","v":47},{"$f":"M38-Detaylı!$N$3","v":47},"C"]
["Isıtılacak Su Çıkış Sıcaklığı",{"$f":"Detaylı!F54","v":52},{"$f":"Detaylı!G54","v":52},{"$f":"Detaylı!H54","v":52},{"$f":"Detaylı!I54","v":52},{"$f":"Detaylı!J54","v":52},{"$f":"Detaylı!K54","v":52},{"$f":"Detaylı!L54","v":52},{"$f":"Detaylı!M54","v":52},{"$f":"Detaylı!N54","v":52},{"$f":"Detaylı!O54","v":52},{"$f":"Detaylı!P54","v":52},{"$f":"Detaylı!Q54","v":52},"C"]
[]
["Subcooler kaç derece?",5,5,5,5,5,5,5,5,5,5,5,5,"C"]
["Superheat kaç derece",5,5,5,5,5,5,5,5,5,5,5,5,"C"]
[]
["Evaporatör Yaklaşım Sıcaklığı",{"$f":"Detaylı!$I$4","v":5},{"$f":"Detaylı!$I$4","v":5},{"$f":"Detaylı!$I$4","v":5},{"$f":"Detaylı!$I$4","v":5},{"$f":"Detaylı!$I$4","v":5},{"$f":"Detaylı!$I$4","v":5},{"$f":"Detaylı!$I$4","v":5},{"$f":"Detaylı!$I$4","v":5},{"$f":"Detaylı!$I$4","v":5},{"$f":"Detaylı!$I$4","v":5},{"$f":"Detaylı!$I$4","v":5},{"$f":"Detaylı!$I$4","v":5},"Önerilen değer"]
["Kondenser Yaklaşım Sıcaklığı",{"$f":"Detaylı!$I$3","v":5},{"$f":"Detaylı!$I$3","v":5},{"$f":"Detaylı!$I$3","v":5},{"$f":"Detaylı!$I$3","v":5},{"$f":"Detaylı!$I$3","v":5},{"$f":"Detaylı!$I$3","v":5},{"$f":"Detaylı!$I$3","v":5},{"$f":"Detaylı!$I$3","v":5},{"$f":"Detaylı!$I$3","v":5},{"$f":"Detaylı!$I$3","v":5},{"$f":"Detaylı!$I$3","v":5},{"$f":"Detaylı!$I$3","v":5},"Önerilen değer"]
[]
["Soğutucu akışkan evap faz değişim sıcaklığı",{"$f":"B32-B43","v":-20.948825999999997},-19.378515999999934,-13.330073999999968,-5.5679659999999558,3.9973620000000665,9.8358420000000137,13.546194000000014,13.481400000000008,9.4924780000000624,2.714992000000052,-10.231250000000045,-16.986326000000076,"C"]
["Soğutucu Akışkan evap çıkış sıcaklığı",{"$f":"B46+B41","v":-15.948825999999997},-14.378515999999934,-8.3300739999999678,-0.56796599999995578,8.9973620000000665,14.835842000000014,18.546194000000014,18.481400000000008,14.492478000000062,7.714992000000052,-5.2312500000000455,-11.986326000000076,"C"]
["Soğutucu akışkan evap faz değişim basıncı",{"$f":"[1]!PropsSI(\"P\",\"T\",B46+273,\"Q\",1,$P$5)","v":126549.82372235105},{"$f":"[1]!PropsSI(\"P\",\"T\",C46+273,\"Q\",1,$P$5)","v":135460.62544931506},{"$f":"[1]!PropsSI(\"P\",\"T\",D46+273,\"Q\",1,$P$5)","v":174479.91162957018},{"$f":"[1]!PropsSI(\"P\",\"T\",E46+273,\"Q\",1,$P$5)","v":236807.46807368001},{"$f":"[1]!PropsSI(\"P\",\"T\",F46+273,\"Q\",1,$P$5)","v":335859.87093868654},{"$f":"[1]!PropsSI(\"P\",\"T\",G46+273,\"Q\",1,$P$5)","v":410274.70085479587},{"$f":"[1]!PropsSI(\"P\",\"T\",H46+273,\"Q\",1,$P$5)","v":463706.73778671515},{"$f":"[1]!PropsSI(\"P\",\"T\",I46+273,\"Q\",1,$P$5)","v":462730.50588432932},{"$f":"[1]!PropsSI(\"P\",\"T\",J46+273,\"Q\",1,$P$5)","v":405578.72457984631},{"$f":"[1]!PropsSI(\"P\",\"T\",K46+273,\"Q\",1,$P$5)","v":321002.79594642401},{"$f":"[1]!PropsSI(\"P\",\"T\",L46+273,\"Q\",1,$P$5)","v":197601.73722559967},{"$f":"[1]!PropsSI(\"P\",\"T\",M46+273,\"Q\",1,$P$5)","v":149974.33080759583},"kPa"]
["Soğutucu akışkan evap sıvı entalpisi",{"$f":"[1]!PropsSI(\"H\",\"P\",B48,\"Q\",0,$P$5)/1000","v":172.21423672903862},{"$f":"[1]!PropsSI(\"H\",\"P\",C48,\"Q\",0,$P$5)/1000","v":174.24648427916253},{"$f":"[1]!PropsSI(\"H\",\"P\",D48,\"Q\",0,$P$5)/1000","v":182.12520565542673},{"$f":"[1]!PropsSI(\"H\",\"P\",E48,\"Q\",0,$P$5)/1000","v":192.36178791528519},{"$f":"[1]!PropsSI(\"H\",\"P\",F48,\"Q\",0,$P$5)/1000","v":205.18929093844946},{"$f":"[1]!PropsSI(\"H\",\"P\",G48,\"Q\",0,$P$5)/1000","v":213.14616249195601},{"$f":"[1]!PropsSI(\"H\",\"P\",H48,\"Q\",0,$P$5)/1000","v":218.25732332709123},{"$f":"[1]!PropsSI(\"H\",\"P\",I48,\"Q\",0,$P$5)/1000","v":218.1676866052947},{"$f":"[1]!PropsSI(\"H\",\"P\",J48,\"Q\",0,$P$5)/1000","v":212.67536351767529},{"$f":"[1]!PropsSI(\"H\",\"P\",K48,\"Q\",0,$P$5)/1000","v":203.4550184223192},{"$f":"[1]!PropsSI(\"H\",\"P\",L48,\"Q\",0,$P$5)/1000","v":186.19437639267875},{"$f":"[1]!PropsSI(\"H\",\"P\",M48,\"Q\",0,$P$5)/1000","v":177.35273863322411},"kj/kg"]
["Soğutucu akışkan evap gaz entalpisi",{"$f":"[1]!PropsSI(\"H\",\"P\",B48,\"Q\",1,$P$5)/1000","v":385.87435710243216},{"$f":"[1]!PropsSI(\"H\",\"P\",C48,\"Q\",1,$P$5)/1000","v":386.84553609529343},{"$f":"[1]!PropsSI(\"H\",\"P\",D48,\"Q\",1,$P$5)/1000","v":390.55542159944827},{"$f":"[1]!PropsSI(\"H\",\"P\",E48,\"Q\",1,$P$5)/1000","v":395.23175791428258},{"$f":"[1]!PropsSI(\"H\",\"P\",F48,\"Q\",1,$P$5)/1000","v":400.83165124252406},{"$f":"[1]!PropsSI(\"H\",\"P\",G48,\"Q\",1,$P$5)/1000","v":404.14256770154765},{"$f":"[1]!PropsSI(\"H\",\"P\",H48,\"Q\",1,$P$5)/1000","v":406.19761753985472},{"$f":"[1]!PropsSI(\"H\",\"P\",I48,\"Q\",1,$P$5)/1000","v":406.16208186352156},{"$f":"[1]!PropsSI(\"H\",\"P\",J48,\"Q\",1,$P$5)/1000","v":403.95037963858374},{"$f":"[1]!PropsSI(\"H\",\"P\",K48,\"Q\",1,$P$5)/1000","v":400.09283451913825},{"$f":"[1]!PropsSI(\"H\",\"P\",L48,\"Q\",1,$P$5)/1000","v":392.43479175237877},{"$f":"[1]!PropsSI(\"H\",\"P\",M48,\"Q\",1,$P$5)/1000","v":388.31893686457164},"kj/kg"]
["Soğutucu akışkan evap + superheat entalpi",{"$f":"[1]!PropsSI(\"H\",\"T\",273+B47,\"P\",B48,$P$5)/1000","v":389.93180258566622},{"$f":"[1]!PropsSI(\"H\",\"T\",273+C47,\"P\",C48,$P$5)/1000","v":390.93059609849934},{"$f":"[1]!PropsSI(\"H\",\"T\",273+D47,\"P\",D48,$P$5)/1000","v":394.75081508942679},{"$f":"[1]!PropsSI(\"H\",\"T\",273+E47,\"P\",E48,$P$5)/1000","v":399.57884528460045},{"$f":"[1]!PropsSI(\"H\",\"T\",273+F47,\"P\",F48,$P$5)/1000","v":405.38381271344434},{"$f":"[1]!PropsSI(\"H\",\"T\",273+G47,\"P\",G48,$P$5)/1000","v":408.83155820446166},{"$f":"[1]!PropsSI(\"H\",\"T\",273+H47,\"P\",H48,$P$5)/1000","v":410.9789413561237},{"$f":"[1]!PropsSI(\"H\",\"T\",273+I47,\"P\",I48,$P$5)/1000","v":410.94175418558024},{"$f":"[1]!PropsSI(\"H\",\"T\",273+J47,\"P\",J48,$P$5)/1000","v":408.63104718735605},{"$f":"[1]!PropsSI(\"H\",\"T\",273+K47,\"P\",K48,$P$5)/1000","v":404.61620361440259},{"$f":"[1]!PropsSI(\"H\",\"T\",273+L47,\"P\",L48,$P$5)/1000","v":396.68930837707899},{"$f":"[1]!PropsSI(\"H\",\"T\",273+M47,\"P\",M48,$P$5)/1000","v":392.44686418188445},"kj/kg"]
["Soğutucu akışkan evap çıkış entropisi",{"$f":"[1]!PropsSI(\"S\",\"T\",B47+273,\"P\",B48,$P$5)","v":1758.2620395775996},{"$f":"[1]!PropsSI(\"S\",\"T\",C47+273,\"P\",C48,$P$5)","v":1756.8518654002255},{"$f":"[1]!PropsSI(\"S\",\"T\",D47+273,\"P\",D48,$P$5)","v":1751.9119311169252},{"$f":"[1]!PropsSI(\"S\",\"T\",E47+273,\"P\",E48,$P$5)","v":1746.5893389377966},{"$f":"[1]!PropsSI(\"S\",\"T\",F47+273,\"P\",F48,$P$5)","v":1741.3282659717868},{"$f":"[1]!PropsSI(\"S\",\"T\",G47+273,\"P\",G48,$P$5)","v":1738.6857022868051},{"$f":"[1]!PropsSI(\"S\",\"T\",H47+273,\"P\",H48,$P$5)","v":1737.1888440797661},{"$f":"[1]!PropsSI(\"S\",\"T\",I47+273,\"P\",I48,$P$5)","v":1737.2139004702474},{"$f":"[1]!PropsSI(\"S\",\"T\",J47+273,\"P\",J48,$P$5)","v":1738.830936683383},{"$f":"[1]!PropsSI(\"S\",\"T\",K47+273,\"P\",K48,$P$5)","v":1741.9616908822538},{"$f":"[1]!PropsSI(\"S\",\"T\",L47+273,\"P\",L48,$P$5)","v":1749.6597241236491},{"$f":"[1]!PropsSI(\"S\",\"T\",M47+273,\"P\",M48,$P$5)","v":1754.8075484072497}]
["Soğutucu akışkan kondenser faz değişim sıcaklığı",{"$f":"B38+B44","v":57},57,57,57,57,57,57,57,57,57,57,57,"C"]
["Soğutucu akışkan kondenser faz değişim basıncı",{"$f":"[1]!PropsSI(\"P\",\"T\",B53+273,\"Q\",1,$P$5)","v":1559915.0127004865},{"$f":"[1]!PropsSI(\"P\",\"T\",C53+273,\"Q\",1,$P$5)","v":1559915.0127004865},{"$f":"[1]!PropsSI(\"P\",\"T\",D53+273,\"Q\",1,$P$5)","v":1559915.0127004865},{"$f":"[1]!PropsSI(\"P\",\"T\",E53+273,\"Q\",1,$P$5)","v":1559915.0127004865},{"$f":"[1]!PropsSI(\"P\",\"T\",F53+273,\"Q\",1,$P$5)","v":1559915.0127004865},{"$f":"[1]!PropsSI(\"P\",\"T\",G53+273,\"Q\",1,$P$5)","v":1559915.0127004865},{"$f":"[1]!PropsSI(\"P\",\"T\",H53+273,\"Q\",1,$P$5)","v":1559915.0127004865},{"$f":"[1]!PropsSI(\"P\",\"T\",I53+273,\"Q\",1,$P$5)","v":1559915.0127004865},{"$f":"[1]!PropsSI(\"P\",\"T\",J53+273,\"Q\",1,$P$5)","v":1559915.0127004865},{"$f":"[1]!PropsSI(\"P\",\"T\",K53+273,\"Q\",1,$P$5)","v":1559915.0127004865},{"$f":"[1]!PropsSI(\"P\",\"T\",L53+273,\"Q\",1,$P$5)","v":1559915.0127004865},{"$f":"[1]!PropsSI(\"P\",\"T\",M53+273,\"Q\",1,$P$5)","v":1559915.0127004865},"Pa"]
["Soğutucu akışkan kondenser sıvı entalpisi",{"$f":"[1]!PropsSI(\"H\",\"P\",B54,\"Q\",0,$P$5)/1000","v":282.4186214889254},{"$f":"[1]!PropsSI(\"H\",\"P\",C54,\"Q\",0,$P$5)/1000","v":282.4186214889254},{"$f":"[1]!PropsSI(\"H\",\"P\",D54,\"Q\",0,$P$5)/1000","v":282.4186214889254},{"$f":"[1]!PropsSI(\"H\",\"P\",E54,\"Q\",0,$P$5)/1000","v":282.4186214889254},{"$f":"[1]!PropsSI(\"H\",\"P\",F54,\"Q\",0,$P$5)/1000","v":282.4186214889254},{"$f":"[1]!PropsSI(\"H\",\"P\",G54,\"Q\",0,$P$5)/1000","v":282.4186214889254},{"$f":"[1]!PropsSI(\"H\",\"P\",H54,\"Q\",0,$P$5)/1000","v":282.4186214889254},{"$f":"[1]!PropsSI(\"H\",\"P\",I54,\"Q\",0,$P$5)/1000","v":282.4186214889254},{"$f":"[1]!PropsSI(\"H\",\"P\",J54,\"Q\",0,$P$5)/1000","v":282.4186214889254},{"$f":"[1]!PropsSI(\"H\",\"P\",K54,\"Q\",0,$P$5)/1000","v":282.4186214889254},{"$f":"[1]!PropsSI(\"H\",\"P\",L54,\"Q\",0,$P$5)/1000","v":282.4186214889254},{"$f":"[1]!PropsSI(\"H\",\"P\",M54,\"Q\",0,$P$5)/1000","v":282.4186214889254},"kj/kg"]
["Soğutucu akışkan kondenser gaz entalpisi",{"$f":"[1]!PropsSI(\"H\",\"P\",B54,\"Q\",1,$P$5)/1000","v":425.72955957715328},{"$f":"[1]!PropsSI(\"H\",\"P\",C54,\"Q\",1,$P$5)/1000","v":425.72955957715328},{"$f":"[1]!PropsSI(\"H\",\"P\",D54,\"Q\",1,$P$5)/1000","v":425.72955957715328},{"$f":"[1]!PropsSI(\"H\",\"P\",E54,\"Q\",1,$P$5)/1000","v":425.72955957715328},{"$f":"[1]!PropsSI(\"H\",\"P\",F54,\"Q\",1,$P$5)/1000","v":425.72955957715328},{"$f":"[1]!PropsSI(\"H\",\"P\",G54,\"Q\",1,$P$5)/1000","v":425.72955957715328},{"$f":"[1]!PropsSI(\"H\",\"P\",H54,\"Q\",1,$P$5)/1000","v":425.72955957715328},{"$f":"[1]!PropsSI(\"H\",\"P\",I54,\"Q\",1,$P$5)/1000","v":425.72955957715328},{"$f":"[1]!PropsSI(\"H\",\"P\",J54,\"Q\",1,$P$5)/1000","v":425.72955957715328},{"$f":"[1]!PropsSI(\"H\",\"P\",K54,\"Q\",1,$P$5)/1000","v":425.72955957715328},{"$f":"[1]!PropsSI(\"H\",\"P\",L54,\"Q\",1,$P$5)/1000","v":425.72955957715328},{"$f":"[1]!PropsSI(\"H\",\"P\",M54,\"Q\",1,$P$5)/1000","v":425.72955957715328},"kj/kg"]
["Subcooling sonrası sıcaklık",{"$f":"B53-B40","v":52},{"$f":"C53-C40","v":52},52,52,52,52,52,52,52,52,52,52,"C"]
["Subcooling sonrası entalpi",{"$f":"[1]!PropsSI(\"H\",\"T\",B57+273,\"Q\",0,$P$5)/1000","v":274.50566826973483},{"$f":"[1]!PropsSI(\"H\",\"T\",C57+273,\"Q\",0,$P$5)/1000","v":274.50566826973483},{"$f":"[1]!PropsSI(\"H\",\"T\",D57+273,\"Q\",0,$P$5)/1000","v":274.50566826973483},{"$f":"[1]!PropsSI(\"H\",\"T\",E57+273,\"Q\",0,$P$5)/1000","v":274.50566826973483},{"$f":"[1]!PropsSI(\"H\",\"T\",F57+273,\"Q\",0,$P$5)/1000","v":274.50566826973483},{"$f":"[1]!PropsSI(\"H\",\"T\",G57+273,\"Q\",0,$P$5)/1000","v":274.50566826973483},{"$f":"[1]!PropsSI(\"H\",\"T\",H57+273,\"Q\",0,$P$5)/1000","v":274.50566826973483},{"$f":"[1]!PropsSI(\"H\",\"T\",I57+273,\"Q\",0,$P$5)/1000","v":274.50566826973483},{"$f":"[1]!PropsSI(\"H\",\"T\",J57+273,\"Q\",0,$P$5)/1000","v":274.50566826973483},{"$f":"[1]!PropsSI(\"H\",\"T\",K57+273,\"Q\",0,$P$5)/1000","v":274.50566826973483},{"$f":"[1]!PropsSI(\"H\",\"T\",L57+273,\"Q\",0,$P$5)/1000","v":274.50566826973483},{"$f":"[1]!PropsSI(\"H\",\"T\",M57+273,\"Q\",0,$P$5)/1000","v":274.50566826973483},"kj/kg"]
["Expansion sonrası flaşh buhar yüzdesi",{"$f":"(B58-B49)/(B50-B49)","v":0.4787577174529864},{"$f":"(C58-C49)/(C50-C49)","v":0.47158810509316279},0.44322010700751219,0.40490901810088303,0.35430147757137709,0.32126000335160976,0.29928837335417791,0.29967904940493006,0.32325342852396083,0.36132749670303621,0.42819585929864434,0.46051419825071643,"%"]
["Expansion sonrası flaşh sıvı yüzdesi",{"$f":"1-B59","v":0.52124228254701355},{"$f":"1-C59","v":0.52841189490683727},0.55677989299248787,0.59509098189911702,0.64569852242862291,0.67873999664839024,0.70071162664582209,0.70032095059506994,0.67674657147603923,0.63867250329696379,0.57180414070135566,0.53948580174928362,"%"]
["Evaporatör soğutma kabiliyeti(sadece buharlaşma)",{"$f":"B60*(B50-B49)","v":111.36868883269732},{"$f":"C60*(C50-C49)","v":112.33986782555861},116.04975332971345,120.72608964454777,126.32598297278923,129.63689943181282,131.69194927011989,131.65641359378674,129.44471136884891,125.58716624940342,117.92912348264394,113.81326859483683,"kj/kg"]
["Evaporatör soğutma kabiliyeti superheat dahil",{"$f":"B51-B58","v":115.42613431593139},{"$f":"C51-C58","v":116.42492782876451},120.24514681969197,125.07317701486562,130.87814444370952,134.32588993472683,136.47327308638887,136.43608591584541,134.12537891762122,130.11053534466777,122.18364010734416,117.94119591214962,"kj/kg"]
["Kompresör çıkış sıcaklığı",{"$f":"[1]!PropsSI(\"T\",\"S\",B52,\"P\",B54,$P$5)","v":344.6524398678647},{"$f":"[1]!PropsSI(\"T\",\"S\",C52,\"P\",C54,$P$5)","v":344.24298818330806},{"$f":"[1]!PropsSI(\"T\",\"S\",D52,\"P\",D54,$P$5)","v":342.81895474758215},{"$f":"[1]!PropsSI(\"T\",\"S\",E52,\"P\",E54,$P$5)","v":341.30309415226594},{"$f":"[1]!PropsSI(\"T\",\"S\",F52,\"P\",F54,$P$5)","v":339.82436975467903},{"$f":"[1]!PropsSI(\"T\",\"S\",G52,\"P\",G54,$P$5)","v":339.08924850914838},{"$f":"[1]!PropsSI(\"T\",\"S\",H52,\"P\",H54,$P$5)","v":338.67516462103981},{"$f":"[1]!PropsSI(\"T\",\"S\",I52,\"P\",I54,$P$5)","v":338.68208214260255},{"$f":"[1]!PropsSI(\"T\",\"S\",J52,\"P\",J54,$P$5)","v":339.12951536390904},{"$f":"[1]!PropsSI(\"T\",\"S\",K52,\"P\",K54,$P$5)","v":340.00134567727969},{"$f":"[1]!PropsSI(\"T\",\"S\",L52,\"P\",L54,$P$5)","v":342.17514886487305},{"$f":"[1]!PropsSI(\"T\",\"S\",M52,\"P\",M54,$P$5)","v":343.65171238036658},"K"]
["Kompresör çıkış entalpisi",{"$f":"[1]!PropsSI(\"H\",\"T\",B63,\"P\",B54,$P$5)/1000","v":443.98826141551012},{"$f":"[1]!PropsSI(\"H\",\"T\",C63,\"P\",C54,$P$5)/1000","v":443.50253030009765},{"$f":"[1]!PropsSI(\"H\",\"T\",D63,\"P\",D54,$P$5)/1000","v":441.80551656301685},{"$f":"[1]!PropsSI(\"H\",\"T\",E63,\"P\",E54,$P$5)/1000","v":439.9848739369487},{"$f":"[1]!PropsSI(\"H\",\"T\",F63,\"P\",F54,$P$5)/1000","v":438.19315208160242},{"$f":"[1]!PropsSI(\"H\",\"T\",G63,\"P\",G54,$P$5)/1000","v":437.29611702716016},{"$f":"[1]!PropsSI(\"H\",\"T\",H63,\"P\",H54,$P$5)/1000","v":436.78885865289476},{"$f":"[1]!PropsSI(\"H\",\"T\",I63,\"P\",I54,$P$5)/1000","v":436.79734471625437},{"$f":"[1]!PropsSI(\"H\",\"T\",J63,\"P\",J54,$P$5)/1000","v":437.34536737101689},{"$f":"[1]!PropsSI(\"H\",\"T\",K63,\"P\",K54,$P$5)/1000","v":438.40846132928942},{"$f":"[1]!PropsSI(\"H\",\"T\",L63,\"P\",L54,$P$5)/1000","v":441.03414297064137},{"$f":"[1]!PropsSI(\"H\",\"T\",M63,\"P\",M54,$P$5)/1000","v":442.79939336268188},"kj/kg"]
["Basınçlandırma için gereken entalpi",{"$f":"B64-B51","v":54.056458829843905},{"$f":"C64-C51","v":52.57193420159831},47.054701473590058,40.406028652348255,32.809339368158078,28.464558822698507,25.809917296771062,25.855590530674135,28.714320183660845,33.79225771488683,44.344834593562382,50.352529180797433,"kj/kg"]
["Isı Pompası soğutma COP'si",{"$f":"IF(B62/B65*$P$4>Detaylı!$C$93,Detaylı!$C$93,B62/B65*$P$4)","v":1.3879375180960603},{"$f":"IF(C62/C65*$P$4>Detaylı!$C$93,Detaylı!$C$93,C62/C65*$P$4)","v":1.4394791486746594},{"$f":"IF(D62/D65*$P$4>Detaylı!$C$93,Detaylı!$C$93,D62/D65*$P$4)","v":1.661031586326555},{"$f":"IF(E62/E65*$P$4>Detaylı!$C$93,Detaylı!$C$93,E62/E65*$P$4)","v":2.012015725651819},{"$f":"IF(F62/F65*$P$4>Detaylı!$C$93,Detaylı!$C$93,F62/F65*$P$4)","v":2.5928834754586245},{"$f":"IF(G62/G65*$P$4>Detaylı!$C$93,Detaylı!$C$93,G62/G65*$P$4)","v":3.0673873781576875},{"$f":"IF(H62/H65*$P$4>Detaylı!$C$93,Detaylı!$C$93,H62/H65*$P$4)","v":3.4369589985958808},{"$f":"IF(I62/I65*$P$4>Detaylı!$C$93,Detaylı!$C$93,I62/I65*$P$4)","v":3.4299528274199997},{"$f":"IF(J62/J65*$P$4>Detaylı!$C$93,Detaylı!$C$93,J62/J65*$P$4)","v":3.0361678681169759},{"$f":"IF(K62/K65*$P$4>Detaylı!$C$93,Detaylı!$C$93,K62/K65*$P$4)","v":2.5026989521560377},{"$f":"IF(L62/L65*$P$4>Detaylı!$C$93,Detaylı!$C$93,L62/L65*$P$4)","v":1.7909496516941152},{"$f":"IF(M62/M65*$P$4>Detaylı!$C$93,Detaylı!$C$93,M62/M65*$P$4)","v":1.522501026068283},"kW/kW"]
["Isı Pompası ısıtma COP'si",{"$f":"B66+1","v":2.3879375180960603},{"$f":"C66+1","v":2.4394791486746596},2.6610315863265548,3.012015725651819,3.5928834754586245,4.0673873781576875,4.4369589985958804,4.4299528274199993,4.0361678681169764,3.5026989521560377,2.790949651694115,2.5225010260682827,"kW/kW"]
["Soğutma için gereken güç",{"$f":"B70-B69","v":20.343000084899188},{"$f":"C70-C69","v":20.652675072457541},21.847206106141691,23.379874745698487,25.258520700971992,26.394967642385428,27.111714349608349,27.099238668330479,26.328408246724187,25.007705350054067,22.459465641469063,21.124881758897423,"kW"]
["Kompresör elektrik tüketimi",{"$f":"B70/B67","v":14.656999915100812},{"$f":"C70/C67","v":14.347324927542459},13.152793893858309,11.620125254301513,9.7414792990280095,8.6050323576145722,7.8882856503916523,7.9007613316695222,8.6715917532758144,9.9922946499459329,12.540534358530937,13.875118241102578,"kW"]
["Isıtma gücü",{"$f":"Detaylı!F53","v":35},{"$f":"Detaylı!G53","v":35},{"$f":"Detaylı!H53","v":35},{"$f":"Detaylı!I53","v":35},{"$f":"Detaylı!J53","v":35},{"$f":"Detaylı!K53","v":35},{"$f":"Detaylı!L53","v":35},{"$f":"Detaylı!M53","v":35},{"$f":"Detaylı!N53","v":35},{"$f":"Detaylı!O53","v":35},{"$f":"Detaylı!P53","v":35},{"$f":"Detaylı!Q53","v":35},"kW"]

{"sheet":"Topraktan Sıcak Su","index":9,"n_rows":60,"n_cols":16,"rows_kept":60,"cut":false,"hidden":true,"merged":[]}
["Sütun1","Ocak","Şubat","Mart","Nisan","Mayıs","Haziran","Temmuz","Ağustos","Eylül","Ekim","Kasım","Aralık"]
["Dış Hava Sıcaklığı",{"$f":"Detaylı!F30","v":-12.948825999999997},{"$f":"Detaylı!G30","v":-11.378515999999934},{"$f":"Detaylı!H30","v":-5.3300739999999678},{"$f":"Detaylı!I30","v":2.4320340000000442},{"$f":"Detaylı!J30","v":11.997362000000066},{"$f":"Detaylı!K30","v":17.835842000000014},{"$f":"Detaylı!L30","v":21.546194000000014},{"$f":"Detaylı!M30","v":21.481400000000008},{"$f":"Detaylı!N30","v":17.492478000000062},{"$f":"Detaylı!O30","v":10.714992000000052},{"$f":"Detaylı!P30","v":-2.2312500000000455},{"$f":"Detaylı!Q30","v":-8.9863260000000764}]
["Isı kaynağı ortalama sıcaklık",{"$f":"Veriler!Z84","v":6.2231108077817243},{"$f":"Veriler!AA84","v":5.1355418913451754},{"$f":"Veriler!AB84","v":5.4886291482180658},{"$f":"Veriler!AC84","v":7.1585690668729116},{"$f":"Veriler!AD84","v":9.7098058782172174},{"$f":"Veriler!AE84","v":12.476922881273349},{"$f":"Veriler!AF84","v":14.738197239805453},{"$f":"Veriler!AG84","v":15.903840613911489},{"$f":"Veriler!AH84","v":15.669828475148966},{"$f":"Veriler!AI84","v":14.097196155350536},{"$f":"Veriler!AJ84","v":11.596119536832539},{"$f":"Veriler!AK84","v":8.8189324778186649}]
["Isıtılan ortam sıcaklık",{"$f":"Detaylı!F10","v":27},{"$f":"Detaylı!G10","v":26.750221878070235},{"$f":"Detaylı!H10","v":25.788138924156016},{"$f":"Detaylı!I10","v":24.553475221794113},{"$f":"Detaylı!J10","v":23.031986048648623},{"$f":"Detaylı!K10","v":22.103300267290535},{"$f":"Detaylı!L10","v":21},{"$f":"Detaylı!M10","v":21},{"$f":"Detaylı!N10","v":22.15791675388126},{"$f":"Detaylı!O10","v":23.235963588254855},{"$f":"Detaylı!P10","v":25.295230874846755},{"$f":"Detaylı!Q10","v":26.369713108783216}]
["Isı aktırımı ortalama sıcaklık",{"$f":"Detaylı!F54","v":52},{"$f":"Detaylı!G54","v":52},{"$f":"Detaylı!H54","v":52},{"$f":"Detaylı!I54","v":52},{"$f":"Detaylı!J54","v":52},{"$f":"Detaylı!K54","v":52},{"$f":"Detaylı!L54","v":52},{"$f":"Detaylı!M54","v":52},{"$f":"Detaylı!N54","v":52},{"$f":"Detaylı!O54","v":52},{"$f":"Detaylı!P54","v":52},{"$f":"Detaylı!Q54","v":52}]
["Isıtma / Soğutma",{"$f":"IF(B3<B5,\"Isıtma\",\"Soğutma\")","v":"Isıtma"},"Isıtma","Isıtma","Isıtma","Isıtma","Isıtma","Isıtma","Isıtma","Isıtma","Isıtma","Isıtma","Isıtma"]
["Kapasite Kullanım %",null,null,null,null,null,null,null,null,null,null,null,null,null,"Soğutma Kapasitesi",{"$f":"Detaylı!C10","v":100}]
["Isıtma Kapasitesi",{"$f":"B60","v":35},{"$f":"C60","v":35},35,35,35,35,35,35,35,35,35,35,null,"Kompresör Verimi",{"$f":"VLOOKUP(Detaylı!H5,Komp_liste,2,)","v":0.65}]
["Soğutma Kapasitesi",{"$f":"B8-B12","v":24.963249764790817},{"$f":"C8-C12","v":24.769011933311457},{"$f":"D8-D12","v":24.83210733964026},25.130062666151701,25.583723670568634,26.073505392360403,26.471866611093866,26.676514234011833,26.635468830215437,26.359122763868555,25.917870134739065,25.425527791151392,null,"Gaz",{"$f":"Detaylı!C4","v":"R134a"}]
["Kapasite Kullanım kW",{"$f":"IF(B6=\"Isıtma\",B8,B9)","v":35},{"$f":"IF(C6=\"Isıtma\",C8,C9)","v":35},35,35,35,35,35,35,35,35,35,35]
["COP",{"$f":"(B10/B12)","v":3.4871845148860126},{"$f":"(C10/C12)","v":3.420979456906788},{"$f":"(D10/D12)","v":3.4422078565453398},3.5461218056542068,3.7169682340995611,3.9209120196012672,4.104063386898936,4.204969045903665,4.1843349363597948,4.0505146692339355,3.8537215960624702,3.6555539811012703]
["Güç Gereksinimi (kW)",{"$f":"B59","v":10.036750235209182},10.230988066688543,10.167892660359742,9.8699373338483003,9.4162763294313656,8.926494607639599,8.5281333889061326,8.3234857659881669,8.364531169784561,8.6408772361314448,9.082129865260935,9.5744722088486078]
["Çalışma Saati Günlük",{"$f":"Detaylı!$C$12","v":10},{"$f":"Detaylı!$C$12","v":10},{"$f":"Detaylı!$C$12","v":10},{"$f":"Detaylı!$C$12","v":10},{"$f":"Detaylı!$C$12","v":10},{"$f":"Detaylı!$C$12","v":10},{"$f":"Detaylı!$C$12","v":10},{"$f":"Detaylı!$C$12","v":10},{"$f":"Detaylı!$C$12","v":10},{"$f":"Detaylı!$C$12","v":10},{"$f":"Detaylı!$C$12","v":10},{"$f":"Detaylı!$C$12","v":10}]
["Ayda Kaç Gün",{"$f":"Detaylı!$C$11","v":22},{"$f":"Detaylı!$C$11","v":22},{"$f":"Detaylı!$C$11","v":22},{"$f":"Detaylı!$C$11","v":22},{"$f":"Detaylı!$C$11","v":22},{"$f":"Detaylı!$C$11","v":22},{"$f":"Detaylı!$C$11","v":22},{"$f":"Detaylı!$C$11","v":22},{"$f":"Detaylı!$C$11","v":22},{"$f":"Detaylı!$C$11","v":22},{"$f":"Detaylı!$C$11","v":22},{"$f":"Detaylı!$C$11","v":22}]
["Ayda Kaç Saat",{"$f":"B14*B13","v":220},{"$f":"C14*C13","v":220},220,220,220,220,220,220,220,220,220,220]
["Aylık Toplam Elektrik Tüketimi",{"$f":"B15*B12","v":2208.0850517460199},{"$f":"C15*C12","v":2250.8173746714792},2236.9363852791435,2171.3862134466262,2071.5807924749006,1963.8288136807118,1876.1893455593492,1831.1668685173968,1840.1968573526035,1900.9929919489177,1998.0685703574056,2106.3838859466937]
["Isıtma için Harcanan Enerji",{"$f":"IF(B6=\"Isıtma\",B16,0)","v":2208.0850517460199},{"$f":"IF(C6=\"Isıtma\",C16,0)","v":2250.8173746714792},2236.9363852791435,2171.3862134466262,2071.5807924749006,1963.8288136807118,1876.1893455593492,1831.1668685173968,1840.1968573526035,1900.9929919489177,1998.0685703574056,2106.3838859466937]
["Toplam Isıtma İçin Harcanan Enerji (kWh)",{"$f":"SUM(B17:M17)","v":24455.633150981244}]
["Soğutma için Harcanan Enerji",{"$f":"IF(B6=\"Soğutma\",B16,0)","v":0},{"$f":"IF(C6=\"Soğutma\",C16,0)","v":0},0,0,0,0,0,0,0,0,0,0]
["Toplam Soğutma için Harcanan Enerji (kWh)",{"$f":"SUM(B19:M19)","v":0}]
["Yıllık Toplam (kWh)",{"$f":"SUM(B16:M16)","v":24455.633150981244}]
["Aylık Isıtma Kapasitesi",{"$f":"IF(B6=\"Isıtma\",B8*B15,0)","v":7700},{"$f":"IF(C6=\"Isıtma\",C8*C15,0)","v":7700},7700,7700,7700,7700,7700,7700,7700,7700,7700,7700]
["Toplam Isıtma Kapasitesi",{"$f":"SUM(B22:M22)","v":92400}]
[]
[]
["Sütun1","OCAK","ŞUBAT","MART","NİSAN","MAYIS","HAZİRAN","TEMMUZ","AĞUSTOS","EYLÜL","EKİM","KASIM","ARALIK","Sütun2"]
["Açıklama","Değer","Değer","Değer","Değer","Değer","Değer","Değer","Değer","Değer","Değer","Değer","Değer","Birim"]
["Isı Kaynağı Isı Pompası Giriş Sıcaklığı",{"$f":"B3","v":6.2231108077817243},5.1355418913451754,5.4886291482180658,7.1585690668729116,9.7098058782172174,12.476922881273349,14.738197239805453,15.903840613911489,15.669828475148966,14.097196155350536,11.596119536832539,8.8189324778186649,"C"]
["Isı Kaynağı Isı Pompası Çıkış Sıcaklığı",{"$f":"B28-Detaylı!$O$4","v":1.2231108077817243},{"$f":"C28-Detaylı!$O$4","v":0.13554189134517536},{"$f":"D28-Detaylı!$O$4","v":0.4886291482180658},{"$f":"E28-Detaylı!$O$4","v":2.1585690668729116},{"$f":"F28-Detaylı!$O$4","v":4.7098058782172174},{"$f":"G28-Detaylı!$O$4","v":7.4769228812733495},{"$f":"H28-Detaylı!$O$4","v":9.7381972398054533},{"$f":"I28-Detaylı!$O$4","v":10.903840613911489},{"$f":"J28-Detaylı!$O$4","v":10.669828475148966},{"$f":"K28-Detaylı!$O$4","v":9.0971961553505363},{"$f":"L28-Detaylı!$O$4","v":6.5961195368325392},{"$f":"M28-Detaylı!$O$4","v":3.8189324778186649},"C"]
["Isıtılacak Su Giriş Sıcaklığı",{"$f":"B31-Detaylı!$O$3","v":49},{"$f":"C31-Detaylı!$O$3","v":49},{"$f":"D31-Detaylı!$O$3","v":49},{"$f":"E31-Detaylı!$O$3","v":49},{"$f":"F31-Detaylı!$O$3","v":49},{"$f":"G31-Detaylı!$O$3","v":49},{"$f":"H31-Detaylı!$O$3","v":49},{"$f":"I31-Detaylı!$O$3","v":49},{"$f":"J31-Detaylı!$O$3","v":49},{"$f":"K31-Detaylı!$O$3","v":49},{"$f":"L31-Detaylı!$O$3","v":49},{"$f":"M31-Detaylı!$O$3","v":49},"C"]
["Isıtılacak Su Çıkış Sıcaklığı",{"$f":"Detaylı!F54","v":52},{"$f":"Detaylı!G54","v":52},{"$f":"Detaylı!H54","v":52},{"$f":"Detaylı!I54","v":52},{"$f":"Detaylı!J54","v":52},{"$f":"Detaylı!K54","v":52},{"$f":"Detaylı!L54","v":52},{"$f":"Detaylı!M54","v":52},{"$f":"Detaylı!N54","v":52},{"$f":"Detaylı!O54","v":52},{"$f":"Detaylı!P54","v":52},{"$f":"Detaylı!Q54","v":52},"C"]
["Subcooler kaç derece?",20,20,20,20,20,20,20,20,20,20,20,20,"C"]
["Superheat kaç derece",10,10,10,10,10,10,10,10,10,10,10,10,"C"]
["Evaporatör Yaklaşım Sıcaklığı",{"$f":"Detaylı!$J$4","v":6},{"$f":"Detaylı!$J$4","v":6},{"$f":"Detaylı!$J$4","v":6},{"$f":"Detaylı!$J$4","v":6},{"$f":"Detaylı!$J$4","v":6},{"$f":"Detaylı!$J$4","v":6},{"$f":"Detaylı!$J$4","v":6},{"$f":"Detaylı!$J$4","v":6},{"$f":"Detaylı!$J$4","v":6},{"$f":"Detaylı!$J$4","v":6},{"$f":"Detaylı!$J$4","v":6},{"$f":"Detaylı!$J$4","v":6},"Önerilen değer"]
["Kondenser Yaklaşım Sıcaklığı",{"$f":"Detaylı!$J$3","v":4},{"$f":"Detaylı!$J$3","v":4},{"$f":"Detaylı!$J$3","v":4},{"$f":"Detaylı!$J$3","v":4},{"$f":"Detaylı!$J$3","v":4},{"$f":"Detaylı!$J$3","v":4},{"$f":"Detaylı!$J$3","v":4},{"$f":"Detaylı!$J$3","v":4},{"$f":"Detaylı!$J$3","v":4},{"$f":"Detaylı!$J$3","v":4},{"$f":"Detaylı!$J$3","v":4},{"$f":"Detaylı!$J$3","v":4},"Önerilen değer"]
["Soğutucu akışkan evap faz değişim sıcaklığı",{"$f":"B29-B34","v":-4.7768891922182757},-5.8644581086548246,-5.5113708517819342,-3.8414309331270884,-1.2901941217827826,1.4769228812733495,3.7381972398054533,4.9038406139114894,4.6698284751489663,3.0971961553505363,0.59611953683253915,-2.1810675221813351,"C"]
["Soğutucu Akışkan evap çıkış sıcaklığı",{"$f":"B36+B33","v":5.2231108077817243},4.1355418913451754,4.4886291482180658,6.1585690668729116,8.7098058782172174,11.476922881273349,13.738197239805453,14.903840613911489,14.669828475148966,13.097196155350536,10.596119536832539,7.8189324778186649,"C"]
["Soğutucu akışkan evap faz değişim basıncı",{"$f":"[1]!PropsSI(\"P\",\"T\",B36+273,\"Q\",1,$P$9)","v":244015.56180027669},{"$f":"[1]!PropsSI(\"P\",\"T\",C36+273,\"Q\",1,$P$9)","v":234148.77173024294},{"$f":"[1]!PropsSI(\"P\",\"T\",D36+273,\"Q\",1,$P$9)","v":237317.61020441051},{"$f":"[1]!PropsSI(\"P\",\"T\",E36+273,\"Q\",1,$P$9)","v":252756.79595787919},{"$f":"[1]!PropsSI(\"P\",\"T\",F36+273,\"Q\",1,$P$9)","v":277828.45069529692},{"$f":"[1]!PropsSI(\"P\",\"T\",G36+273,\"Q\",1,$P$9)","v":307142.64832727722},{"$f":"[1]!PropsSI(\"P\",\"T\",H36+273,\"Q\",1,$P$9)","v":332815.61897623213},{"$f":"[1]!PropsSI(\"P\",\"T\",I36+273,\"Q\",1,$P$9)","v":346675.91128834197},{"$f":"[1]!PropsSI(\"P\",\"T\",J36+273,\"Q\",1,$P$9)","v":343858.50853492471},{"$f":"[1]!PropsSI(\"P\",\"T\",K36+273,\"Q\",1,$P$9)","v":325377.02769546205},{"$f":"[1]!PropsSI(\"P\",\"T\",L36+273,\"Q\",1,$P$9)","v":297565.46257485083},{"$f":"[1]!PropsSI(\"P\",\"T\",M36+273,\"Q\",1,$P$9)","v":268865.31194672256},"kPa"]
["Soğutucu akışkan evap sıvı entalpisi",{"$f":"[1]!PropsSI(\"H\",\"P\",B38,\"Q\",0,$P$9)/1000","v":193.41343339953201},{"$f":"[1]!PropsSI(\"H\",\"P\",C38,\"Q\",0,$P$9)/1000","v":191.9680470790766},{"$f":"[1]!PropsSI(\"H\",\"P\",D38,\"Q\",0,$P$9)/1000","v":192.43697155334891},{"$f":"[1]!PropsSI(\"H\",\"P\",E38,\"Q\",0,$P$9)/1000","v":194.65909416229752},{"$f":"[1]!PropsSI(\"H\",\"P\",F38,\"Q\",0,$P$9)/1000","v":198.06797264982401},{"$f":"[1]!PropsSI(\"H\",\"P\",G38,\"Q\",0,$P$9)/1000","v":201.78506463150003},{"$f":"[1]!PropsSI(\"H\",\"P\",H38,\"Q\",0,$P$9)/1000","v":204.83841930597387},{"$f":"[1]!PropsSI(\"H\",\"P\",I38,\"Q\",0,$P$9)/1000","v":206.41805334268071},{"$f":"[1]!PropsSI(\"H\",\"P\",J38,\"Q\",0,$P$9)/1000","v":206.10061446605363},{"$f":"[1]!PropsSI(\"H\",\"P\",K38,\"Q\",0,$P$9)/1000","v":203.9714206792178},{"$f":"[1]!PropsSI(\"H\",\"P\",L38,\"Q\",0,$P$9)/1000","v":200.59960116198994},{"$f":"[1]!PropsSI(\"H\",\"P\",M38,\"Q\",0,$P$9)/1000","v":196.8756609012643},"kj/kg"]
["Soğutucu akışkan evap gaz entalpisi",{"$f":"[1]!PropsSI(\"H\",\"P\",B38,\"Q\",1,$P$9)/1000","v":395.70220960891635},{"$f":"[1]!PropsSI(\"H\",\"P\",C38,\"Q\",1,$P$9)/1000","v":395.05512217637227},{"$f":"[1]!PropsSI(\"H\",\"P\",D38,\"Q\",1,$P$9)/1000","v":395.2654553392527},{"$f":"[1]!PropsSI(\"H\",\"P\",E38,\"Q\",1,$P$9)/1000","v":396.25693149166744},{"$f":"[1]!PropsSI(\"H\",\"P\",F38,\"Q\",1,$P$9)/1000","v":397.76069794929037},{"$f":"[1]!PropsSI(\"H\",\"P\",G38,\"Q\",1,$P$9)/1000","v":399.37583318579158},{"$f":"[1]!PropsSI(\"H\",\"P\",H38,\"Q\",1,$P$9)/1000","v":400.6826585059851},{"$f":"[1]!PropsSI(\"H\",\"P\",I38,\"Q\",1,$P$9)/1000","v":401.35148103922097},{"$f":"[1]!PropsSI(\"H\",\"P\",J38,\"Q\",1,$P$9)/1000","v":401.21747948565735},{"$f":"[1]!PropsSI(\"H\",\"P\",K38,\"Q\",1,$P$9)/1000","v":400.31344939843802},{"$f":"[1]!PropsSI(\"H\",\"P\",L38,\"Q\",1,$P$9)/1000","v":398.86357719401138},{"$f":"[1]!PropsSI(\"H\",\"P\",M38,\"Q\",1,$P$9)/1000","v":397.23714100550097},"kj/kg"]
["Soğutucu akışkan evap + superheat entalpi",{"$f":"[1]!PropsSI(\"H\",\"T\",273+B37,\"P\",B38,$P$9)/1000","v":404.41333411976865},{"$f":"[1]!PropsSI(\"H\",\"T\",273+C37,\"P\",C38,$P$9)/1000","v":403.72354291514432},{"$f":"[1]!PropsSI(\"H\",\"T\",273+D37,\"P\",D38,$P$9)/1000","v":403.94768820669958},{"$f":"[1]!PropsSI(\"H\",\"T\",273+E37,\"P\",E38,$P$9)/1000","v":405.00517049667599},{"$f":"[1]!PropsSI(\"H\",\"T\",273+F37,\"P\",F38,$P$9)/1000","v":406.61201613977158},{"$f":"[1]!PropsSI(\"H\",\"T\",273+G37,\"P\",G38,$P$9)/1000","v":408.34216396160076},{"$f":"[1]!PropsSI(\"H\",\"T\",273+H37,\"P\",H38,$P$9)/1000","v":409.74559740653456},{"$f":"[1]!PropsSI(\"H\",\"T\",273+I37,\"P\",I38,$P$9)/1000","v":410.46518392327221},{"$f":"[1]!PropsSI(\"H\",\"T\",273+J37,\"P\",J38,$P$9)/1000","v":410.32093715496069},{"$f":"[1]!PropsSI(\"H\",\"T\",273+K37,\"P\",K38,$P$9)/1000","v":409.34875563444189},{"$f":"[1]!PropsSI(\"H\",\"T\",273+L37,\"P\",L38,$P$9)/1000","v":407.79292415104101},{"$f":"[1]!PropsSI(\"H\",\"T\",273+M37,\"P\",M38,$P$9)/1000","v":406.05215018136403},"kj/kg"]
["Soğutucu akışkan evap çıkış entropisi",{"$f":"[1]!PropsSI(\"S\",\"T\",B37+273,\"P\",B38,$P$9)","v":1761.8733699940492},{"$f":"[1]!PropsSI(\"S\",\"T\",C37+273,\"P\",C38,$P$9)","v":1762.5310136922224},{"$f":"[1]!PropsSI(\"S\",\"T\",D37+273,\"P\",D38,$P$9)","v":1762.3153791562327},{"$f":"[1]!PropsSI(\"S\",\"T\",E37+273,\"P\",E38,$P$9)","v":1761.3230079751781},{"$f":"[1]!PropsSI(\"S\",\"T\",F37+273,\"P\",F38,$P$9)","v":1759.89128408592},{"$f":"[1]!PropsSI(\"S\",\"T\",G37+273,\"P\",G38,$P$9)","v":1758.4470824230248},{"$f":"[1]!PropsSI(\"S\",\"T\",H37+273,\"P\",H38,$P$9)","v":1757.3454545611621},{"$f":"[1]!PropsSI(\"S\",\"T\",I37+273,\"P\",I38,$P$9)","v":1756.8036739700462},{"$f":"[1]!PropsSI(\"S\",\"T\",J37+273,\"P\",J38,$P$9)","v":1756.911058882074},{"$f":"[1]!PropsSI(\"S\",\"T\",K37+273,\"P\",K38,$P$9)","v":1757.6508355753083},{"$f":"[1]!PropsSI(\"S\",\"T\",L37+273,\"P\",L38,$P$9)","v":1758.8949843392204},{"$f":"[1]!PropsSI(\"S\",\"T\",M37+273,\"P\",M38,$P$9)","v":1760.3799644661128}]
["Soğutucu akışkan kondenser faz değişim sıcaklığı",{"$f":"B31+B35","v":56},56,56,56,56,56,56,56,56,56,56,56,"C"]
["Soğutucu akışkan kondenser faz değişim basıncı",{"$f":"[1]!PropsSI(\"P\",\"T\",B43+273,\"Q\",1,$P$9)","v":1522655.1091697272},{"$f":"[1]!PropsSI(\"P\",\"T\",C43+273,\"Q\",1,$P$9)","v":1522655.1091697272},{"$f":"[1]!PropsSI(\"P\",\"T\",D43+273,\"Q\",1,$P$9)","v":1522655.1091697272},{"$f":"[1]!PropsSI(\"P\",\"T\",E43+273,\"Q\",1,$P$9)","v":1522655.1091697272},{"$f":"[1]!PropsSI(\"P\",\"T\",F43+273,\"Q\",1,$P$9)","v":1522655.1091697272},{"$f":"[1]!PropsSI(\"P\",\"T\",G43+273,\"Q\",1,$P$9)","v":1522655.1091697272},{"$f":"[1]!PropsSI(\"P\",\"T\",H43+273,\"Q\",1,$P$9)","v":1522655.1091697272},{"$f":"[1]!PropsSI(\"P\",\"T\",I43+273,\"Q\",1,$P$9)","v":1522655.1091697272},{"$f":"[1]!PropsSI(\"P\",\"T\",J43+273,\"Q\",1,$P$9)","v":1522655.1091697272},{"$f":"[1]!PropsSI(\"P\",\"T\",K43+273,\"Q\",1,$P$9)","v":1522655.1091697272},{"$f":"[1]!PropsSI(\"P\",\"T\",L43+273,\"Q\",1,$P$9)","v":1522655.1091697272},{"$f":"[1]!PropsSI(\"P\",\"T\",M43+273,\"Q\",1,$P$9)","v":1522655.1091697272},"Pa"]
["Soğutucu akışkan kondenser sıvı entalpisi",{"$f":"[1]!PropsSI(\"H\",\"P\",B44,\"Q\",0,$P$9)/1000","v":280.82094713916774},{"$f":"[1]!PropsSI(\"H\",\"P\",C44,\"Q\",0,$P$9)/1000","v":280.82094713916774},{"$f":"[1]!PropsSI(\"H\",\"P\",D44,\"Q\",0,$P$9)/1000","v":280.82094713916774},{"$f":"[1]!PropsSI(\"H\",\"P\",E44,\"Q\",0,$P$9)/1000","v":280.82094713916774},{"$f":"[1]!PropsSI(\"H\",\"P\",F44,\"Q\",0,$P$9)/1000","v":280.82094713916774},{"$f":"[1]!PropsSI(\"H\",\"P\",G44,\"Q\",0,$P$9)/1000","v":280.82094713916774},{"$f":"[1]!PropsSI(\"H\",\"P\",H44,\"Q\",0,$P$9)/1000","v":280.82094713916774},{"$f":"[1]!PropsSI(\"H\",\"P\",I44,\"Q\",0,$P$9)/1000","v":280.82094713916774},{"$f":"[1]!PropsSI(\"H\",\"P\",J44,\"Q\",0,$P$9)/1000","v":280.82094713916774},{"$f":"[1]!PropsSI(\"H\",\"P\",K44,\"Q\",0,$P$9)/1000","v":280.82094713916774},{"$f":"[1]!PropsSI(\"H\",\"P\",L44,\"Q\",0,$P$9)/1000","v":280.82094713916774},{"$f":"[1]!PropsSI(\"H\",\"P\",M44,\"Q\",0,$P$9)/1000","v":280.82094713916774},"kj/kg"]
["Soğutucu akışkan kondenser gaz entalpisi",{"$f":"[1]!PropsSI(\"H\",\"P\",B44,\"Q\",1,$P$9)/1000","v":425.42208302764658},{"$f":"[1]!PropsSI(\"H\",\"P\",C44,\"Q\",1,$P$9)/1000","v":425.42208302764658},{"$f":"[1]!PropsSI(\"H\",\"P\",D44,\"Q\",1,$P$9)/1000","v":425.42208302764658},{"$f":"[1]!PropsSI(\"H\",\"P\",E44,\"Q\",1,$P$9)/1000","v":425.42208302764658},{"$f":"[1]!PropsSI(\"H\",\"P\",F44,\"Q\",1,$P$9)/1000","v":425.42208302764658},{"$f":"[1]!PropsSI(\"H\",\"P\",G44,\"Q\",1,$P$9)/1000","v":425.42208302764658},{"$f":"[1]!PropsSI(\"H\",\"P\",H44,\"Q\",1,$P$9)/1000","v":425.42208302764658},{"$f":"[1]!PropsSI(\"H\",\"P\",I44,\"Q\",1,$P$9)/1000","v":425.42208302764658},{"$f":"[1]!PropsSI(\"H\",\"P\",J44,\"Q\",1,$P$9)/1000","v":425.42208302764658},{"$f":"[1]!PropsSI(\"H\",\"P\",K44,\"Q\",1,$P$9)/1000","v":425.42208302764658},{"$f":"[1]!PropsSI(\"H\",\"P\",L44,\"Q\",1,$P$9)/1000","v":425.42208302764658},{"$f":"[1]!PropsSI(\"H\",\"P\",M44,\"Q\",1,$P$9)/1000","v":425.42208302764658},"kj/kg"]
["Subcooling sonrası sıcaklık",{"$f":"B43-B32","v":36},36,36,36,36,36,36,36,36,36,36,36,"C"]
["Subcooling sonrası entalpi",{"$f":"[1]!PropsSI(\"H\",\"T\",B47+273,\"Q\",0,$P$9)/1000","v":250.25642215760163},{"$f":"[1]!PropsSI(\"H\",\"T\",C47+273,\"Q\",0,$P$9)/1000","v":250.25642215760163},{"$f":"[1]!PropsSI(\"H\",\"T\",D47+273,\"Q\",0,$P$9)/1000","v":250.25642215760163},{"$f":"[1]!PropsSI(\"H\",\"T\",E47+273,\"Q\",0,$P$9)/1000","v":250.25642215760163},{"$f":"[1]!PropsSI(\"H\",\"T\",F47+273,\"Q\",0,$P$9)/1000","v":250.25642215760163},{"$f":"[1]!PropsSI(\"H\",\"T\",G47+273,\"Q\",0,$P$9)/1000","v":250.25642215760163},{"$f":"[1]!PropsSI(\"H\",\"T\",H47+273,\"Q\",0,$P$9)/1000","v":250.25642215760163},{"$f":"[1]!PropsSI(\"H\",\"T\",I47+273,\"Q\",0,$P$9)/1000","v":250.25642215760163},{"$f":"[1]!PropsSI(\"H\",\"T\",J47+273,\"Q\",0,$P$9)/1000","v":250.25642215760163},{"$f":"[1]!PropsSI(\"H\",\"T\",K47+273,\"Q\",0,$P$9)/1000","v":250.25642215760163},{"$f":"[1]!PropsSI(\"H\",\"T\",L47+273,\"Q\",0,$P$9)/1000","v":250.25642215760163},{"$f":"[1]!PropsSI(\"H\",\"T\",M47+273,\"Q\",0,$P$9)/1000","v":250.25642215760163},"kj/kg"]
["Expansion sonrası flaşh buhar yüzdesi",{"$f":"(B48-B39)/(B40-B39)","v":0.28099922211815048},{"$f":"(C48-C39)/(C40-C39)","v":0.28701174139516283},0.28506573398874402,0.27578335527711723,0.26134376918094515,0.24531185277911016,0.23190880179653076,0.22488892404419042,0.22630441344530416,0.23573659587970286,0.25045811139988267,0.26642227452385742,"%"]
["Expansion sonrası flaşh sıvı yüzdesi",{"$f":"1-B49","v":0.71900077788184946},{"$f":"1-C49","v":0.71298825860483717},0.71493426601125598,0.72421664472288283,0.73865623081905485,0.75468814722088984,0.76809119820346927,0.77511107595580953,0.77369558655469584,0.76426340412029714,0.74954188860011728,0.73357772547614264,"%"]
["Evaporatör soğutma kabiliyeti(sadece buharlaşma)",{"$f":"B50*(B40-B39)","v":145.44578745131471},{"$f":"C50*(C40-C39)","v":144.79870001877063},145.00903318165106,146.00050933406581,147.50427579168874,149.11941102818994,150.42623634838347,151.09505888161934,150.96105732805572,150.05702724083639,148.60715503640975,146.98071884789934,"kj/kg"]
["Evaporatör soğutma kabiliyeti superheat dahil",{"$f":"B41-B48","v":154.15691196216702},{"$f":"C41-C48","v":153.46712075754269},153.69126604909795,154.74874833907435,156.35559398216995,158.08574180399913,159.48917524893292,160.20876176567057,160.06451499735905,159.09233347684025,157.53650199343937,155.79572802376239,"kj/kg"]
["Kompresör çıkış sıcaklığı",{"$f":"[1]!PropsSI(\"T\",\"S\",B42,\"P\",B44,$P$9)","v":344.65242696604884},{"$f":"[1]!PropsSI(\"T\",\"S\",C42,\"P\",C44,$P$9)","v":344.84595417689491},{"$f":"[1]!PropsSI(\"T\",\"S\",D42,\"P\",D44,$P$9)","v":344.78246913097058},{"$f":"[1]!PropsSI(\"T\",\"S\",E42,\"P\",E44,$P$9)","v":344.49067608170577},{"$f":"[1]!PropsSI(\"T\",\"S\",F42,\"P\",F44,$P$9)","v":344.07077934970266},{"$f":"[1]!PropsSI(\"T\",\"S\",G42,\"P\",G44,$P$9)","v":343.64853012498861},{"$f":"[1]!PropsSI(\"T\",\"S\",H42,\"P\",H44,$P$9)","v":343.32733226926547},{"$f":"[1]!PropsSI(\"T\",\"S\",I42,\"P\",I44,$P$9)","v":343.16965224427702},{"$f":"[1]!PropsSI(\"T\",\"S\",J42,\"P\",J44,$P$9)","v":343.20089059627838},{"$f":"[1]!PropsSI(\"T\",\"S\",K42,\"P\",K44,$P$9)","v":343.41629347087928},{"$f":"[1]!PropsSI(\"T\",\"S\",L42,\"P\",L44,$P$9)","v":343.77934442607625},{"$f":"[1]!PropsSI(\"T\",\"S\",M42,\"P\",M44,$P$9)","v":344.21395545098392},"K"]
["Kompresör çıkış entalpisi",{"$f":"[1]!PropsSI(\"H\",\"T\",B53,\"P\",B44,$P$9)/1000","v":444.70065183813296},{"$f":"[1]!PropsSI(\"H\",\"T\",C53,\"P\",C44,$P$9)/1000","v":444.92737395460921},{"$f":"[1]!PropsSI(\"H\",\"T\",D53,\"P\",D44,$P$9)/1000","v":444.85302010307129},{"$f":"[1]!PropsSI(\"H\",\"T\",E53,\"P\",E44,$P$9)/1000","v":444.51101275332849},{"$f":"[1]!PropsSI(\"H\",\"T\",F53,\"P\",F44,$P$9)/1000","v":444.01809796762643},{"$f":"[1]!PropsSI(\"H\",\"T\",G53,\"P\",G44,$P$9)/1000","v":443.52149544541129},{"$f":"[1]!PropsSI(\"H\",\"T\",H53,\"P\",H44,$P$9)/1000","v":443.14309964484232},{"$f":"[1]!PropsSI(\"H\",\"T\",I53,\"P\",I44,$P$9)/1000","v":442.95713428416065},{"$f":"[1]!PropsSI(\"H\",\"T\",J53,\"P\",J44,$P$9)/1000","v":442.99398720390434},{"$f":"[1]!PropsSI(\"H\",\"T\",K53,\"P\",K44,$P$9)/1000","v":443.24795887476432},{"$f":"[1]!PropsSI(\"H\",\"T\",L53,\"P\",L44,$P$9)/1000","v":443.67544557044789},{"$f":"[1]!PropsSI(\"H\",\"T\",M53,\"P\",M44,$P$9)/1000","v":444.18627358315968},"kj/kg"]
["Basınçlandırma için gereken entalpi",{"$f":"B54-B41","v":40.287317718364307},{"$f":"C54-C41","v":41.203831039464887},40.905331896371706,39.5058422566525,37.406081827854848,35.179331483810529,33.397502238307766,32.491950360888438,32.673050048943651,33.899203240322436,35.882521419406885,38.134123401795648,"kj/kg"]
["Isı Pompası soğutma COP'si",{"$f":"IF(B52/B55*$P$8>Detaylı!$C$93,Detaylı!$C$93,B52/B55*$P$8)","v":2.4871845148860121},{"$f":"IF(C52/C55*$P$8>Detaylı!$C$93,Detaylı!$C$93,C52/C55*$P$8)","v":2.420979456906788},{"$f":"IF(D52/D55*$P$8>Detaylı!$C$93,Detaylı!$C$93,D52/D55*$P$8)","v":2.4422078565453398},{"$f":"IF(E52/E55*$P$8>Detaylı!$C$93,Detaylı!$C$93,E52/E55*$P$8)","v":2.5461218056542068},{"$f":"IF(F52/F55*$P$8>Detaylı!$C$93,Detaylı!$C$93,F52/F55*$P$8)","v":2.7169682340995611},{"$f":"IF(G52/G55*$P$8>Detaylı!$C$93,Detaylı!$C$93,G52/G55*$P$8)","v":2.9209120196012668},{"$f":"IF(H52/H55*$P$8>Detaylı!$C$93,Detaylı!$C$93,H52/H55*$P$8)","v":3.1040633868989365},{"$f":"IF(I52/I55*$P$8>Detaylı!$C$93,Detaylı!$C$93,I52/I55*$P$8)","v":3.2049690459036655},{"$f":"IF(J52/J55*$P$8>Detaylı!$C$93,Detaylı!$C$93,J52/J55*$P$8)","v":3.1843349363597953},{"$f":"IF(K52/K55*$P$8>Detaylı!$C$93,Detaylı!$C$93,K52/K55*$P$8)","v":3.050514669233936},{"$f":"IF(L52/L55*$P$8>Detaylı!$C$93,Detaylı!$C$93,L52/L55*$P$8)","v":2.8537215960624707},{"$f":"IF(M52/M55*$P$8>Detaylı!$C$93,Detaylı!$C$93,M52/M55*$P$8)","v":2.6555539811012703},"kW/kW"]
["Isı Pompası ısıtma COP'si",{"$f":"B56+1","v":3.4871845148860121},{"$f":"C56+1","v":3.420979456906788},3.4422078565453398,3.5461218056542068,3.7169682340995611,3.9209120196012668,4.104063386898936,4.204969045903665,4.1843349363597948,4.0505146692339355,3.8537215960624707,3.6555539811012703,"kW/kW"]
["Soğutma için gereken güç",{"$f":"B60-B59","v":24.963249764790817},{"$f":"C60-C59","v":24.769011933311457},24.83210733964026,25.130062666151701,25.583723670568634,26.073505392360403,26.471866611093866,26.676514234011833,26.635468830215437,26.359122763868555,25.917870134739065,25.425527791151392,"kW"]
["Kompresör elektrik tüketimi",{"$f":"B60/B57","v":10.036750235209182},{"$f":"C60/C57","v":10.230988066688543},10.167892660359742,9.8699373338483003,9.4162763294313656,8.926494607639599,8.5281333889061326,8.3234857659881669,8.364531169784561,8.6408772361314448,9.082129865260935,9.5744722088486078,"kW"]
["Isıtma gücü",{"$f":"Detaylı!F53","v":35},{"$f":"Detaylı!G53","v":35},{"$f":"Detaylı!H53","v":35},{"$f":"Detaylı!I53","v":35},{"$f":"Detaylı!J53","v":35},{"$f":"Detaylı!K53","v":35},{"$f":"Detaylı!L53","v":35},{"$f":"Detaylı!M53","v":35},{"$f":"Detaylı!N53","v":35},{"$f":"Detaylı!O53","v":35},{"$f":"Detaylı!P53","v":35},{"$f":"Detaylı!Q53","v":35},"kW"]

{"sheet":"Veriler","index":10,"n_rows":1039,"n_cols":88,"rows_kept":1039,"cut":false,"hidden":true,"merged":[]}
["il_id","il_adi",null,null,null,null,"Enlem",{"$f":"VLOOKUP(Detaylı!C3,Veriler!B83:D1039,2,FALSE)","v":0},null,1,null,null,null,null,"Soğutucu Akışkanlar"]
["1","ADANA",null,null,null,null,"Boylam",{"$f":"VLOOKUP(Detaylı!C3,Veriler!B83:D1039,3,FALSE)","v":0},null,3]
["2","ADIYAMAN",null,null,null,null,null,null,null,null,null,null,null,null,"R1233zd(E)",null,"Scroll",0.65]
["3","AFYONKARAHİSAR",null,null,null,null,null,null,null,null,null,null,null,null,"R1234yf",null,"Piston",0.6]
["4","AĞRI",null,null,null,null,null,null,null,null,null,null,null,null,"R1234ze(E)",null,"Vidalı",0.73]
["5","AMASYA",null,null,null,null,null,null,null,null,null,null,null,null,"R1234ze(Z)",null,"Santrifüj",0.85]
["6","ANKARA",null,null,null,null,"Doğal zemin",0.02,null,null,"Doğalgaz",8250,"kCal/Sm3","Sm3","R134a"]
["7","ANTALYA",null,null,null,null,"Kuru toprak",1E-3,null,null,"Fuel Oil",9200,"kCal/lt","lt","R22"]
["8","ARTVİN",null,null,null,null,"Killi kuru toprak",0.01,null,null,"Kömür",6000,"kCal/kg","kg","R227EA"]
["9","AYDIN",null,null,null,null,"Killi nemli toprak",2E-3,null,null,"Talaş",4500,"kCal/kg","kg","R245fa"]
["10","BALIKESİR",null,null,null,null,"Islak Kil",1.4999999999999999E-2,null,null,"Elektrik",1,"kWh","kWh","R365MFC"]
["11","BİLECİK",null,null,null,null,null,null,null,null,"Diğer Yakıt",null,null,null,"R404A"]
["12","BİNGÖL",null,null,null,null,"Seçim",{"$f":"VLOOKUP(Detaylı!C22,Veriler!G7:H11,2,)","v":0.02},null,null,null,null,null,null,"R407C"]
["13","BİTLİS",null,null,null,null,null,null,null,null,null,null,{"$f":"VLOOKUP(Detaylı!C7,Veriler!K7:N12,3,FALSE)","v":"kCal/Sm3"},{"$f":"VLOOKUP(Detaylı!C7,Veriler!K7:N12,4,FALSE)","v":"Sm3"},"R410A"]
["14","BOLU",null,null,null,null,null,null,null,null,null,null,null,null,"R507A"]
["15","BURDUR"]
["16","BURSA"]
["17","ÇANAKKALE",null,null,null,null,"DN15",15.7]
["18","ÇANKIRI",null,null,null,null,"DN20",21.1]
["19","ÇORUM",null,null,null,null,"DN25",26.9]
["20","DENİZLİ",null,null,null,null,"DN32",35.200000000000003]
["21","DİYARBAKIR",null,null,null,null,"DN40",40.9]
["22","EDİRNE",null,null,null,null,"DN50",52.5]
["23","ELAZIĞ",null,null,null,null,"DN65",62.6]
["24","ERZİNCAN",null,null,null,null,"DN80",77.900000000000006]
["25","ERZURUM",null,null,null,null,"DN100",102.3]
["26","ESKİŞEHİR",null,null,null,null,"DN125",127.8]
["27","GAZİANTEP",null,null,null,null,"DN150",154.1]
["28","GİRESUN",null,null,null,null,"DN200",202.74]
["29","GÜMÜŞHANE"]
["30","HAKKARİ",null,null,null,null,"Doğal zemin",0.255]
["31","HATAY",null,null,null,null,"Kuru toprak",0.23699999999999999]
["32","ISPARTA",null,null,null,null,"Killi kuru toprak",0.22500000000000001]
["33","MERSİN(İÇEL)",null,null,null,null,"Killi nemli toprak",0.28499999999999998]
["34","İSTANBUL"]
["35","İZMİR",null,null,null,null,"Seçim",{"$f":"VLOOKUP(Detaylı!C22,Veriler!G31:H34,2,)","v":0.255}]
["36","KARS"]
["37","KASTAMONU",null,null,null,null,"En Yüksek Kapasite Gereksinimi",{"$f":"MAX(Detaylı!F11:Q11)","v":100}]
["38","KAYSERİ"]
["39","KIRKLARELİ"]
["40","KIRŞEHİR"]
["41","KOCAELİ"]
["42","KONYA",null,null,null,null,null,"ADANA","ADIYAMAN","AFYONKARAHİSAR","AĞRI","AMASYA","ANKARA","ANTALYA","ARTVİN","AYDIN","BALIKESİR","BİLECİK","BİNGÖL","BİTLİS","BOLU","BURDUR","BURSA","ÇANAKKALE","ÇANKIRI","ÇORUM","DENİZLİ","DİYARBAKIR","EDİRNE","ELAZIĞ","ERZİNCAN","ERZURUM","ESKİŞEHİR","GAZİANTEP","GİRESUN","GÜMÜŞHANE","HAKKARİ","HATAY","ISPARTA","MERSİN(İÇEL)","İSTANBUL","İZMİR","KARS","KASTAMONU","KAYSERİ","KIRKLARELİ","KIRŞEHİR","KOCAELİ","KONYA","KÜTAHYA","MALATYA","MANİSA","KAHRAMANMARAŞ","MARDİN","MUĞLA","MUŞ","NEVŞEHİR","NİĞDE","ORDU","RİZE","SAKARYA","SAMSUN","SİİRT","SİNOP","SİVAS","TEKİRDAĞ","TOKAT","TRABZON","TUNCELİ","ŞANLIURFA","UŞAK","VAN","YOZGAT","ZONGULDAK","AKSARAY","BAYBURT","KARAMAN","KIRIKKALE","BATMAN","ŞIRNAK","BARTIN","ARDAHAN","IĞDIR","YALOVA","KARABÜK","KİLİS","OSMANİYE","DÜZCE"]
["43","KÜTAHYA",null,null,null,null,null,"ALADAĞ(KARSANTI)","ADIYAMAN","AFYON","AĞRI","AMASYA","AKYURT","AKSEKİ","ARDANUÇ","AYDIN","AYVALIK","BİLECİK","ADAKLI","ADİLCEVAZ","BOLU","AĞLASUN","BÜYÜKORHAN","AYVACIK","ATKARACALAR","ALACA","ACIPAYAM","BAĞLAR","EDİRNE","AĞIN","ÇAYIRLI","AŞKALE","ALPU","ARABAN","ALUCRA","GÜMÜŞHANE","ÇUKURCA","ALTINÖZÜ","AKSU","AKDENİZ","ADALAR","ALİAĞA","AKYAKA","ABANA","AKKIŞLA","BABAESKİ","AKÇAKENT","BAŞİSKELE","AHIRLI","ALTINTAŞ","AKÇADAĞ","AHMETLİ","AFŞİN","DARGEÇİT","BODRUM","BULANIK","ACIGÖL","ALTUNHİSAR","AKKUŞ","ARDEŞEN","ADAPAZARI","ALAÇAM","AYDINLAR","AYANCIK","AKINCILAR","ÇERKEZKÖY","ALMUS","AKÇAABAT","ÇEMİŞGEZEK","AKÇAKALE","BANAZ","BAHÇESARAY","AKDAĞMADENİ","ALAPLI","AĞAÇÖREN","AYDINTEPE","AYRANCI","BAHŞİLİ","BATMAN","BEYTÜŞŞEBAP","AMASRA","ARDAHAN","ARALIK","ALTINOVA","EFLANİ","ELBEYLİ","BAHÇE","AKÇAKOCA"]
["44","MALATYA",null,null,null,null,null,"CEYHAN","BESNİ","BAŞMAKÇI","DİYADİN","GÖYNÜCEK","ALTINDAĞ","AKSU","ARHAVİ","BOZDOĞAN","BALIKESİR","BOZÜYÜK","BİNGÖL","AHLAT","DÖRTDİVAN","ALTINYAYLA(DİRMİL)","GEMLİK","BAYRAMİÇ","BAYRAMÖREN","BAYAT","AKKÖY","BİSMİL","ENEZ","ALACAKAYA","ERZİNCAN","AZİZİYE(ILICA)","BEYLİKOVA","İSLAHİYE","BULANCAK","KELKİT","HAKKARİ","ANTAKYA","ATABEY","ANAMUR","ARNAVUTKÖY","BALÇOVA","ARPAÇAY","AĞLI","BÜNYAN","DEMİRKÖY","AKPINAR","ÇAYIROVA","AKÖREN","ASLANAPA","ARAPKİR(ARAPGİR)","AKHİSAR","ANDIRIN","DERİK","DALAMAN","HASKÖY","AVANOS","BOR","AYBASTI","ÇAMLIHEMŞİN","AKYAZI","ASARCIK","BAYKAN","BOYABAT","ALTINYAYLA","ÇORLU","ARTOVA","ARAKLI","HOZAT","BİRECİK","EŞME","BAŞKALE","AYDINCIK","ÇAYCUMA","AKSARAY","BAYBURT","BAŞYAYLA","BALIŞEYH","BEŞİRİ","CİZRE","BARTIN","ÇILDIR","IĞDIR","ARMUTLU","ESKİPAZAR","KİLİS","DÜZİÇİ","CUMAYERİ"]
["45","MANİSA",null,null,null,null,null,"ÇUKUROVA","ÇELİKHAN","BAYAT","DOĞUBAYAZIT(DOĞUBEYAZIT)","GÜMÜŞHACIKÖY","AYAŞ","ALANYA","ARTVİN","BUHARKENT(ÇUBUKDAĞI)","BALYA","GÖLPAZARI","GENÇ","BİTLİS","GEREDE","BUCAK","GÜRSU","BİGA","ÇANKIRI","BOĞAZKALE","BABADAĞ","ÇERMİK","HAVSA","ARICAK","ILIÇ(İLİÇ)","ÇAT","ÇİFTELER","KARKAMIŞ","ÇAMOLUK","KÖSE","ŞEMDİNLİ","BELEN","EĞİRDİR(EĞRİDİR)","AYDINCIK","ATAŞEHİR","BAYINDIR","DİGOR","ARAÇ","DEVELİ","KIRKLARELİ","BOZTEPE","DARICA","AKŞEHİR","ÇAVDARHİSAR","ARGUVAN","ALAŞEHİR","ÇAĞLIYANCERİT","KIZILTEPE","DATÇA","KORKUT","DERİNKUYU","ÇAMARDI","ÇAMAŞ","ÇAYELİ","ARİFİYE","ATAKUM","ERUH","DİKMEN","DİVRİĞİ","HAYRABOLU","BAŞÇİFTLİK","ARSİN","MAZGİRT","BOZOVA","KARAHALLI","ÇALDIRAN","BOĞAZLIYAN","DEVREK","ESKİL","DEMİRÖZÜ","ERMENEK","ÇELEBİ","GERCÜŞ","GÜÇLÜKONAK","KURUCAŞİLE","DAMAL","KARAKOYUNLU","ÇINARCIK","KARABÜK","MUSABEYLİ","HASANBEYLİ","ÇİLİMLİ"]
["46","KAHRAMANMARAŞ",null,null,null,null,null,"FEKE","GERGER","BOLVADİN","ELEŞKİRT","HAMAMÖZÜ","BALA","DEMRE(KALE)","BORÇKA","ÇİNE","BANDIRMA","İNHİSAR","KARLIOVA","GÜROYMAK","GÖYNÜK","BURDUR","HARMANCIK","BOZCAADA","ÇERKEŞ","ÇORUM","BAKLAN","ÇINAR","İPSALA","BASKİL","KEMAH","HINIS","GÜNYÜZÜ","NİZİP","ÇANAKÇI","KÜRTÜN","YÜKSEKOVA","DÖRTYOL","GELENDOST","BOZYAZI","AVCILAR","BAYRAKLI","KAĞIZMAN","AZDAVAY","FELAHİYE","KOFÇAZ","ÇİÇEKDAĞI","DERİNCE","ALTINEKİN","DOMANİÇ","BATTALGAZİ","DEMİRCİ","EKİNÖZÜ","MARDİN","FETHİYE","MALAZGİRT","GÜLŞEHİR","ÇİFTLİK(ÖZYURT)","ÇATALPINAR","DEREPAZARI","ERENLER","AYVACIK","KURTALAN","DURAĞAN","DOĞANŞAR","MALKARA","ERBAA","BEŞİKDÜZÜ","NAZIMİYE","CEYLANPINAR","SİVASLI","ÇATAK","ÇANDIR","GÖKÇEBEY","GÜLAĞAÇ",null,"KARAMAN","DELİCE","HASANKEYF","İDİL","ULUS","GÖLE","TUZLUCA","ÇİFTLİKKÖY","OVACIK","POLATELİ","KADİRLİ","DÜZCE"]
["47","MARDİN",null,null,null,null,null,"İMAMOĞLU","GÖLBAŞI","ÇAY","HAMUR","MERZİFON","BEYPAZARI","DÖŞEMEALTI","HOPA","DİDİM(YENİHİSAR)","BİGADİÇ","OSMANELİ","KİĞI","HİZAN","KIBRISCIK","ÇAVDIR","İNEGÖL","ÇAN","ELDİVAN","DODURGA","BEKİLLİ","ÇÜNGÜŞ","KEŞAN","ELAZIĞ","KEMALİYE","HORASAN","HAN","NURDAĞI","DERELİ","ŞİRAN",null,"ERZİN","GÖNEN","ÇAMLIYAYLA","BAĞCILAR","BERGAMA","KARS","BOZKURT","HACILAR","LÜLEBURGAZ","KAMAN","DİLOVASI","BEYŞEHİR","DUMLUPINAR","DARENDE","GÖLMARMARA","ELBİSTAN","MAZIDAĞI","KAVAKLIDERE","MUŞ","HACIBEKTAŞ","NİĞDE","ÇAYBAŞI","FINDIKLI","FERİZLİ","BAFRA","PERVARİ","ERFELEK","GEMEREK","MARMARAEREĞLİSİ","NİKSAR","ÇARŞIBAŞI","OVACIK","HALFETİ","ULUBEY","EDREMİT(GÜMÜŞDERE)","ÇAYIRALAN","KARADENİZEREĞLİ","GÜZELYURT",null,"KAZIMKARABEKİR","KARAKEÇİLİ","KOZLUK","SİLOPİ",null,"HANAK",null,"TERMAL","SAFRANBOLU",null,"OSMANİYE","GÖLYAKA"]
["48","MUĞLA",null,null,null,null,null,"KARAİSALI","KAHTA","ÇOBANLAR","PATNOS","SULUOVA","ÇAMLIDERE","ELMALI","MURGUL(GÖKTAŞ)","GERMENCİK","BURHANİYE","PAZARYERİ","SOLHAN","MUTKİ","MENGEN","ÇELTİKÇİ","İZNİK","ÇANAKKALE","ILGAZ","İSKİLİP","BEYAĞAÇ","DİCLE","LALAPAŞA","KARAKOÇAN","OTLUKBELİ","İSPİR","İNÖNÜ","OĞUZELİ","DOĞANKENT","TORUL",null,"HASSA","ISPARTA","ERDEMLİ","BAHÇELİEVLER","BEYDAĞ","SARIKAMIŞ","CİDE","İNCESU","PEHLİVANKÖY","KIRŞEHİR","GEBZE","BOZKIR","EMET","DOĞANŞEHİR","GÖRDES","GÖKSUN","MİDYAT(ESTEL)","KÖYCEĞİZ","VARTO","KOZAKLI","ULUKIŞLA","FATSA","GÜNEYSU","GEYVE","CANİK","SİİRT","GERZE","GÖLOVA","MURATLI","PAZAR","ÇAYKARA","PERTEK","HARRAN","UŞAK","ERCİŞ","ÇEKEREK","ZONGULDAK","ORTAKÖY",null,"SARIVELİLER","KESKİN","SASON","ŞIRNAK",null,"POSOF",null,"YALOVA","YENİCE",null,"SUMBAS","GÜMÜŞOVA"]
["49","MUŞ",null,null,null,null,null,"KARATAŞ","SAMSAT","DAZKIRI","TAŞLIÇAY","TAŞOVA","ÇANKAYA","FİNİKE","ŞAVŞAT","İNCİRLİOVA","DURSUNBEY","SÖĞÜT","YAYLADERE","TATVAN","MUDURNU","GÖLHİSAR","KARACABEY","ECEABAT","KIZILIRMAK","KARGI","BOZKURT","EĞİL","MERİÇ","KEBAN","REFAHİYE","KARAÇOBAN","MAHMUDİYE","ŞAHİNBEY","ESPİYE",null,null,"İSKENDERUN","KEÇİBORLU","GÜLNAR (GÜLPINAR)","BAKIRKÖY","BORNOVA","SELİM","ÇATALZEYTİN","KOCASİNAN","PINARHİSAR","MUCUR","GÖLCÜK","CİHANBEYLİ","GEDİZ","DOĞANYOL","KIRKAĞAÇ","KAHRAMANMARAŞ","NUSAYBİN","MARMARİS",null,"NEVŞEHİR",null,"GÖLKÖY","HEMŞİN","HENDEK","ÇARŞAMBA","ŞİRVAN","SARAYDÜZÜ","GÜRÜN","SARAY","REŞADİYE","DERNEKPAZARI","PÜLÜMÜR","HİLVAN",null,"GEVAŞ","KADIŞEHRİ",null,"SARIYAHŞİ",null,null,"KIRIKKALE",null,"ULUDERE",null,null,null,null,null,null,"TOPRAKKALE","KAYNAŞLI"]
["50","NEVŞEHİR",null,null,null,null,null,"KOZAN","SİNCİK","DİNAR","TUTAK",null,"ÇUBUK","GAZİPAŞA","YUSUFELİ","KARACASU","EDREMİT","YENİPAZAR","YEDİSU",null,"SEBEN","KARAMANLI","KELES","EZİNE","KORGUN","LAÇİN","BULDAN","ERGANİ","SÜLOĞLU(SÜLEOĞLU)","KOVANCILAR","TERCAN","KARAYAZI","MİHALGAZİ","ŞEHİTKAMİL","EYNESİL",null,null,"KIRIKHAN","SENİRKENT","MEZİTLİ","BAŞAKŞEHİR","BUCA","SUSUZ","DADAY","MELİKGAZİ","VİZE",null,"İZMİT","ÇELTİK","HİSARCIK","HEKİMHAN","KÖPRÜBAŞI","NURHAK","ÖMERLİ","MİLAS",null,"ÜRGÜP",null,"GÜLYALI","İKİZDERE","KARAPÜRÇEK","HAVZA",null,"SİNOP","HAFİK","ŞARKÖY","SULUSARAY","DÜZKÖY","TUNCELİ","SİVEREK",null,"GÜRPINAR","SARAYKENT",null,null,null,null,"SULAKYURT",null,null,null,null,null,null,null,null,null,"YIĞILCA"]
["51","NİĞDE",null,null,null,null,null,"POZANTI","TUT","EMİRDAĞ",null,null,"ELMADAĞ","GÜNDOĞMUŞ",null,"KARPUZLU","ERDEK",null,null,null,"YENİÇAĞA","KEMER","KESTEL","GELİBOLU","KURŞUNLU","MECİTÖZÜ","ÇAL","HANİ","UZUNKÖPRÜ","MADEN","ÜZÜMLÜ","KÖPRÜKÖY","MİHALIÇÇIK","YAVUZELİ","GİRESUN",null,null,"KUMLU","SÜTÇÜLER","MUT","BAYRAMPAŞA","ÇEŞME",null,"DEVREKANİ","ÖZVATAN(ÇUKUR)",null,null,"KANDIRA","ÇUMRA","KÜTAHYA","KALE","KULA","PAZARCIK","SAVUR","MUĞLA",null,null,null,"GÜRGENTEPE","İYİDERE","KARASU","İLKADIM",null,"TÜRKELİ","İMRANLI","TEKİRDAĞ","TOKAT","HAYRAT",null,"SURUÇ",null,"MURADİYE","SARIKAYA",null,null,null,null,"YAHŞİHAN"]
["52","ORDU",null,null,null,null,null,"SAİMBEYLİ",null,"EVCİLER",null,null,"ETİMESGUT","İBRADI(AYDINKENT)",null,"KOÇARLI","GÖMEÇ",null,null,null,null,"TEFENNİ","MUDANYA","GÖKÇEADA(İMROZ)","ORTA","OĞUZLAR(KARAÖREN)","ÇAMELİ","HAZRO",null,"PALU",null,"NARMAN","ODUNPAZARI",null,"GÖRELE",null,null,"REYHANLI","ŞARKİKARAAĞAÇ","SİLİFKE","BEŞİKTAŞ","ÇİĞLİ",null,"DOĞANYURT","PINARBAŞI",null,null,"KARAMÜRSEL","DERBENT","PAZARLAR","KULUNCAK","MANİSA","TÜRKOĞLU","YEŞİLLİ","ORTACA",null,null,null,"İKİZCE","KALKANDERE","KAYNARCA","KAVAK",null,null,"KANGAL",null,"TURHAL","KÖPRÜBAŞI",null,"ŞANLIURFA",null,"ÖZALP","SORGUN"]
["53","RİZE",null,null,null,null,null,"SARIÇAM",null,"HOCALAR",null,null,"EVREN","KAŞ",null,"KÖŞK","GÖNEN",null,null,null,null,"YEŞİLOVA","MUSTAFAKEMALPAŞA","LAPSEKİ","ŞABANÖZÜ","ORTAKÖY","ÇARDAK","KAYAPINAR",null,"SİVRİCE",null,"OLTU","SARICAKAYA",null,"GÜCE",null,null,"SAMANDAĞ","ULUBORLU","TARSUS","BEYKOZ","DİKİLİ",null,"HANÖNÜ(GÖKÇEAĞAÇ)","SARIOĞLAN",null,null,"KARTEPE","DEREBUCAK","SİMAV","MALATYA","SALİHLİ",null,null,"ULA",null,null,null,"KABADÜZ(KARADÜZ)","PAZAR","KOCAALİ","LADİK",null,null,"KOYULHİSAR",null,"YEŞİLYURT","MAÇKA",null,"VİRANŞEHİR",null,"SARAY","ŞEFAATLİ"]
["54","SAKARYA",null,null,null,null,null,"SEYHAN",null,"İHSANİYE",null,null,"GÖLBAŞI","KEMER",null,"KUŞADASI","HAVRAN",null,null,null,null,null,"NİLÜFER","YENİCE","YAPRAKLI","OSMANCIK","ÇİVRİL","KOCAKÖY",null,null,null,"OLUR","SEYİTGAZİ",null,"KEŞAP",null,null,"YAYLADAĞI","YALVAÇ","TOROSLAR","BEYLİKDÜZÜ","FOÇA",null,"İHSANGAZİ","SARIZ",null,null,"KÖRFEZ(TÜTÜNÇİFTLİK)","DOĞANHİSAR","ŞAPHANE","PÜTÜRGE(PÖTÜRGE)","SARIGÖL",null,null,"YATAĞAN",null,null,null,"KABATAŞ","RİZE","PAMUKOVA","ONDOKUZMAYIS(BALLICA)",null,null,"SİVAS",null,"ZİLE","OF",null,null,null,"VAN","YENİFAKILI"]
["55","SAMSUN",null,null,null,null,null,"TUFANBEYLİ",null,"İSCEHİSAR",null,null,"GÜDÜL","KEPEZ",null,"KUYUCAK","İVRİNDİ",null,null,null,null,null,"ORHANELİ",null,null,"SUNGURLU","DENİZLİ","KULP",null,null,null,"PALANDÖKEN","SİVRİHİSAR",null,"PİRAZİZ",null,null,null,"YENİŞARBADEMLİ","YENİŞEHİR","BEYOĞLU","GAZİEMİR",null,"İNEBOLU","TALAS",null,null,null,"EMİRGAZİ","TAVŞANLI","YAZIHAN","SARUHANLI",null,null,null,null,null,null,"KORGAN",null,"SAPANCA","SALIPAZARI",null,null,"SUŞEHRİ",null,null,"SÜRMENE",null,null,null,null,"YERKÖY"]
["56","SİİRT",null,null,null,null,null,"YUMURTALIK",null,"KIZILÖREN",null,null,"HAYMANA","KONYAALTI",null,"NAZİLLİ","KEPSUT",null,null,null,null,null,"ORHANGAZİ",null,null,"UĞURLUDAĞ","GÜNEY","LİCE",null,null,null,"PASİNLER","TEPEBAŞI",null,"ŞEBİNKARAHİSAR",null,null,null,null,null,"BÜYÜKÇEKMECE","GÜZELBAHÇE",null,"KASTAMONU","TOMARZA",null,null,null,"EREĞLİ",null,"YEŞİLYURT","SELENDİ",null,null,null,null,null,null,"KUMRU",null,"SERDİVAN","TEKKEKÖY",null,null,"ŞARKIŞLA",null,null,"ŞALPAZARI",null,null,null,null,"YOZGAT"]
["57","SİNOP",null,null,null,null,null,"YÜREĞİR",null,"SANDIKLI",null,null,"KALECİK","KORKUTELİ",null,"SÖKE","MANYAS",null,null,null,null,null,"OSMANGAZİ",null,null,null,"HONAZ","SİLVAN",null,null,null,"PAZARYOLU",null,null,"TİREBOLU",null,null,null,null,null,"ÇATALCA","KARABAĞLAR",null,"KÜRE","YAHYALI",null,null,null,"GÜNEYSINIR",null,null,"SOMA",null,null,null,null,null,null,"MESUDİYE",null,"SÖĞÜTLÜ","TERME",null,null,"ULAŞ",null,null,"TONYA"]
["58","SİVAS",null,null,null,null,null,null,null,"SİNCANLI(SİNANPAŞA)",null,null,"KAZAN","KUMLUCA",null,"SULTANHİSAR","MARMARA",null,null,null,null,null,"YENİŞEHİR",null,null,null,"KALE","SUR",null,null,null,"ŞENKAYA",null,null,"YAĞLIDERE",null,null,null,null,null,"ÇEKMEKÖY","KARABURUN",null,"PINARBAŞI","YEŞİLHİSAR",null,null,null,"HADİM",null,null,"TURGUTLU",null,null,null,null,null,null,"ORDU",null,"TARAKLI","VEZİRKÖPRÜ",null,null,"YILDIZELİ",null,null,"TRABZON"]
["59","TEKİRDAĞ",null,null,null,null,null,null,null,"SULTANDAĞI",null,null,"KEÇİÖREN","MANAVGAT",null,"YENİPAZAR","SAVAŞTEPE",null,null,null,null,null,"YILDIRIM",null,null,null,"SARAYKÖY","YENİŞEHİR",null,null,null,"TEKMAN",null,null,null,null,null,null,null,null,"ESENLER","KARŞIYAKA",null,"SEYDİLER",null,null,null,null,"HALKAPINAR",null,null,null,null,null,null,null,null,null,"PERŞEMBE",null,null,"YAKAKENT",null,null,"ZARA",null,null,"VAKFIKEBİR"]
["60","TOKAT",null,null,null,null,null,null,null,"ŞUHUT",null,null,"KIZILCAHAMAM","MURATPAŞA",null,null,"SINDIRGI",null,null,null,null,null,null,null,null,null,"SERİNHİSAR",null,null,null,null,"TORTUM",null,null,null,null,null,null,null,null,"ESENYURT","KEMALPAŞA",null,"ŞENPAZAR",null,null,null,null,"HÜYÜK",null,null,null,null,null,null,null,null,null,"ULUBEY",null,null,null,null,null,null,null,null,"YOMRA"]
["61","TRABZON",null,null,null,null,null,null,null,null,null,null,"MAMAK","SERİK",null,null,"SUSURLUK",null,null,null,null,null,null,null,null,null,"TAVAS",null,null,null,null,"UZUNDERE",null,null,null,null,null,null,null,null,"EYÜP","KINIK",null,"TAŞKÖPRÜ",null,null,null,null,"ILGIN",null,null,null,null,null,null,null,null,null,"ÜNYE"]
["62","TUNCELİ",null,null,null,null,null,null,null,null,null,null,"NALLIHAN",null,null,null,null,null,null,null,null,null,null,null,null,null,null,null,null,null,null,"YAKUTİYE",null,null,null,null,null,null,null,null,"FATİH","KİRAZ",null,"TOSYA",null,null,null,null,"KADINHANI"]
["63","ŞANLIURFA",null,null,null,null,null,null,null,null,null,null,"POLATLI",null,null,null,null,null,null,null,null,null,null,null,null,null,null,null,null,null,null,null,null,null,null,null,null,null,null,null,"GAZİOSMANPAŞA","KONAK",null,null,null,null,null,null,"KARAPINAR"]
["64","UŞAK",null,null,null,null,null,null,null,null,null,null,"PURSAKLAR",null,null,null,null,null,null,null,null,null,null,null,null,null,null,null,null,null,null,null,null,null,null,null,null,null,null,null,"GÜNGÖREN","MENDERES(CUMAOVASI)",null,null,null,null,null,null,"KARATAY"]
["65","VAN",null,null,null,null,null,null,null,null,null,null,"SİNCAN",null,null,null,null,null,null,null,null,null,null,null,null,null,null,null,null,null,null,null,null,null,null,null,null,null,null,null,"KADIKÖY","MENEMEN",null,null,null,null,null,null,"KULU"]
["66","YOZGAT",null,null,null,null,null,null,null,null,null,null,"ŞEREFLİKOÇHİSAR",null,null,null,null,null,null,null,null,null,null,null,null,null,null,null,null,null,null,null,null,null,null,null,null,null,null,null,"KAĞITHANE","NARLIDERE",null,null,null,null,null,null,"MERAM"]
["67","ZONGULDAK",null,null,null,null,null,null,null,null,null,null,"YENİMAHALLE",null,null,null,null,null,null,null,null,null,null,null,null,null,null,null,null,null,null,null,null,null,null,null,null,null,null,null,"KARTAL","ÖDEMİŞ",null,null,null,null,null,null,"SARAYÖNÜ"]
["68","AKSARAY",null,null,null,null,null,null,null,null,null,null,null,null,null,null,null,null,null,null,null,null,null,null,null,null,null,null,null,null,null,null,null,null,null,null,null,null,null,null,"KÜÇÜKÇEKMECE","SEFERİHİSAR",null,null,null,null,null,null,"SELÇUKLU"]
["69","BAYBURT",null,null,null,null,null,null,null,null,null,null,null,null,null,null,null,null,null,null,null,null,null,null,null,null,null,null,null,null,null,null,null,null,null,null,null,null,null,null,"MALTEPE","SELÇUK",null,null,null,null,null,null,"SEYDİŞEHİR"]
["70","KARAMAN",null,null,null,null,null,null,null,null,null,null,null,null,null,null,null,null,null,null,null,null,null,null,null,null,null,null,null,null,null,null,null,null,null,null,null,null,null,null,"PENDİK","TİRE",null,null,null,null,null,null,"TAŞKENT"]
["71","KIRIKKALE",null,null,null,null,null,null,null,null,null,null,null,null,null,null,null,null,null,null,null,null,null,null,null,null,null,null,null,null,null,null,null,null,null,null,null,null,null,null,"SANCAKTEPE","TORBALI",null,null,null,null,null,null,"TUZLUKÇU"]
["72","BATMAN",null,null,null,null,null,null,null,null,null,null,null,null,null,null,null,null,null,null,null,null,null,null,null,null,null,null,null,null,null,null,null,null,null,null,null,null,null,null,"SARIYER","URLA",null,null,null,null,null,null,"YALIHÜYÜK"]
["73","ŞIRNAK",null,null,null,null,null,null,null,null,null,null,null,null,null,null,null,null,null,null,null,null,null,null,null,null,null,null,null,null,null,null,null,null,null,null,null,null,null,null,"SİLİVRİ",null,null,null,null,null,null,null,"YUNAK"]
["74","BARTIN",null,null,null,null,null,null,null,null,null,null,null,null,null,null,null,null,null,null,null,null,null,null,null,null,null,null,null,null,null,null,null,null,null,null,null,null,null,null,"SULTANBEYLİ"]
["75","ARDAHAN",null,null,null,null,null,null,null,null,null,null,null,null,null,null,null,null,null,null,null,null,null,null,null,null,null,null,null,null,null,null,null,null,null,null,null,null,null,null,"SULTANGAZİ"]
["76","IĞDIR",null,null,null,null,null,null,null,null,null,null,null,null,null,null,null,null,null,null,null,null,null,null,null,null,null,null,null,null,null,null,null,null,null,null,null,null,null,null,"ŞİLE"]
["77","YALOVA",null,null,null,null,null,null,"Ocak",null,null,null,null,null,null,null,null,null,null,null,null,null,null,null,null,null,null,null,null,null,null,null,null,null,null,null,null,null,null,null,"ŞİŞLİ"]
["78","KARABÜK",null,null,null,null,null,null,2,3,4,5,6,7,8,9,10,11,12,13,null,null,null,null,null,null,null,null,null,null,null,null,null,null,null,null,null,null,null,null,"TUZLA"]
["79","KİLİS",null,null,null,null,"Seçilen",null,{"$f":"VLOOKUP(Detaylı!$C$2&Detaylı!$C$3,Veriler!$H$83:$T$1039,I79,FALSE)","v":260.20117399999998},{"$f":"VLOOKUP(Detaylı!$C$2&Detaylı!$C$3,Veriler!$H$83:$T$1039,J79,FALSE)","v":261.77148400000004},{"$f":"VLOOKUP(Detaylı!$C$2&Detaylı!$C$3,Veriler!$H$83:$T$1039,K79,FALSE)","v":267.81992600000001},{"$f":"VLOOKUP(Detaylı!$C$2&Detaylı!$C$3,Veriler!$H$83:$T$1039,L79,FALSE)","v":275.58203400000002},{"$f":"VLOOKUP(Detaylı!$C$2&Detaylı!$C$3,Veriler!$H$83:$T$1039,M79,FALSE)","v":285.14736200000004},{"$f":"VLOOKUP(Detaylı!$C$2&Detaylı!$C$3,Veriler!$H$83:$T$1039,N79,FALSE)","v":290.98584199999999},{"$f":"VLOOKUP(Detaylı!$C$2&Detaylı!$C$3,Veriler!$H$83:$T$1039,O79,FALSE)","v":294.69619399999999},{"$f":"VLOOKUP(Detaylı!$C$2&Detaylı!$C$3,Veriler!$H$83:$T$1039,P79,FALSE)","v":294.63139999999999},{"$f":"VLOOKUP(Detaylı!$C$2&Detaylı!$C$3,Veriler!$H$83:$T$1039,Q79,FALSE)","v":290.64247800000004},{"$f":"VLOOKUP(Detaylı!$C$2&Detaylı!$C$3,Veriler!$H$83:$T$1039,R79,FALSE)","v":283.86499200000003},{"$f":"VLOOKUP(Detaylı!$C$2&Detaylı!$C$3,Veriler!$H$83:$T$1039,S79,FALSE)","v":270.91874999999993},{"$f":"VLOOKUP(Detaylı!$C$2&Detaylı!$C$3,Veriler!$H$83:$T$1039,T79,FALSE)","v":264.1636739999999},null,null,null,null,null,null,null,null,null,null,null,null,null,null,null,null,null,null,null,null,"ÜMRANİYE"]
["80","OSMANİYE",null,null,null,null,null,null,null,null,null,null,null,null,null,null,null,null,null,null,null,null,null,null,null,null,null,null,null,null,null,null,null,null,null,null,null,null,null,null,"ÜSKÜDAR"]
["81","DÜZCE",null,null,null,null,null,null,null,null,null,null,null,null,null,null,null,null,null,null,null,null,null,null,null,null,null,null,null,null,null,null,null,null,null,null,null,null,null,null,"ZEYTİNBURNU"]
["1","ALADAĞ(KARSANTI)",null,null,{"$f":"VLOOKUP(A83:A1039,A2:B82,2,FALSE)","v":"ADANA"},null,"ADANA",{"$f":"G83&B83","v":"ADANAALADAĞ(KARSANTI)"},275.73334999999997,277.99658199999999,281.24677800000001,285.23989,296.64198799999991,299.55487999999997,304.619484,304.13139400000006,301.64335599999998,294.68872000000005,283.51313399999998,278.864262,null,null,null,null,null,"Ocak","Şubat","Mart","Nisan","Mayıs","Haziran","Temmuz","Ağustos","Eylül","Ekim","Kasım","Aralık"]
["1","CEYHAN",null,null,"ADANA",null,"ADANA","ADANACEYHAN",281.55638999999996,283.19697400000001,286.32724200000001,290.05630000000002,301.17167799999999,303.79745799999995,308.01753399999996,308.12709599999999,306.191012,300.20395000000002,288.61195600000002,284.18652799999995,null,null,null,null,null,{"$f":"AVERAGE(AD87:AD117)","v":6.2231108077817243},{"$f":"AVERAGE(AD118:AD147)","v":5.1355418913451754},{"$f":"AVERAGE(AD148:AD177)","v":5.4886291482180658},{"$f":"AVERAGE(AD178:AD207)","v":7.1585690668729116},{"$f":"AVERAGE(AD208:AD237)","v":9.7098058782172174},{"$f":"AVERAGE(AD238:AD267)","v":12.476922881273349},{"$f":"AVERAGE(AD268:AD297)","v":14.738197239805453},{"$f":"AVERAGE(AD298:AD327)","v":15.903840613911489},{"$f":"AVERAGE(AD328:AD357)","v":15.669828475148966},{"$f":"AVERAGE(AD358:AD387)","v":14.097196155350536},{"$f":"AVERAGE(AD388:AD417)","v":11.596119536832539},{"$f":"AVERAGE(AD418:AD447)","v":8.8189324778186649}]
["1","ÇUKUROVA",null,null,"ADANA",null,"ADANA","ADANAÇUKUROVA",281.38881600000002,283.09267799999998,286.26513999999997,289.87661199999997,301.20605000000006,304.09120999999993,308.30698999999998,308.26264399999997,306.31288599999999,300.12348399999996,288.53305800000004,284.08027400000003]
["1","FEKE",null,null,"ADANA",null,"ADANA","ADANAFEKE",273.36967800000002,275.673924,279.827248,284.43872399999998,295.59198999999995,298.79902399999997,304.23706199999992,303.89545800000002,301.33242000000001,293.97465200000005,282.40375800000004,277.240432,null,null,null,null,null,null,null,null,null,null,"Tmean","Tamp","Z","a","tyear","tshift"]
["1","İMAMOĞLU",null,null,"ADANA",null,"ADANA","ADANAİMAMOĞLU",280.06225799999999,281.93173999999999,285.28896199999997,289.16879600000004,300.53144200000003,303.40644399999996,308.06206199999997,307.99857399999996,305.69804199999993,298.87582400000008,287.15688399999999,282.62207599999999,null,null,null,null,"a","Z","Tmin","Tmax","tshift",{"$f":"AE87-AF87*(EXP(1)^(-AG87*AL87))*COS(2*PI()/365*(AI87-AJ87-(AG87/2)*AK87))","v":7.1744366666426753},{"$f":"($AB$88+$AA$88)/2","v":10.537500000000001},{"$f":"($AB$88-$AA$88)/2","v":10.6175},{"$f":"$Z$88","v":1},{"$f":"$Y$88","v":0.02},0,{"$f":"$AC$88","v":15},{"$f":"SQRT(365/(PI()*AH87))","v":76.217815652603022},{"$f":"SQRT(PI()/(365*AH87))","v":0.6560146019914489}]
["1","KARAİSALI",null,null,"ADANA",null,"ADANA","ADANAKARAİSALI",277.267336,279.296582,282.57217199999997,286.69028400000002,298.13143999999994,301.00878799999992,305.76830999999999,305.19702199999995,302.74687,296.06918400000001,284.83969800000006,280.29941399999996,null,null,null,null,{"$f":"Veriler!H13","v":0.02},{"$f":"Detaylı!C23","v":1},{"$f":"Veriler!AA92","v":-0.08},{"$f":"Veriler!AB92","v":21.155000000000001},15,7.0998142444770105,10.537500000000001,10.6175,1,0.02,1,15,76.217815652603022,0.6560146019914489]
["1","KARATAŞ",null,null,"ADANA",null,"ADANA","ADANAKARATAŞ",283.93628000000001,285.06225999999998,286.80347,289.62256000000002,301.45,304.84999999999997,307.04999999999995,307.84999999999997,306.25,302.25,291.68896000000001,286.02782999999999,null,null,null,null,null,null,null,null,null,7.0262104827920417,10.537500000000001,10.6175,1,0.02,2,15,76.217815652603022,0.6560146019914489]
["1","KOZAN",null,null,"ADANA",null,"ADANA","ADANAKOZAN",278.557568,280.54853599999996,283.81552399999998,287.62231199999997,298.837694,301.68339799999995,306.61050399999999,306.322022,304.01718399999993,297.326212,286.01547799999997,281.37792999999999,null,null,null,null,null,null,null,null,null,6.9536471919708553,10.537500000000001,10.6175,1,0.02,3,15,76.217815652603022,0.6560146019914489]
["1","POZANTI",null,null,"ADANA",null,"ADANA","ADANAPOZANTI",272.12124399999999,273.98564599999997,277.23857399999997,281.880516,293.410346,296.22597400000001,301.46674999999999,300.95951999999994,298.06601599999999,291.138328,280.27290000000005,275.690044,null,null,null,null,null,"İl","Min","Max",null,6.8821458740825667,10.537500000000001,10.6175,1,0.02,4,15,76.217815652603022,0.6560146019914489]
["1","SAİMBEYLİ",null,null,"ADANA",null,"ADANA","ADANASAİMBEYLİ",269.96655599999997,272.00439799999998,275.98154599999998,281.46801399999998,292.91269599999998,296.36347399999994,301.656206,301.31498800000003,298.55312799999996,291.03910400000007,279.37133800000004,273.858788,null,null,null,null,"Seçim",{"$f":"VLOOKUP(Detaylı!C2,Veriler!Z97:AB177,1,FALSE)","v":"ERZURUM"},{"$f":"VLOOKUP(Detaylı!C2,Veriler!Z97:AB177,2,FALSE)","v":-0.08},{"$f":"VLOOKUP(Detaylı!C2,Veriler!Z97:AB177,3,FALSE)","v":21.155000000000001},null,6.8117277165107915,10.537500000000001,10.6175,1,0.02,5,15,76.217815652603022,0.6560146019914489]
["1","SARIÇAM",null,null,"ADANA",null,"ADANA","ADANASARIÇAM",281.38881600000002,283.09267799999998,286.26513999999997,289.87661199999997,301.20605000000006,304.09120999999993,308.30698999999998,308.26264399999997,306.31288599999999,300.12348399999996,288.53305800000004,284.08027400000003,null,null,null,null,null,null,null,null,null,6.7424135856753642,10.537500000000001,10.6175,1,0.02,6,15,76.217815652603022,0.6560146019914489]
["1","SEYHAN",null,null,"ADANA",null,"ADANA","ADANASEYHAN",281.38881600000002,283.09267799999998,286.26513999999997,289.87661199999997,301.20605000000006,304.09120999999993,308.30698999999998,308.26264399999997,306.31288599999999,300.12348399999996,288.53305800000004,284.08027400000003,null,null,null,null,null,null,null,null,null,6.6742240208491745,10.537500000000001,10.6175,1,0.02,7,15,76.217815652603022,0.6560146019914489]
["1","TUFANBEYLİ",null,null,"ADANA",null,"ADANA","ADANATUFANBEYLİ",268.02710000000002,270.02588000000003,274.04209000000003,279.69106399999998,291.30644199999995,294.85956799999997,299.72494999999998,299.34271999999999,296.800386,289.19496600000002,277.60493000000002,271.79823999999996,null,null,null,null,null,null,null,null,null,6.6071792280719315,10.537500000000001,10.6175,1,0.02,8,15,76.217815652603022,0.6560146019914489]
["1","YUMURTALIK",null,null,"ADANA",null,"ADANA","ADANAYUMURTALIK",282.09840000000003,283.57202000000001,285.54759999999999,288.50927999999999,301.18047999999999,304.39685999999995,306.25899999999996,307.14882,305.31443999999999,300.98437000000001,289.78662000000003,284.54149999999998,null,null,null,null,null,"İl","En Düşük ort","En Yüksek ort",null,6.54129907416268,10.537500000000001,10.6175,1,0.02,9,15,76.217815652603022,0.6560146019914489]
["1","YÜREĞİR",null,null,"ADANA",null,"ADANA","ADANAYÜREĞİR",281.38881600000002,283.09267799999998,286.26513999999997,289.87661199999997,301.20605000000006,304.09120999999993,308.30698999999998,308.26264399999997,306.31288599999999,300.12348399999996,288.53305800000004,284.08027400000003,null,null,null,null,1,"ADANA",9.7900000000000009,28.639999999999997,null,6.4766030808328336,10.537500000000001,10.6175,1,0.02,10,15,76.217815652603022,0.6560146019914489]
["2","ADIYAMAN",null,null,"ADIYAMAN",null,"ADIYAMAN","ADIYAMANADIYAMAN",275.37436600000001,277.07822399999998,281.47060399999998,286.00786600000004,292.55478400000004,298.41279199999997,302.74501999999995,302.441554,298.23701799999998,291.14780400000001,283.37016800000004,278.24667999999997,null,null,null,null,2,"ADIYAMAN",5.0250000000000004,31.255000000000003,null,6.4131104189014705,10.537500000000001,10.6175,1,0.02,11,15,76.217815652603022,0.6560146019914489]
["2","BESNİ",null,null,"ADIYAMAN",null,"ADIYAMAN","ADIYAMANBESNİ",274.72905400000002,276.75478400000003,280.90615200000002,285.33208399999995,291.80282999999997,297.45029599999998,301.80400599999996,301.45248600000002,297.35576199999997,290.29507000000001,282.54672800000003,277.77168199999994,null,null,null,null,3,"AFYONKARAHİSAR",0.48499999999999999,22.419999999999998,null,6.3508399026146041,10.537500000000001,10.6175,1,0.02,12,15,76.217815652603022,0.6560146019914489]
["2","ÇELİKHAN",null,null,"ADIYAMAN",null,"ADIYAMAN","ADIYAMANÇELİKHAN",270.50327200000004,272.00713000000002,276.37920199999996,281.56606399999998,287.86846000000003,293.08193399999999,297.48330600000003,297.19936399999995,293.54560000000004,286.670074,279.116648,273.93535200000002,null,null,null,null,4,"AĞRI",-9.92,21.524999999999999,null,6.2898099840701178,10.537500000000001,10.6175,1,0.02,13,15,76.217815652603022,0.6560146019914489]
["2","GERGER",null,null,"ADIYAMAN",null,"ADIYAMAN","ADIYAMANGERGER",273.44545599999998,275.99345600000004,280.57411999999999,285.03168999999997,291.20400000000001,297.03739999999999,301.495408,301.26967999999999,297.14912399999997,289.96889799999997,282.24165000000005,277.08222799999999,null,null,null,null,5,"AMASYA",0.625,23.97,null,6.2300387477500099,10.537500000000001,10.6175,1,0.02,14,15,76.217815652603022,0.6560146019914489]
["2","GÖLBAŞI",null,null,"ADIYAMAN",null,"ADIYAMAN","ADIYAMANGÖLBAŞI",272.42671000000001,274.77431399999995,279.59560599999998,284.62465400000002,290.79736200000002,295.99130600000001,300.36025199999995,300.08490999999998,296.48662000000002,289.72671200000002,281.74047400000001,276.13574399999999,null,null,null,null,6,"ANKARA",2.8850000000000002,24.09,null,6.1715439051615713,10.537500000000001,10.6175,1,0.02,15,15,76.217815652603022,0.6560146019914489]
["2","KAHTA",null,null,"ADIYAMAN",null,"ADIYAMAN","ADIYAMANKAHTA",276.34311400000007,278.08837599999998,282.70263800000004,287.04418999999996,293.48447399999998,299.33779599999997,303.711816,303.49350199999998,299.08193399999999,291.98998999999998,284.25415399999997,279.23379000000006,null,null,null,null,7,"ANTALYA",0.79,23.605,null,6.1143427895890836,10.537500000000001,10.6175,1,0.02,16,15,76.217815652603022,0.6560146019914489]
["2","SAMSAT",null,null,"ADIYAMAN",null,"ADIYAMAN","ADIYAMANSAMSAT",277.76108199999999,279.261034,283.60771600000004,287.95395599999995,294.110254,299.58779400000003,303.84346000000005,303.62866400000001,299.55654400000003,292.64272399999999,284.97406999999998,280.32246399999997,null,null,null,null,8,"ARTVİN",8.52,27.830000000000002,null,6.0584523509575909,10.537500000000001,10.6175,1,0.02,17,15,76.217815652603022,0.6560146019914489]
["2","SİNCİK",null,null,"ADIYAMAN",null,"ADIYAMAN","ADIYAMANSİNCİK",272.82201999999995,274.881732,279.87177400000002,284.69106799999997,290.97431999999998,296.53427799999997,300.85595799999999,300.65288199999998,296.78388600000005,289.80951999999996,281.89242999999999,276.50215200000002,null,null,null,null,9,"AYDIN",9.620000000000001,28.46,null,6.0038891508102745,10.537500000000001,10.6175,1,0.02,18,15,76.217815652603022,0.6560146019914489]
["2","TUT",null,null,"ADIYAMAN",null,"ADIYAMAN","ADIYAMANTUT",273.07710000000003,275.02119000000005,279.26552800000002,283.88442199999997,290.31142600000004,295.84560799999997,300.17860999999999,299.81850600000001,295.84912199999997,288.87397599999997,281.263912,276.32129199999997,null,null,null,null,10,"BALIKESİR",-10.84,16.36,null,5.9506693574009093,10.537500000000001,10.6175,1,0.02,19,15,76.217815652603022,0.6560146019914489]
["3","AFYON",null,null,"AFYONKARAHİSAR",null,"AFYONKARAHİSAR","AFYONKARAHİSARAFYON",272.37865999999997,275.88642600000003,279.01318199999997,283.73325,289.32353799999999,291.98271599999998,296.21650600000004,296.05522000000002,292.49404199999998,286.46225600000002,280.08774600000004,275.48262,null,null,null,null,11,"BİLECİK",2.5249999999999999,20.645,null,5.8988087409028589,10.537500000000001,10.6175,1,0.02,20,15,76.217815652603022,0.6560146019914489]
["3","BAŞMAKÇI",null,null,"AFYONKARAHİSAR",null,"AFYONKARAHİSAR","AFYONKARAHİSARBAŞMAKÇI",275.41343000000001,277.74697399999997,280.48818199999994,285.03091000000001,290.76299000000006,293.817476,298.34111399999995,298.20365800000002,294.74365399999999,288.62475599999999,282.61391400000002,277.95214599999997,null,null,null,null,12,"BİNGÖL",8.41,28.725000000000001,null,5.848322668736035,10.537500000000001,10.6175,1,0.02,21,15,76.217815652603022,0.6560146019914489]
["3","BAYAT",null,null,"AFYONKARAHİSAR",null,"AFYONKARAHİSAR","AFYONKARAHİSARBAYAT",271.46850799999999,274.94814400000007,278.05302799999998,282.59692200000001,288.06689399999999,290.64521999999999,294.97314400000005,294.88217799999995,291.30771199999998,285.48413399999998,279.370948,274.71191399999998,null,null,null,null,13,"BİTLİS",5.0999999999999996,25.044999999999998,null,5.7992261010132005,10.537500000000001,10.6175,1,0.02,22,15,76.217815652603022,0.6560146019914489]
["3","BOLVADİN",null,null,"AFYONKARAHİSAR",null,"AFYONKARAHİSAR","AFYONKARAHİSARBOLVADİN",272.75054200000005,276.258692,279.850684,284.48285799999996,290.05127000000005,292.88467200000002,297.00830399999995,296.83139599999993,293.40146799999997,287.44897200000003,280.93071199999997,276.20566599999995,null,null,null,null,14,"BOLU",4.1399999999999997,22.05,null,5.7515335861069614,10.537500000000001,10.6175,1,0.02,23,15,76.217815652603022,0.6560146019914489]
["3","ÇAY",null,null,"AFYONKARAHİSAR",null,"AFYONKARAHİSAR","AFYONKARAHİSARÇAY",272.57475400000004,275.73447200000004,279.18232799999998,283.72895200000005,289.30399999999997,292.18388599999992,296.38252,296.17670800000002,292.76396800000003,286.83726000000001,280.54907000000003,275.86816399999998,null,null,null,null,15,"BURDUR",3.7649999999999997,31.689999999999998,null,5.7052592563387732,10.537500000000001,10.6175,1,0.02,24,15,76.217815652603022,0.6560146019914489]
["3","ÇOBANLAR",null,null,"AFYONKARAHİSAR",null,"AFYONKARAHİSAR","AFYONKARAHİSARÇOBANLAR",272.60170800000003,276.08642599999996,279.47529599999996,284.11997200000002,289.71728199999995,292.47724800000003,296.68095799999998,296.523976,293.02060799999998,287.01225599999998,280.56547599999999,275.84277200000008,null,null,null,null,16,"BURSA",-5.92,19.065000000000001,null,5.6604168237912287,10.537500000000001,10.6175,1,0.02,25,15,76.217815652603022,0.6560146019914489]
["3","DAZKIRI",null,null,"AFYONKARAHİSAR",null,"AFYONKARAHİSAR","AFYONKARAHİSARDAZKIRI",275.78842599999996,278.09892600000001,280.91161799999998,285.59457800000001,291.29462999999998,294.275688,298.88447400000001,298.71264800000006,295.15927999999997,289.07788199999999,283.05805199999998,278.32207199999999,null,null,null,null,17,"ÇANAKKALE",2.9947368421052629,22.380000000000003,null,5.6170195762448705,10.537500000000001,10.6175,1,0.02,26,15,76.217815652603022,0.6560146019914489]
["3","DİNAR",null,null,"AFYONKARAHİSAR",null,"AFYONKARAHİSAR","AFYONKARAHİSARDİNAR",273.90170999999998,276.491894,279.37177999999994,283.70239200000003,289.387204,292.41357600000003,296.92626600000006,296.75991000000005,293.45459599999998,287.07006799999999,280.82173399999999,276.65019199999995,null,null,null,null,18,"ÇANKIRI",-1.7250000000000001,26.914999999999999,null,5.5750803732407359,10.537500000000001,10.6175,1,0.02,27,15,76.217815652603022,0.6560146019914489]
["3","EMİRDAĞ",null,null,"AFYONKARAHİSAR",null,"AFYONKARAHİSAR","AFYONKARAHİSAREMİRDAĞ",272.12514399999998,275.747366,279.26200799999998,283.93090799999999,289.446192,292.11279400000001,296.38290799999999,296.27983200000006,292.63193200000001,286.75522599999994,280.29907800000001,275.33027400000003,null,null,null,null,19,"ÇORUM",-2.5,23.19,null,5.5346116422697973,10.537500000000001,10.6175,1,0.02,28,15,76.217815652603022,0.6560146019914489]
["3","EVCİLER",null,null,"AFYONKARAHİSAR",null,"AFYONKARAHİSAR","AFYONKARAHİSAREVCİLER",275.84546,278.452046,281.39053000000001,286.19301800000005,291.954004,294.89443399999999,299.460644,299.22514600000005,295.61982599999999,289.33842800000002,283.01782400000002,278.36816799999997,null,null,null,null,20,"DENİZLİ",1.1800000000000002,20.005000000000003,null,5.4956253750904267,10.537500000000001,10.6175,1,0.02,29,15,76.217815652603022,0.6560146019914489]
["3","HOCALAR",null,null,"AFYONKARAHİSAR",null,"AFYONKARAHİSAR","AFYONKARAHİSARHOCALAR",272.30366000000004,275.40205200000003,278.20653999999996,282.733248,288.26767599999994,290.94091600000002,295.45751999999999,295.46225400000003,291.89599400000003,285.922414,279.96782199999996,275.41582000000005,null,null,null,null,21,"DİYARBAKIR",2.6850000000000001,24.759999999999998,null,5.4581331241749842,10.537500000000001,10.6175,1,0.02,30,15,76.217815652603022,0.6560146019914489]
["3","İHSANİYE",null,null,"AFYONKARAHİSAR",null,"AFYONKARAHİSAR","AFYONKARAHİSARİHSANİYE",272.05444399999999,275.57470599999999,278.52568200000002,283.204342,288.70049200000005,291.29365199999995,295.37275,295.30092400000001,291.77060399999999,285.88491399999998,279.64594599999998,275.21620999999999,null,null,null,null,22,"EDİRNE",5.66,24.830000000000002,null,5.4221459992865633,10.537500000000001,10.6175,1,0.02,31,15,76.217815652603022,0.6560146019914489]
["3","İSCEHİSAR",null,null,"AFYONKARAHİSAR",null,"AFYONKARAHİSAR","AFYONKARAHİSARİSCEHİSAR",271.75796000000003,275.31377199999997,278.44521199999997,283.02582799999999,288.59658000000002,291.22333399999997,295.51923799999997,295.35756599999996,291.79951399999999,285.76264800000001,279.48696600000005,275.04824400000001,null,null,null,null,23,"ELAZIĞ",6.4349999999999996,25.315000000000001,null,5.3876746641869353,10.537500000000001,10.6175,1,0.02,32,15,76.217815652603022,0.6560146019914489]
["3","KIZILÖREN",null,null,"AFYONKARAHİSAR",null,"AFYONKARAHİSAR","AFYONKARAHİSARKIZILÖREN",275.17982999999992,277.63447400000007,280.4667,285.19887399999999,290.88408200000003,293.74209200000001,298.41337599999997,298.23139399999997,294.57021400000002,288.305226,282.16899799999999,277.65957200000003,null,null,null,null,24,"ERZİNCAN",-0.3,23.215,null,5.3547293334766417,10.537500000000001,10.6175,1,0.02,33,15,76.217815652603022,0.6560146019914489]
["3","SANDIKLI",null,null,"AFYONKARAHİSAR",null,"AFYONKARAHİSAR","AFYONKARAHİSARSANDIKLI",272.207176,275.37861400000003,278.20498200000003,282.79418999999996,288.299712,291.045996,295.38564600000001,295.32280200000002,291.901072,285.91850800000003,279.75259,275.276366,null,null,null,null,25,"ERZURUM",-0.08,21.155000000000001,null,5.3233197695681911,10.537500000000001,10.6175,1,0.02,34,15,76.217815652603022,0.6560146019914489]
["3","SİNCANLI(SİNANPAŞA)",null,null,"AFYONKARAHİSAR",null,"AFYONKARAHİSAR","AFYONKARAHİSARSİNCANLI(SİNANPAŞA)",271.67320000000001,274.90361399999995,277.645216,282.294578,287.83056599999998,290.48115200000001,294.91962799999999,294.79780199999999,291.21318000000002,285.33803599999999,279.32407000000001,274.74472600000001,null,null,null,null,26,"ESKİŞEHİR",6.11,27.830000000000002,null,5.2934552797932426,10.537500000000001,10.6175,1,0.02,35,15,76.217815652603022,0.6560146019914489]
["3","SULTANDAĞI",null,null,"AFYONKARAHİSAR",null,"AFYONKARAHİSAR","AFYONKARAHİSARSULTANDAĞI",271.71967800000004,274.53173799999996,277.86982,282.33911000000001,287.81259799999998,290.70966600000003,295.06142799999998,294.87436799999995,291.56982199999999,285.77671599999996,279.81000999999998,275.07285400000001,null,null,null,null,27,"GAZİANTEP",2.1100000000000003,31.214999999999996,null,5.2651447136446468,10.537500000000001,10.6175,1,0.02,36,15,76.217815652603022,0.6560146019914489]
["3","ŞUHUT",null,null,"AFYONKARAHİSAR",null,"AFYONKARAHİSAR","AFYONKARAHİSARŞUHUT",271.45053999999999,274.50361000000004,277.34560199999999,281.78051599999998,287.25166400000001,290.07217199999997,294.48252200000002,294.441552,290.99404400000003,284.98569600000002,278.93149399999999,274.50331599999998,null,null,null,null,28,"GİRESUN",3.875,22.574999999999999,null,5.238396460154144,10.537500000000001,10.6175,1,0.02,37,15,76.217815652603022,0.6560146019914489]
["4","AĞRI",null,null,"AĞRI",null,"AĞRI","AĞRIAĞRI",259.00508199999996,260.48945200000003,267.20468399999993,276.84765599999992,286.08838000000003,291.59169600000001,294.86220199999997,294.32123999999993,290.79248200000001,283.55717800000002,271.61093199999993,264.64804600000002,null,null,null,null,29,"GÜMÜŞHANE",2.93,24.869999999999997,null,5.2132184454065182,10.537500000000001,10.6175,1,0.02,38,15,76.217815652603022,0.6560146019914489]
["4","DİYADİN",null,null,"AĞRI",null,"AĞRI","AĞRIDİYADİN",257.54999999999995,258.75,265.25,273.84999999999997,283.92158200000006,289.58701199999996,292.76220000000001,292.16498999999999,288.40302400000002,281.13920999999999,269.64999999999998,262.45,null,null,null,null,30,"HAKKARİ",-0.44000000000000006,27.330000000000002,null,5.189618130190925,10.537500000000001,10.6175,1,0.02,39,15,76.217815652603022,0.6560146019914489]
["4","DOĞUBAYAZIT(DOĞUBEYAZIT)",null,null,"AĞRI",null,"AĞRI","AĞRIDOĞUBAYAZIT(DOĞUBEYAZIT)",260.55468799999994,261.50858999999997,268.49882599999989,277.64179799999994,287.23369200000002,292.88232400000004,296.03330199999999,295.33608400000003,291.41786599999995,284.00678799999997,272.26523800000001,265.78437399999996,null,null,null,null,31,"HATAY",-2.2850000000000001,24.19,null,5.1676025077901002,10.537500000000001,10.6175,1,0.02,40,15,76.217815652603022,0.6560146019914489]
["4","ELEŞKİRT",null,null,"AĞRI",null,"AĞRI","AĞRIELEŞKİRT",258.00664599999993,259.007026,265.04218199999997,274.1660159999999,283.59540800000002,288.92803199999997,292.29306600000001,291.98842400000001,288.35615200000001,281.549756,269.99922199999997,263.22031399999997,null,null,null,null,32,"ISPARTA",-9.7850000000000001,19.240000000000002,null,5.1471781019080973,10.537500000000001,10.6175,1,0.02,41,15,76.217815652603022,0.6560146019914489]
["4","HAMUR",null,null,"AĞRI",null,"AĞRI","AĞRIHAMUR",258.82030999999984,259.91952799999996,266.29765600000002,275.77343399999995,284.90517399999999,290.52411999999998,294.37743999999998,293.93726000000004,289.81200999999999,282.57124000000005,270.80156599999998,264.27812799999998,null,null,null,null,33,"MERSİN(İÇEL)",5.5000000000000007E-2,21.765000000000001,null,5.1283509647371721,10.537500000000001,10.6175,1,0.02,42,15,76.217815652603022,0.6560146019914489]
["4","PATNOS",null,null,"AĞRI",null,"AĞRI","AĞRIPATNOS",259.52265799999986,260.196482,266.77343999999994,276.45781199999993,285.78837999999996,291.84208599999999,296.23017600000003,295.829838,291.50498800000003,283.74741400000005,271.56914199999994,264.582426,null,null,null,null,34,"İSTANBUL",3.6850000000000001,28.060000000000002,null,5.1111266751643933,10.537500000000001,10.6175,1,0.02,43,15,76.217815652603022,0.6560146019914489]
["4","TAŞLIÇAY",null,null,"AĞRI",null,"AĞRI","AĞRITAŞLIÇAY",258.2585959999999,259.40429399999999,265.64491599999997,274.60703399999994,284.43330200000003,289.96162200000003,292.97587399999998,292.41928800000005,289.09834000000001,282.00678800000003,270.26758000000001,263.40390600000001,null,null,null,null,35,"İZMİR",6.5650000000000004,23.384999999999998,null,5.0955103371184904,10.537500000000001,10.6175,1,0.02,44,15,76.217815652603022,0.6560146019914489]
["4","TUTAK",null,null,"AĞRI",null,"AĞRI","AĞRITUTAK",259.45156399999991,260.25351000000001,266.72929799999997,276.18359599999991,285.22118799999998,291.02685400000001,295.17470800000001,294.72162799999995,290.31592000000001,283.01108399999998,271.12421799999993,264.78046999999998,null,null,null,null,36,"KARS",-1.6631578947368422,20.04,null,5.0815065780574562,10.537500000000001,10.6175,1,0.02,45,15,76.217815652603022,0.6560146019914489]
["5","AMASYA",null,null,"AMASYA",null,"AMASYA","AMASYAAMASYA",274.25913000000003,276.63096000000007,279.77880800000003,283.45395399999995,289.04736000000003,292.36944000000005,294.568848,294.352102,291.62998399999998,287.57749000000001,281.02524600000004,277.08495800000003,null,null,null,null,37,"KASTAMONU",-4.0549999999999997,25.175000000000001,null,5.0691195475973254,10.537500000000001,10.6175,1,0.02,46,15,76.217815652603022,0.6560146019914489]
["5","GÖYNÜCEK",null,null,"AMASYA",null,"AMASYA","AMASYAGÖYNÜCEK",274.07084799999996,276.55908200000005,279.94404800000001,284.02817399999998,289.67080200000004,293.00419799999997,295.61611400000004,295.28373999999997,292.43622999999997,287.818896,280.65532199999996,276.46035199999994,null,null,null,null,38,"KAYSERİ",-2.6399999999999997,26.035000000000004,null,5.0583529162825576,10.537500000000001,10.6175,1,0.02,47,15,76.217815652603022,0.6560146019914489]
["5","GÜMÜŞHACIKÖY",null,null,"AMASYA",null,"AMASYA","AMASYAGÜMÜŞHACIKÖY",272.02592799999996,274.10283000000004,277.26357799999994,281.14106600000002,286.538768,289.80810600000007,292.49853599999994,292.71108599999997,289.75849599999998,285.21537999999998,278.55453999999997,274.22988399999997,null,null,null,null,39,"KIRKLARELİ",2.0100000000000002,23.734999999999999,null,5.0492098744983727,10.537500000000001,10.6175,1,0.02,48,15,76.217815652603022,0.6560146019914489]
["5","HAMAMÖZÜ",null,null,"AMASYA",null,"AMASYA","AMASYAHAMAMÖZÜ",273.71655599999997,275.97626599999995,279.283884,283.33090600000003,288.93916200000007,292.05498,294.78525000000002,294.54702399999996,291.57529599999998,287.01694199999997,280.13227799999999,275.99433399999998,null,null,null,null,40,"KIRŞEHİR",5.9249999999999998,24.06,null,5.0416931315253768,10.537500000000001,10.6175,1,0.02,49,15,76.217815652603022,0.6560146019914489]
["5","MERZİFON",null,null,"AMASYA",null,"AMASYA","AMASYAMERZİFON",273.082176,275.20244199999996,278.37333799999999,282.092626,287.54345999999998,290.86083600000001,293.32978800000001,293.42631599999999,290.54248199999995,286.28960199999995,279.67641800000001,275.41503999999998,null,null,null,null,41,"KOCAELİ",9.1150000000000002,28.369999999999997,null,5.0358049147367367,10.537500000000001,10.6175,1,0.02,50,15,76.217815652603022,0.6560146019914489]
["5","SULUOVA",null,null,"AMASYA",null,"AMASYA","AMASYASULUOVA",274.74663199999998,277.00361400000003,280.27802800000001,283.996534,289.54580199999998,292.73740200000003,295.021974,294.88764400000002,292.12841799999995,288.04468399999996,281.24516400000005,277.15175800000003,null,null,null,null,42,"KONYA",5.2850000000000001,28.435000000000002,null,5.031546968938164,10.537500000000001,10.6175,1,0.02,51,15,76.217815652603022,0.6560146019914489]
["5","TAŞOVA",null,null,"AMASYA",null,"AMASYA","AMASYATAŞOVA",274.47397599999999,276.76220599999999,280.26005599999996,283.79692400000005,289.09228599999994,292.03544999999997,293.51962800000001,293.55952600000001,291.05927400000002,287.80482999999998,281.78345000000002,277.92402400000003,null,null,null,null,43,"KÜTAHYA",3.8,24.066666666666666,null,5.0289205558508936,10.537500000000001,10.6175,1,0.02,52,15,76.217815652603022,0.6560146019914489]
["6","AKYURT",null,null,"ANKARA",null,"ANKARA","ANKARAAKYURT",271.79585200000002,274.76845600000007,277.96748200000002,282.34848599999998,287.85400600000003,291.03232600000001,295.042282,295.18413000000004,291.34091599999999,285.73842999999999,279.175636,274.85839799999997,null,null,null,null,44,"MALATYA",0.18,23.755000000000003,null,5.0279264537378063,10.537500000000001,10.6175,1,0.02,53,15,76.217815652603022,0.6560146019914489]
["6","ALTINDAĞ",null,null,"ANKARA",null,"ANKARA","ANKARAALTINDAĞ",273.004052,276.02548599999994,279.36318800000004,283.77583199999998,289.40712600000001,292.64834400000001,296.62978800000002,296.64545400000009,292.91591400000004,287.12202400000001,280.21781999999996,275.90879200000001,null,null,null,null,45,"MANİSA",-9.4049999999999994,17.759999999999998,null,5.0285649571728115,10.537500000000001,10.6175,1,0.02,54,15,76.217815652603022,0.6560146019914489]
["6","AYAŞ",null,null,"ANKARA",null,"ANKARA","ANKARAAYAŞ",273.05132200000003,276.02119800000003,279.10732400000001,283.51215400000001,289.35204799999991,292.78818199999995,296.71142600000002,296.63999000000001,292.54013599999996,286.44233600000001,279.50688400000001,275.66816399999999,null,null,null,null,46,"KAHRAMANMARAŞ",-0.51500000000000001,20.490000000000002,null,5.0308358769535619,10.537500000000001,10.6175,1,0.02,55,15,76.217815652603022,0.6560146019914489]
["6","BALA",null,null,"ANKARA",null,"ANKARA","ANKARABALA",272.71576799999997,275.65791200000001,278.93154599999997,283.223882,288.91103200000003,292.308108,296.50947400000001,296.38725400000004,292.58700800000003,286.58608599999997,280.05884000000003,275.69784799999996,null,null,null,null,47,"MARDİN",-1.4350000000000001,22.555,null,5.0347385401575169,10.537500000000001,10.6175,1,0.02,56,15,76.217815652603022,0.6560146019914489]
["6","BEYPAZARI",null,null,"ANKARA",null,"ANKARA","ANKARABEYPAZARI",272.59780200000006,275.64541600000001,278.89365200000003,283.16801799999996,288.78369200000003,291.97060399999998,295.51181399999996,295.66030600000005,291.83778999999998,286.25287799999995,279.682276,275.65879000000001,null,null,null,null,48,"MUĞLA",6.1150000000000002,28.074999999999999,null,5.0402717903413414,10.537500000000001,10.6175,1,0.02,57,15,76.217815652603022,0.6560146019914489]
["6","ÇAMLIDERE",null,null,"ANKARA",null,"ANKARA","ANKARAÇAMLIDERE",270.52006799999998,273.42822200000001,276.80420199999998,280.948488,286.14736200000004,289.05732399999999,292.01455000000004,292.693896,289.46553,284.75913200000002,278.55532600000004,274.29589799999997,null,null,null,null,49,"MUŞ",0.89499999999999991,24.66,null,5.047433987883589,10.537500000000001,10.6175,1,0.02,58,15,76.217815652603022,0.6560146019914489]
["6","ÇANKAYA",null,null,"ANKARA",null,"ANKARA","ANKARAÇANKAYA",272.81342999999998,275.73915999999997,278.99990200000002,283.36997199999996,288.96376599999996,292.21552400000002,296.302054,296.31303799999995,292.613966,286.80913200000003,280.09360400000003,275.69785199999995,null,null,null,null,50,"NEVŞEHİR",3.3950000000000005,24.21,null,5.0562230104705561,10.537500000000001,10.6175,1,0.02,59,15,76.217815652603022,0.6560146019914489]
["6","ÇUBUK",null,null,"ANKARA",null,"ANKARA",{"$f":"G147&B147","v":"ANKARAÇUBUK"},272.15327200000002,275.21728399999995,278.51982200000003,282.90082999999998,288.47548800000004,291.62959000000001,295.43798800000002,295.57396999999997,291.66943399999997,286.12827400000003,279.38813400000004,275.32636600000001,null,null,null,null,51,"NİĞDE",-0.16,23.105,null,5.066636253725167,10.537500000000001,10.6175,1,0.02,60,15,76.217815652603022,0.6560146019914489]
["6","ELMADAĞ",null,null,"ANKARA",null,"ANKARA","ANKARAELMADAĞ",272.22826800000001,275.20986800000003,278.48154,282.79770199999996,288.43642400000004,291.68545000000006,295.76454799999999,295.72241200000002,291.943262,286.21577200000002,279.59985599999999,275.28222999999997,null,null,null,null,52,"ORDU",6.3,23.85,null,5.0786706319787083,10.537500000000001,10.6175,1,0.02,61,15,76.217815652603022,0.6560146019914489]
["6","ETİMESGUT",null,null,"ANKARA",null,"ANKARA","ANKARAETİMESGUT",273.42983399999997,276.43447400000002,279.69404400000002,284.11372,289.87548600000002,293.20537400000001,297.15985999999998,297.16420800000003,293.29130799999996,287.28803399999998,280.14790400000004,276.092378,null,null,null,null,53,"RİZE",-0.38500000000000001,23.52,null,5.0923225791851809,10.537500000000001,10.6175,1,0.02,62,15,76.217815652603022,0.6560146019914489]
["6","EVREN",null,null,"ANKARA",null,"ANKARA","ANKARAEVREN",273.87475599999999,276.47900399999997,279.84482400000002,284.32817399999999,290.37510000000003,293.93388599999997,297.69971200000003,297.14585,293.64560399999999,287.96030600000006,280.94633800000003,276.69043199999999,null,null,null,null,54,"SAKARYA",0.70499999999999996,20.98,null,5.107588049977994,10.537500000000001,10.6175,1,0.02,63,15,76.217815652603022,0.6560146019914489]
["6","GÖLBAŞI",null,null,"ANKARA",null,"ANKARA","ANKARAGÖLBAŞI",273.004052,276.02548599999994,279.36318800000004,283.77583199999998,289.40712600000001,292.64834400000001,296.62978800000002,296.64545400000009,292.91591400000004,287.12202400000001,280.21781999999996,275.90879200000001,null,null,null,null,55,"SAMSUN",0.57999999999999996,27.589999999999996,null,{"$f":"AE151-AF151*(EXP(1)^(-AG151*AL151))*COS(2*PI()/365*(AI151-AJ151-(AG151/2)*AK151))","v":5.1244625208686969},{"$f":"($AB$88+$AA$88)/2","v":10.537500000000001},{"$f":"($AB$88-$AA$88)/2","v":10.6175},{"$f":"$Z$88","v":1},{"$f":"$Y$88","v":0.02},64,{"$f":"$AC$88","v":15},{"$f":"SQRT(365/(PI()*AH151))","v":76.217815652603022},{"$f":"SQRT(PI()/(365*AH151))","v":0.6560146019914489}]
["6","GÜDÜL",null,null,"ANKARA",null,"ANKARA","ANKARAGÜDÜL",272.93921,276.23486200000002,279.56943200000001,283.88793800000002,289.60087600000003,292.76943599999998,296.35634399999998,296.50365999999997,292.696776,287.04585200000002,280.15336800000006,276.185742,null,null,null,null,56,"SİİRT",6.8400000000000007,28.589999999999996,null,5.1429409915873832,10.537500000000001,10.6175,1,0.02,65,15,76.217815652603022,0.6560146019914489]
["6","HAYMANA",null,null,"ANKARA",null,"ANKARA","ANKARAHAYMANA",272.67865800000004,275.62900000000002,278.87568400000004,283.23598400000003,289.09502400000002,292.37138399999992,296.57041199999998,296.40327400000001,292.43779000000001,286.22358400000002,279.452586,275.46738199999999,null,null,null,null,57,"SİNOP",3.5249999999999999,30.339999999999996,null,5.1630179865643795,10.537500000000001,10.6175,1,0.02,66,15,76.217815652603022,0.6560146019914489]
["6","KALECİK",null,null,"ANKARA",null,"ANKARA","ANKARAKALECİK",272.37671,275.47002199999997,278.76318600000002,283.30043799999999,288.93135000000001,292.16553199999998,296.13408399999997,296.01655199999993,292.18427600000001,286.62007199999999,279.78540200000009,275.51347600000003,null,null,null,null,58,"SİVAS",10.84,28.425000000000001,null,5.1846875565527801,10.537500000000001,10.6175,1,0.02,67,15,76.217815652603022,0.6560146019914489]
["6","KAZAN",null,null,"ANKARA",null,"ANKARA","ANKARAKAZAN",272.19428599999998,275.12119200000001,278.20537000000002,282.59614599999998,288.24697200000003,291.47568200000006,295.22002200000003,295.37397399999998,291.42451199999999,285.68764799999997,278.96469799999994,275.14276599999999,null,null,null,null,59,"TEKİRDAĞ",5.6950000000000003,26.514999999999997,null,5.2079432803913264,10.537500000000001,10.6175,1,0.02,68,15,76.217815652603022,0.6560146019914489]
["6","KEÇİÖREN",null,null,"ANKARA",null,"ANKARA","ANKARAKEÇİÖREN",273.06733200000002,276.12158199999999,279.39404400000001,283.82895800000006,289.55244000000005,292.82802800000002,296.68994200000003,296.73022200000003,292.876462,287.00483199999996,279.94087400000001,275.879886,null,null,null,null,60,"TOKAT",-6.5449999999999999,25.869999999999997,null,5.2327782669071485,10.537500000000001,10.6175,1,0.02,69,15,76.217815652603022,0.6560146019914489]
["6","KIZILCAHAMAM",null,null,"ANKARA",null,"ANKARA","ANKARAKIZILCAHAMAM",270.25483999999994,272.95204999999999,276.32451600000002,280.53832799999998,285.74462600000004,288.75146599999999,291.88056799999993,292.58022200000005,289.20576199999999,284.36811800000004,278.17954399999996,273.85684000000003,null,null,null,null,61,"TRABZON",-0.255,21.675000000000001,null,5.2591851569577566,10.537500000000001,10.6175,1,0.02,70,15,76.217815652603022,0.6560146019914489]
["6","MAMAK",null,null,"ANKARA",null,"ANKARA","ANKARAMAMAK",272.448196,275.44658200000003,278.71591599999999,283.07505000000003,288.63408399999997,291.84482600000001,295.91923600000001,295.95600400000001,292.238966,286.511864,279.831884,275.43261999999993,null,null,null,null,62,"TUNCELİ",-0.41500000000000004,22.830000000000002,null,5.2871561256117232,10.537500000000001,10.6175,1,0.02,71,15,76.217815652603022,0.6560146019914489]
["6","NALLIHAN",null,null,"ANKARA",null,"ANKARA","ANKARANALLIHAN",273.39546000000001,276.395804,279.72763600000002,284.03247199999998,289.47704800000002,292.493652,295.79619000000002,295.94819000000001,292.41591799999998,287.23256600000002,280.81625999999994,276.42012,null,null,null,null,63,"ŞANLIURFA",6.29,23.509999999999998,null,5.3166828844673715,10.537500000000001,10.6175,1,0.02,72,15,76.217815652603022,0.6560146019914489]
["6","POLATLI",null,null,"ANKARA",null,"ANKARA","ANKARAPOLATLI",273.48217799999998,276.32119,279.75068399999998,284.37153599999999,290.19814200000002,293.54872800000004,297.60634800000003,297.45678800000002,293.36357399999997,287.04741200000001,280.07407400000005,276.00410199999999,null,null,null,null,64,"UŞAK",8.4187499999999993,28.252941176470586,null,5.3477566841088136,10.537500000000001,10.6175,1,0.02,73,15,76.217815652603022,0.6560146019914489]
["6","PURSAKLAR",null,null,"ANKARA",null,"ANKARA","ANKARAPURSAKLAR",272.95171399999998,276.02548200000001,279.34248200000002,283.78559399999995,289.44502199999999,292.67958599999997,296.58290799999997,296.63062200000002,292.82919800000002,287.04897399999999,280.06938400000001,275.85058399999997,null,null,null,null,65,"VAN",5.99,23.305,null,5.3803683166985881,10.537500000000001,10.6175,1,0.02,74,15,76.217815652603022,0.6560146019914489]
["6","SİNCAN",null,null,"ANKARA",null,"ANKARA","ANKARASİNCAN",273.30248799999998,276.36572200000001,279.583888,283.98910999999998,289.79072400000001,293.128806,296.98642799999999,296.98491200000001,293.04990400000003,287.08022599999998,279.97641800000002,276.05332399999998,null,null,null,null,66,"YOZGAT",6.05,23.44,null,5.4145081187061432,10.537500000000001,10.6175,1,0.02,75,15,76.217815652603022,0.6560146019914489]
["6","ŞEREFLİKOÇHİSAR",null,null,"ANKARA",null,"ANKARA","ANKARAŞEREFLİKOÇHİSAR",274.39506799999998,276.63408199999998,279.80536799999999,284.20200199999999,290.21650399999999,293.82724600000006,297.60205199999996,297.135696,293.61357200000009,287.98999199999997,281.29008799999997,277.16933399999999,null,null,null,null,67,"ZONGULDAK",6.3650000000000002,23.64,null,5.4501659737713446,10.537500000000001,10.6175,1,0.02,76,15,76.217815652603022,0.6560146019914489]
["6","YENİMAHALLE",null,null,"ANKARA",null,"ANKARA","ANKARAYENİMAHALLE",273.216162,276.25752200000005,279.50966600000004,283.93325199999998,289.69853599999999,293.006934,296.83916399999998,296.87124400000005,292.981154,287.04350800000003,279.92445800000002,275.97441600000002,null,null,null,null,68,"AKSARAY",6.1,32.164999999999999,null,5.4873313157021784,10.537500000000001,10.6175,1,0.02,77,15,76.217815652603022,0.6560146019914489]
["7","AKSEKİ",null,null,"ANTALYA",null,"ANTALYA","ANTALYAAKSEKİ",273.51030000000003,275.40088200000002,278.23193600000002,282.65629799999999,292.15312199999994,296.38788999999991,300.12226600000002,299.78984600000001,297.13475799999998,291.95781600000004,281.33579400000002,276.92402000000004,null,null,null,null,69,"BAYBURT",3.2,30.635000000000002,null,5.5259931316057367,10.537500000000001,10.6175,1,0.02,78,15,76.217815652603022,0.6560146019914489]
["7","AKSU",null,null,"ANTALYA",null,"ANTALYA","ANTALYAAKSU",281.98686800000007,283.37782800000002,285.402244,288.87973599999998,298.28203200000002,303.30703199999988,306.95664199999999,306.87187200000005,303.76639799999992,298.75234399999999,288.22172600000005,284.21230800000001,null,null,null,null,70,"KARAMAN",6.0649999999999995,23.25,null,5.5661399651515753,10.537500000000001,10.6175,1,0.02,79,15,76.217815652603022,0.6560146019914489]
["7","ALANYA",null,null,"ANTALYA",null,"ANTALYA","ANTALYAALANYA",279.54428399999995,281.04736200000002,283.149902,286.71684599999998,296.10429599999992,300.28788999999995,303.46406200000001,303.36484600000006,301.14335599999998,296.81250200000005,286.57798200000002,282.38964799999997,null,null,null,null,71,"KIRIKKALE",2.9375,27.333333333333332,null,5.6077599199664778,10.537500000000001,10.6175,1,0.02,80,15,76.217815652603022,0.6560146019914489]
["7","DEMRE(KALE)",null,null,"ANTALYA",null,"ANTALYA","ANTALYADEMRE(KALE)",279.48705999999999,281.08960000000002,283.05932999999999,285.08350000000002,295.96972199999999,301.12675399999995,302.535596,303.43853200000001,300.60116999999997,297.60893600000003,287.65967000000001,282.71924000000001,null,null,null,null,72,"BATMAN",-2.87,20.315000000000001,null,5.650840663159598,10.537500000000001,10.6175,1,0.02,81,15,76.217815652603022,0.6560146019914489]
["7","DÖŞEMEALTI",null,null,"ANTALYA",null,"ANTALYA","ANTALYADÖŞEMEALTI",279.88647400000002,281.62001999999995,283.92490200000003,287.72583199999997,297.16445199999998,302.07851399999993,306.18046800000002,306.01640400000002,302.53749599999998,296.91914200000002,286.23656800000003,282.16777400000001,null,null,null,null,73,"ŞIRNAK",5,23.85,null,5.6953694289769698,10.537500000000001,10.6175,1,0.02,82,15,76.217815652603022,0.6560146019914489]
["7","ELMALI",null,null,"ANTALYA",null,"ANTALYA","ANTALYAELMALI",273.93061800000004,276.590326,279.97333999999995,284.94067200000001,295.03242199999994,299.19023399999992,303.33281599999998,302.84609200000006,299.53358999999995,293.77070600000002,282.80883600000004,277.561916,null,null,null,null,74,"BARTIN",2.0550000000000002,22.4,null,5.7413330225842722,10.537500000000001,10.6175,1,0.02,83,15,76.217815652603022,0.6560146019914489]
["7","FİNİKE",null,null,"ANTALYA",null,"ANTALYA","ANTALYAFİNİKE",281.23452800000001,282.59462399999995,284.44873399999994,287.91450400000002,297.61015599999996,302.02421799999996,305.52499999999998,305.21328399999999,302.51640399999997,297.86405800000006,287.70727599999998,283.67051000000004,null,null,null,null,75,"ARDAHAN",6.7150000000000007,23.490000000000002,null,5.7887178239767447,10.537500000000001,10.6175,1,0.02,84,15,76.217815652603022,0.6560146019914489]
["7","GAZİPAŞA",null,null,"ANTALYA",null,"ANTALYA","ANTALYAGAZİPAŞA",282.543116,283.70165799999995,285.566306,288.87543800000003,297.94960999999995,301.86171599999994,304.82070399999998,304.596878,302.77655799999997,299.13984800000003,289.43423000000001,285.58066799999995,null,null,null,null,76,"IĞDIR",-1.1599999999999999,27.475000000000001,null,5.8375097920150854,10.537500000000001,10.6175,1,0.02,85,15,76.217815652603022,0.6560146019914489]
["7","GÜNDOĞMUŞ",null,null,"ANTALYA",null,"ANTALYA","ANTALYAGÜNDOĞMUŞ",275.15522600000003,276.78056800000002,279.46044799999999,283.74926800000003,293.40663799999999,297.57968799999998,301.04179799999997,300.679686,298.19491999999997,293.38476400000002,282.88032400000003,278.57949399999995,null,null,null,null,77,"YALOVA",2.8421052631578947,23.955000000000002,null,5.8876944685861483,10.537500000000001,10.6175,1,0.02,86,15,76.217815652603022,0.6560146019914489]
["7","İBRADI(AYDINKENT)",null,null,"ANTALYA",null,"ANTALYA","ANTALYAİBRADI(AYDINKENT)",274.55678599999999,276.50205199999999,279.17529000000002,283.135988,292.55663599999997,296.87617399999993,300.68202799999995,300.51093800000001,297.63906199999997,292.52187400000003,282.00844999999998,277.724806,null,null,null,null,78,"KARABÜK",-2.9350000000000001,22.65,null,5.9392569828871915,10.537500000000001,10.6175,1,0.02,87,15,76.217815652603022,0.6560146019914489]
["7","KAŞ",null,null,"ANTALYA",null,"ANTALYA","ANTALYAKAŞ",278.49878000000001,280.22239999999999,282.39722,284.32960000000003,294.94433199999997,300.30059399999993,301.82075600000002,302.77642200000003,299.50349999999997,296.68707600000005,286.87256000000002,282.00830000000002,null,null,null,null,79,"KİLİS",6.4749999999999996,23.96,null,5.9921820558324175,10.537500000000001,10.6175,1,0.02,88,15,76.217815652603022,0.6560146019914489]
["7","KEMER",null,null,"ANTALYA",null,"ANTALYA","ANTALYAKEMER",281.15444199999996,282.49384600000002,284.26435599999996,287.51879600000001,296.61757799999998,300.94882599999994,304.50977,304.60000600000001,301.83554399999997,297.48554800000005,287.57172800000001,283.52441199999998,null,null,null,null,80,"OSMANİYE",-1.7578947368421052,19.759999999999998,null,6.0464540045804958,10.537500000000001,10.6175,1,0.02,89,15,76.217815652603022,0.6560146019914489]
["7","KEPEZ",null,null,"ANTALYA",null,"ANTALYA","ANTALYAKEPEZ",280.83861999999999,282.69702000000001,284.90697999999998,287.22606999999999,297.78222199999999,304.54277399999989,306.58247599999999,307.38385200000005,302.96249999999998,299.12260600000002,288.32177999999999,283.43603999999999,null,null,null,null,81,"DÜZCE",5.5350000000000001,21.945,null,6.1020567471817264,10.537500000000001,10.6175,1,0.02,90,15,76.217815652603022,0.6560146019914489]
["7","KONYAALTI",null,null,"ANTALYA",null,"ANTALYA","ANTALYAKONYAALTI",280.83861999999999,282.69702000000001,284.90697999999998,287.22606999999999,297.78222199999999,304.54277399999989,306.58247599999999,307.38385200000005,302.96249999999998,299.12260600000002,288.32177999999999,283.43603999999999,null,null,null,null,null,null,null,null,null,6.1589738073434734,10.537500000000001,10.6175,1,0.02,91,15,76.217815652603022,0.6560146019914489]
["7","KORKUTELİ",null,null,"ANTALYA",null,"ANTALYA","ANTALYAKORKUTELİ",274.65444400000001,277.17471000000006,279.84599800000001,284.12114400000002,293.64765199999999,297.86601999999988,301.88437799999997,301.77148800000003,298.14765399999993,292.48164600000001,281.73539799999998,277.35410000000002,null,null,null,null,null,null,null,null,null,6.2171883193124389,10.537500000000001,10.6175,1,0.02,92,15,76.217815652603022,0.6560146019914489]
["7","KUMLUCA",null,null,"ANTALYA",null,"ANTALYA","ANTALYAKUMLUCA",282.047414,283.37275399999999,285.35732400000001,289.13559800000002,298.85624799999999,303.48906199999988,306.91484600000001,306.58945000000006,303.62343200000004,299.01367200000004,288.72329000000002,284.50019400000002,null,null,null,null,null,null,null,null,null,6.2766830328723549,10.537500000000001,10.6175,1,0.02,93,15,76.217815652603022,0.6560146019914489]
["7","MANAVGAT",null,null,"ANTALYA",null,"ANTALYA","ANTALYAMANAVGAT",282.06381799999997,283.31338,285.23935599999999,288.52582799999999,297.83358999999996,302.30273199999988,305.83047199999999,305.71913800000004,303.23983799999996,298.95312800000005,288.78305600000004,284.54707400000001,null,null,null,null,null,null,null,null,null,6.3374403184555925,10.537500000000001,10.6175,1,0.02,94,15,76.217815652603022,0.6560146019914489]
["7","MURATPAŞA",null,null,"ANTALYA",null,"ANTALYA","ANTALYAMURATPAŞA",281.98686800000007,283.37782800000002,285.402244,288.87973599999998,298.28203200000002,303.30703199999988,306.95664199999999,306.87187200000005,303.76639799999992,298.75234399999999,288.22172600000005,284.21230800000001,null,null,null,null,null,null,null,null,null,6.3994421723671833,10.537500000000001,10.6175,1,0.02,95,15,76.217815652603022,0.6560146019914489]
["7","SERİK",null,null,"ANTALYA",null,"ANTALYA","ANTALYASERİK",282.76069199999995,284.06181400000003,286.02724599999999,289.39574800000003,298.84999999999997,303.84999999999997,307.34999999999997,307.25,304.34999999999997,299.75,289.25414999999998,285.06152400000002,null,null,null,null,null,null,null,null,null,6.4626702221197032,10.537500000000001,10.6175,1,0.02,96,15,76.217815652603022,0.6560146019914489]
["8","ARDANUÇ",null,null,"ARTVİN",null,"ARTVİN","ARTVİNARDANUÇ",268.75210199999998,270.32158199999998,274.85693600000002,279.352394,285.08174000000002,289.32412800000003,291.49345199999999,291.73842400000001,288.18623200000002,282.90835200000004,276.41821199999998,271.93496400000004,null,null,null,null,null,null,null,null,null,6.5271057318774384,10.537500000000001,10.6175,1,0.02,97,15,76.217815652603022,0.6560146019914489]
["8","ARHAVİ",null,null,"ARTVİN",null,"ARTVİN","ARTVİNARHAVİ",278.87206750000001,278.70574499999998,281.69452000000001,284.29656999999997,288.93188249999997,292.37524250000001,294.92889500000001,295.01678500000003,293.11132750000002,289.42681750000003,284.72112500000003,281.77014250000002,null,null,null,null,null,null,null,null,null,6.5927296080082165,10.537500000000001,10.6175,1,0.02,98,15,76.217815652603022,0.6560146019914489]
["8","ARTVİN",null,null,"ARTVİN",null,"ARTVİN","ARTVİNARTVİN",271.40132,272.934864,277.13271599999996,281.11567200000002,286.67900399999996,290.280372,291.90360799999996,292.14506399999999,289.24013400000001,284.86420999999996,278.68266600000004,274.18301000000002,null,null,null,null,null,null,null,null,null,6.6595224047412582,10.537500000000001,10.6175,1,0.02,99,15,76.217815652603022,0.6560146019914489]
["8","BORÇKA",null,null,"ARTVİN",null,"ARTVİN","ARTVİNBORÇKA",274.60522400000002,275.34541000000002,278.51240000000001,282.35122399999995,287.627048,291.24052999999998,293.00322399999993,293.202494,290.70732399999997,286.75366000000002,281.34008799999998,277.36543,null,null,null,null,null,null,null,null,null,6.7274643299293864,10.537500000000001,10.6175,1,0.02,100,15,76.217815652603022,0.6560146019914489]
["8","HOPA",null,null,"ARTVİN",null,"ARTVİN","ARTVİNHOPA",278.87206750000001,278.70574499999998,281.69452000000001,284.29656999999997,288.93188249999997,292.37524250000001,294.92889500000001,295.01678500000003,293.11132750000002,289.42681750000003,284.72112500000003,281.77014250000002,null,null,null,null,null,null,null,null,null,6.7965352509138608,10.537500000000001,10.6175,1,0.02,101,15,76.217815652603022,0.6560146019914489]
["8","MURGUL(GÖKTAŞ)",null,null,"ARTVİN",null,"ARTVİN","ARTVİNMURGUL(GÖKTAŞ)",274.00990999999999,274.73681999999997,277.86787199999998,281.67660999999998,286.98291,290.68193600000006,292.53447199999999,292.74311399999999,290.20966200000004,286.15679399999999,280.78618399999999,276.82909999999998,null,null,null,null,null,null,null,null,null,6.866714700490121,10.537500000000001,10.6175,1,0.02,102,15,76.217815652603022,0.6560146019914489]
["8","ŞAVŞAT",null,null,"ARTVİN",null,"ARTVİN","ARTVİNŞAVŞAT",266.04897399999999,267.79384599999997,272.28466800000001,276.74848400000002,282.81064400000002,287.04521599999998,289.63056399999994,289.76225399999998,285.98310600000002,280.58490999999992,274.23735199999999,269.25995999999998,null,null,null,null,null,null,null,null,null,6.9379818829726609,10.537500000000001,10.6175,1,0.02,103,15,76.217815652603022,0.6560146019914489]
["8","YUSUFELİ",null,null,"ARTVİN",null,"ARTVİN","ARTVİNYUSUFELİ",268.30600400000003,270.31259799999998,274.79443199999997,279.13442199999997,285.60282999999998,289.815134,291.55439200000001,291.92553599999997,288.61591600000003,283.88999000000001,276.84516400000001,271.48340000000002,null,null,null,null,null,null,null,null,null,7.0103156803572402,10.537500000000001,10.6175,1,0.02,104,15,76.217815652603022,0.6560146019914489]
["9","AYDIN",null,null,"AYDIN",null,"AYDIN","AYDINAYDIN",280.17827599999998,282.744238,285.04443200000003,289.35825199999999,294.75556800000004,298.72451200000006,302.95049,303.20756599999999,299.18427800000001,292.98647399999999,287.28735599999999,282.52988199999999,null,null,null,null,null,null,null,null,null,7.0836946585786018,10.537500000000001,10.6175,1,0.02,105,15,76.217815652603022,0.6560146019914489]
["9","BOZDOĞAN",null,null,"AYDIN",null,"AYDIN","AYDINBOZDOĞAN",277.71655599999997,280.189548,282.49912,287.12348400000002,292.43837600000001,296.06630999999999,300.79618600000003,300.895848,296.811622,290.544284,284.64829400000002,279.84355800000003,null,null,null,null,null,null,null,null,null,7.1580970738618497,10.537500000000001,10.6175,1,0.02,106,15,76.217815652603022,0.6560146019914489]
["9","BUHARKENT(ÇUBUKDAĞI)",null,null,"AYDIN",null,"AYDIN","AYDINBUHARKENT(ÇUBUKDAĞI)",276.93022400000001,279.85361,282.43193400000001,287.37895199999997,292.80283400000002,295.84951799999999,300.27001600000006,300.32905399999999,296.53545199999996,290.38764600000002,284.34321199999994,279.30839800000001,null,null,null,null,null,null,null,null,null,7.2335008791656019,10.537500000000001,10.6175,1,0.02,107,15,76.217815652603022,0.6560146019914489]
["9","ÇİNE",null,null,"AYDIN",null,"AYDIN","AYDINÇİNE",277.894676,280.25282799999997,282.45107800000005,286.86801800000001,292.249708,295.90497800000003,300.7833,300.82866200000001,296.690134,290.30912999999998,284.61157199999997,280.08339800000005,null,null,null,null,null,null,null,null,null,7.3098837307149971,10.537500000000001,10.6175,1,0.02,108,15,76.217815652603022,0.6560146019914489]
["9","DİDİM(YENİHİSAR)",null,null,"AYDIN",null,"AYDIN","AYDINDİDİM(YENİHİSAR)",283.79506600000002,285.271974,286.69169799999997,289.55395799999997,293.98291399999999,297.82021399999996,301.195018,301.53413,298.22021599999999,293.75952000000001,289.868606,285.93613199999993,null,null,null,null,null,null,null,null,null,7.3872229946226469,10.537500000000001,10.6175,1,0.02,109,15,76.217815652603022,0.6560146019914489]
["9","GERMENCİK",null,null,"AYDIN",null,"AYDIN","AYDINGERMENCİK",279.44115800000003,281.84736400000003,284.06787800000001,288.23833200000001,293.63017600000001,297.591702,301.83721000000003,302.07631600000002,297.98545000000001,291.73334599999998,286.42095200000006,281.76776999999998,null,null,null,null,null,null,null,null,null,7.4654957535955351,10.537500000000001,10.6175,1,0.02,110,15,76.217815652603022,0.6560146019914489]
["9","İNCİRLİOVA",null,null,"AYDIN",null,"AYDIN","AYDINİNCİRLİOVA",278.87748799999997,281.32938999999999,283.610454,287.86254799999995,293.28915799999999,297.11709400000001,301.433694,301.64038200000005,297.612796,291.26577600000002,285.84204600000004,281.22284999999999,null,null,null,null,null,null,null,null,null,7.5446788137259153,10.537500000000001,10.6175,1,0.02,111,15,76.217815652603022,0.6560146019914489]
["9","KARACASU",null,null,"AYDIN",null,"AYDIN","AYDINKARACASU",277.22709800000001,279.78877,282.20694000000003,286.98012600000004,292.29228799999999,295.75497999999999,300.36377399999998,300.46928800000006,296.60341600000004,290.36499199999997,284.35688199999998,279.40801199999999,null,null,null,null,null,null,null,null,null,7.624748711364159,10.537500000000001,10.6175,1,0.02,112,15,76.217815652603022,0.6560146019914489]
["9","KARPUZLU",null,null,"AYDIN",null,"AYDIN","AYDINKARPUZLU",278.82631800000001,281.12783400000001,283.329204,287.53637599999996,292.89071799999999,296.75185399999998,301.40674200000001,301.53725800000001,297.344042,291.06264599999997,285.57445999999999,281.06230399999998,null,null,null,null,null,null,null,null,null,7.7056817200715475,10.537500000000001,10.6175,1,0.02,113,15,76.217815652603022,0.6560146019914489]
["9","KOÇARLI",null,null,"AYDIN",null,"AYDIN","AYDINKOÇARLI",280.16616599999998,282.64853399999998,284.90849199999997,289.13012399999997,294.49852999999996,298.55537199999998,302.77119000000005,303.049756,298.99013400000001,292.83921399999997,287.26469400000002,282.49394799999999,null,null,null,null,null,null,null,null,null,7.7874538576509229,10.537500000000001,10.6175,1,0.02,114,15,76.217815652603022,0.6560146019914489]
["9","KÖŞK",null,null,"AYDIN",null,"AYDIN","AYDINKÖŞK",278.01694399999997,280.60517799999997,282.95107199999995,287.42544200000003,292.91689200000002,296.41084000000001,300.98446799999999,301.039602,297.03779199999997,290.71968000000004,285.136572,280.409178,null,null,null,null,null,null,null,null,null,7.8700408932531314,10.537500000000001,10.6175,1,0.02,115,15,76.217815652603022,0.6560146019914489]
["9","KUŞADASI",null,null,"AYDIN",null,"AYDIN","AYDINKUŞADASI",280.62162799999999,282.65908400000001,284.65966799999995,288.30629799999997,293.48017800000002,297.64014400000002,301.65830199999999,302.02710400000007,297.93037399999997,292.16225600000001,287.31938400000001,282.90215000000001,null,null,null,null,null,null,null,null,null,7.9534183545571526,10.537500000000001,10.6175,1,0.02,116,15,76.217815652603022,0.6560146019914489]
["9","KUYUCAK",null,null,"AYDIN",null,"AYDIN","AYDINKUYUCAK",278.69467599999996,281.70322399999998,284.27529199999998,289.18247000000008,294.687208,298.07450999999998,302.58877000000001,302.550926,298.67177600000002,292.40757400000001,286.307276,281.14589800000005,null,null,null,null,null,null,null,null,null,8.0375615350217693,10.537500000000001,10.6175,1,0.02,117,15,76.217815652603022,0.6560146019914489]
["9","NAZİLLİ",null,null,"AYDIN",null,"AYDIN","AYDINNAZİLLİ",279.38452399999994,282.297754,284.76826400000004,289.591454,295.07861200000002,298.59481999999997,303.08525199999997,303.08295800000002,299.13271400000002,292.864598,286.92250999999999,281.79277400000001,null,null,null,null,null,null,null,null,null,8.1224455012066485,10.537500000000001,10.6175,1,0.02,118,15,76.217815652603022,0.6560146019914489]
["9","SÖKE",null,null,"AYDIN",null,"AYDIN","AYDINSÖKE",280.62592599999999,282.80595799999998,284.80029200000001,288.52192400000001,293.705174,297.86239999999998,301.84658400000001,302.17866400000003,298.14794999999998,292.45053799999994,287.49594800000006,282.986132,null,null,null,null,null,null,null,null,null,8.208045100160664,10.537500000000001,10.6175,1,0.02,119,15,76.217815652603022,0.6560146019914489]
["9","SULTANHİSAR",null,null,"AYDIN",null,"AYDIN","AYDINSULTANHİSAR",278.73530399999999,281.50048600000002,283.89951000000002,288.54848400000003,294.04306800000006,297.54013599999996,302.07978599999996,302.08490999999998,298.12021199999998,291.82436800000005,286.07719400000002,281.13691399999999,null,null,null,null,null,null,null,null,null,8.2943349668752582,10.537500000000001,10.6175,1,0.02,120,15,76.217815652603022,0.6560146019914489]
["9","YENİPAZAR",null,null,"AYDIN",null,"AYDIN","AYDINYENİPAZAR",279.61108400000001,282.39775799999995,284.82216800000003,289.519972,294.97548400000005,298.71865000000003,303.22040800000002,303.27632000000006,299.19755799999996,292.89194600000002,286.85688200000004,281.91543000000001,null,null,null,null,null,null,null,null,null,8.3812895318006326,10.537500000000001,10.6175,1,0.02,121,15,76.217815652603022,0.6560146019914489]
["10","AYVALIK",null,null,"BALIKESİR",null,"BALIKESİR","BALIKESİRAYVALIK",281.88915499999996,283.33367999999996,285.05731250000002,287.98846250000003,292.65551750000003,296.29418750000002,299.30536000000001,299.37469499999997,296.18163750000002,291.31793249999998,287.38714749999997,284.30187750000005,null,null,null,null,null,null,null,null,null,8.4688830284225673,10.537500000000001,10.6175,1,0.02,122,15,76.217815652603022,0.6560146019914489]
["10","BALIKESİR",null,null,"BALIKESİR",null,"BALIKESİR","BALIKESİRBALIKESİR",277.73569600000002,279.62431400000003,282.01279199999999,285.75942199999997,291.19736399999999,295.14951000000002,297.65830000000005,297.62397200000004,294.30732599999999,289.16616599999998,284.59125800000004,280.618944,null,null,null,null,null,null,null,null,null,8.5570895008975913,10.537500000000001,10.6175,1,0.02,123,15,76.217815652603022,0.6560146019914489]
["10","BALYA",null,null,"BALIKESİR",null,"BALIKESİR",{"$f":"G211&B211","v":"BALIKESİRBALYA"},277.25796000000003,279.08290999999997,281.475686,285.04301999999996,290.32314400000001,294.29170000000005,296.83017800000005,296.97710799999999,293.67138599999998,288.44818800000002,284.26430399999998,280.27441200000004,null,null,null,null,null,null,null,null,null,8.6458828117442579,10.537500000000001,10.6175,1,0.02,124,15,76.217815652603022,0.6560146019914489]
["10","BANDIRMA",null,null,"BALIKESİR",null,"BALIKESİR","BALIKESİRBANDIRMA",279.01318750000002,280.55145000000005,282.34637250000003,285.30389250000002,290.54223500000001,294.91137999999995,297.81024249999996,298.15643499999999,295.01464749999997,289.7432225,285.42621250000002,282.16858250000001,null,null,null,null,null,null,null,null,null,8.7352366495882485,10.537500000000001,10.6175,1,0.02,125,15,76.217815652603022,0.6560146019914489]
["10","BİGADİÇ",null,null,"BALIKESİR",null,"BALIKESİR","BALIKESİRBİGADİÇ",277.25404799999995,279.48642200000006,281.88349399999998,285.94731000000002,291.46727999999996,295.13896599999998,297.61298999999997,297.52475400000003,294.254592,289.03881799999999,284.18188400000003,280.16465199999999,null,null,null,null,null,null,null,null,null,8.8251245369589935,10.537500000000001,10.6175,1,0.02,126,15,76.217815652603022,0.6560146019914489]
["10","BURHANİYE",null,null,"BALIKESİR",null,"BALIKESİR","BALIKESİRBURHANİYE",279.02787799999999,280.833686,283.21826399999998,286.88676599999997,292.19228600000002,296.37725,299.08759799999996,299.01889399999999,295.44404199999997,290.15952399999998,285.92524800000001,281.79668000000004,null,null,null,null,null,null,null,null,null,8.915519838135527,10.537500000000001,10.6175,1,0.02,127,15,76.217815652603022,0.6560146019914489]
["10","DURSUNBEY",null,null,"BALIKESİR",null,"BALIKESİR","BALIKESİRDURSUNBEY",275.04037800000003,277.71767600000004,280.31748399999998,284.35903000000002,289.56337599999995,292.55888799999997,295.25908600000002,295.76264800000001,292.50928000000005,287.37593200000003,282.32446000000004,278.18378799999994,null,null,null,null,null,null,null,null,null,{"$f":"AE215-AF215*(EXP(1)^(-AG215*AL215))*COS(2*PI()/365*(AI215-AJ215-(AG215/2)*AK215))","v":9.006395767039221},{"$f":"($AB$88+$AA$88)/2","v":10.537500000000001},{"$f":"($AB$88-$AA$88)/2","v":10.6175},{"$f":"$Z$88","v":1},{"$f":"$Y$88","v":0.02},128,{"$f":"$AC$88","v":15},{"$f":"SQRT(365/(PI()*AH215))","v":76.217815652603022},{"$f":"SQRT(PI()/(365*AH215))","v":0.6560146019914489}]
["10","EDREMİT",null,null,"BALIKESİR",null,"BALIKESİR","BALIKESİREDREMİT",277.89741199999997,279.83837599999998,282.28114999999997,285.84614199999999,291.05400399999996,295.16357199999999,297.75713000000002,297.80171000000001,294.32919600000002,289.19350199999997,284.87485600000002,280.83690999999999,null,null,null,null,null,null,null,null,null,9.097725395171075,10.537500000000001,10.6175,1,0.02,129,15,76.217815652603022,0.6560146019914489]
["10","ERDEK",null,null,"BALIKESİR",null,"BALIKESİR","BALIKESİRERDEK",279.01318750000002,280.55145000000005,282.34637250000003,285.30389250000002,290.54223500000001,294.91137999999995,297.81024249999996,298.15643499999999,295.01464749999997,289.7432225,285.42621250000002,282.16858250000001,null,null,null,null,null,null,null,null,null,9.1894816595912232,10.537500000000001,10.6175,1,0.02,130,15,76.217815652603022,0.6560146019914489]
["10","GÖMEÇ",null,null,"BALIKESİR",null,"BALIKESİR","BALIKESİRGÖMEÇ",280.85742249999998,282.53240999999997,284.47430500000002,287.74920750000001,292.53979750000002,296.27710250000001,299.4782075,299.49579249999999,296.10693250000003,290.857485,286.63958750000006,283.39416749999998,null,null,null,null,null,null,null,null,null,9.2816373709382507,10.537500000000001,10.6175,1,0.02,131,15,76.217815652603022,0.6560146019914489]
["10","GÖNEN",null,null,"BALIKESİR",null,"BALIKESİR","BALIKESİRGÖNEN",278.21537799999999,280.01767600000005,282.27841999999998,285.49926800000003,290.90517199999994,295.26122999999995,297.74228800000003,297.927098,294.69794800000005,289.35483399999998,285.28188799999998,281.39589599999999,null,null,null,null,null,null,null,null,null,9.3741652214860043,10.537500000000001,10.6175,1,0.02,132,15,76.217815652603022,0.6560146019914489]
["10","HAVRAN",null,null,"BALIKESİR",null,"BALIKESİR","BALIKESİRHAVRAN",277.47202199999998,279.45908399999996,282.00654400000002,285.81723599999998,291.15127200000006,295.211232,297.82275200000004,297.76928799999996,294.27099799999996,289.00287799999995,284.60922799999997,280.42012000000005,null,null,null,null,null,null,null,null,null,9.4670377932354555,10.537500000000001,10.6175,1,0.02,133,15,76.217815652603022,0.6560146019914489]
["10","İVRİNDİ",null,null,"BALIKESİR",null,"BALIKESİR","BALIKESİRİVRİNDİ",277.00365399999998,278.80791399999998,281.25341600000002,284.99497000000002,290.33095600000001,294.27568600000006,296.88212999999996,296.95366000000001,293.57646599999998,288.36615799999998,284.03579000000002,279.834182,null,null,null,null,null,null,null,null,null,9.5602275660392344,10.537500000000001,10.6175,1,0.02,134,15,76.217815652603022,0.6560146019914489]
["10","KEPSUT",null,null,"BALIKESİR",null,"BALIKESİR","BALIKESİRKEPSUT",277.42944199999999,279.54150200000004,281.88076000000001,285.50669400000004,290.95556599999998,294.70849199999998,297.14736600000003,297.21342799999991,293.92138599999998,288.85248799999999,284.24282400000004,280.55370800000003,null,null,null,null,null,null,null,null,null,9.6537069257564649,10.537500000000001,10.6175,1,0.02,135,15,76.217815652603022,0.6560146019914489]
["10","MANYAS",null,null,"BALIKESİR",null,"BALIKESİR","BALIKESİRMANYAS",277.93998799999997,279.86181199999999,282.07803200000001,285.39145600000001,290.83525400000002,294.99013600000001,297.56064200000003,297.71303799999998,294.39326399999999,289.16225399999996,284.93657400000001,281.07519000000002,null,null,null,null,null,null,null,null,null,9.7474481724354085,10.537500000000001,10.6175,1,0.02,136,15,76.217815652603022,0.6560146019914489]
["10","MARMARA",null,null,"BALIKESİR",null,"BALIKESİR","BALIKESİRMARMARA",280.08251999999999,280.96014750000001,282.49383750000004,285.07928250000003,290.19946749999997,294.72387750000001,297.73748750000004,298.20330999999999,295.20605500000005,290.40191499999997,286.2660525,283.1041275,null,null,null,null,null,null,null,null,null,9.8414235285215739,10.537500000000001,10.6175,1,0.02,137,15,76.217815652603022,0.6560146019914489]
["10","SAVAŞTEPE",null,null,"BALIKESİR",null,"BALIKESİR","BALIKESİRSAVAŞTEPE",276.64272199999994,278.535642,280.89482200000003,284.68169,290.10985999999997,293.98896400000001,296.83837800000003,296.93334999999996,293.43701199999998,288.17826600000001,283.56548199999997,279.31738800000005,null,null,null,null,null,null,null,null,null,9.9356051470888005,10.537500000000001,10.6175,1,0.02,138,15,76.217815652603022,0.6560146019914489]
["10","SINDIRGI",null,null,"BALIKESİR",null,"BALIKESİR","BALIKESİRSINDIRGI",275.64233200000001,278.19657799999999,280.65888799999999,284.898098,290.228612,293.50614999999999,296.40048999999993,296.60678399999995,293.25302999999997,287.85053600000003,282.81469600000003,278.50995599999999,null,null,null,null,null,null,null,null,null,10.0299651200909,10.537500000000001,10.6175,1,0.02,139,15,76.217815652603022,0.6560146019914489]
["10","SUSURLUK",null,null,"BALIKESİR",null,"BALIKESİR","BALIKESİRSUSURLUK",277.46967800000004,279.51923799999997,281.73388399999999,285.14692600000001,290.55399999999997,294.47216599999996,297.048924,297.21850599999999,293.88115400000004,288.75405599999999,284.34633799999995,280.58105599999999,null,null,null,null,null,null,null,null,null,10.124475486631415,10.537500000000001,10.6175,1,0.02,140,15,76.217815652603022,0.6560146019914489]
["11","BİLECİK",null,null,"BİLECİK",null,"BİLECİK","BİLECİKBİLECİK",275.46889599999997,278.02900200000005,281.11201,285.17621799999995,290.66806800000001,293.85341800000003,296.57236,296.68334999999996,293.40771400000006,288.49350599999997,282.99829399999999,278.53027600000001,null,null,null,null,null,null,null,null,null,10.219108241249041,10.537500000000001,10.6175,1,0.02,141,15,76.217815652603022,0.6560146019914489]
["11","BOZÜYÜK",null,null,"BİLECİK",null,"BİLECİK","BİLECİKBOZÜYÜK",272.88725600000004,275.87275399999999,279.05068600000004,283.14770399999998,288.34931599999999,291.16513599999996,294.32002399999999,294.69584599999996,291.41161999999997,286.38530400000002,280.882274,276.33105599999999,null,null,null,null,null,null,null,null,null,10.31383534221624,10.537500000000001,10.6175,1,0.02,142,15,76.217815652603022,0.6560146019914489]
["11","GÖLPAZARI",null,null,"BİLECİK",null,"BİLECİK","BİLECİKGÖLPAZARI",274.28804000000002,276.87275199999999,279.98740400000003,284.041066,289.538768,292.68036799999999,295.41572400000001,295.57475599999998,292.28232399999996,287.29818799999998,281.70923000000005,277.19277800000003,null,null,null,null,null,null,null,null,null,10.408628719848622,10.537500000000001,10.6175,1,0.02,143,15,76.217815652603022,0.6560146019914489]
["11","İNHİSAR",null,null,"BİLECİK",null,"BİLECİK","BİLECİKİNHİSAR",274.19546000000003,277.22119199999997,280.488178,284.59769999999997,290.03837200000004,293.026858,295.88486599999999,296.00366199999996,292.73271199999999,287.75522399999994,281.68969799999996,277.284178,null,null,null,null,null,null,null,null,null,10.50346028482258,10.537500000000001,10.6175,1,0.02,144,15,76.217815652603022,0.6560146019914489]
["11","OSMANELİ",null,null,"BİLECİK",null,"BİLECİK","BİLECİKOSMANELİ",275.80366600000002,278.31454799999995,281.32216800000003,285.13754799999998,290.59424000000001,294.03270999999995,296.31533200000001,296.50483999999994,293.37842000000001,288.725146,283.34360399999997,278.931444,null,null,null,null,null,null,null,null,null,10.598301936498785,10.537500000000001,10.6175,1,0.02,145,15,76.217815652603022,0.6560146019914489]
["11","PAZARYERİ",null,null,"BİLECİK",null,"BİLECİK","BİLECİKPAZARYERİ",273.04858000000002,275.76455199999998,278.84911799999998,282.75903399999999,287.91845799999999,290.853026,294.01181800000001,294.55288200000001,291.16748200000001,286.18101200000001,280.92485599999998,276.44355400000001,null,null,null,null,null,null,null,null,null,10.69312557124899,10.537500000000001,10.6175,1,0.02,146,15,76.217815652603022,0.6560146019914489]
["11","SÖĞÜT",null,null,"BİLECİK",null,"BİLECİK","BİLECİKSÖĞÜT",273.81186600000001,276.75790799999999,279.97177799999997,284.12817000000001,289.570018,292.42841600000003,295.58759600000002,295.69663000000003,292.33428000000004,287.28608000000003,281.5147,276.95956999999999,null,null,null,null,null,null,null,null,null,10.787903090783759,10.537500000000001,10.6175,1,0.02,147,15,76.217815652603022,0.6560146019914489]
["11","YENİPAZAR",null,null,"BİLECİK",null,"BİLECİK","BİLECİKYENİPAZAR",273.20874400000002,275.98524799999996,279.100686,283.11762600000003,288.53954800000002,291.61592199999996,294.67431599999998,294.95951799999995,291.50732600000003,286.41889600000002,280.599852,276.215036,null,null,null,null,null,null,null,null,null,10.882606410478589,10.537500000000001,10.6175,1,0.02,148,15,76.217815652603022,0.6560146019914489]
["12","ADAKLI",null,null,"BİNGÖL",null,"BİNGÖL","BİNGÖLADAKLI",267.12241200000005,268.76142599999997,273.37607600000001,278.66215999999997,285.22822200000002,291.16630599999996,295.4794,295.5478,291.26045599999998,284.31968000000001,275.88188600000001,269.22871199999997,null,null,null,null,null,null,null,null,null,10.977207467695987,10.537500000000001,10.6175,1,0.02,149,15,76.217815652603022,0.6560146019914489]
["12","BİNGÖL",null,null,"BİNGÖL",null,"BİNGÖL","BİNGÖLBİNGÖL",269.38608199999999,271.01923999999997,276.09834199999995,281.85903400000001,288.02197399999994,294.12763799999999,298.61102999999997,298.727102,294.68662000000006,287.27123999999998,278.95375799999994,272.58105399999999,null,null,null,null,null,null,null,null,null,11.071678230101044,10.537500000000001,10.6175,1,0.02,150,15,76.217815652603022,0.6560146019914489]
["12","GENÇ",null,null,"BİNGÖL",null,"BİNGÖL","BİNGÖLGENÇ",270.58686399999999,272.31025799999998,277.69521999999995,283.77700199999998,289.99931400000003,296.30224600000003,300.74775399999999,300.81538,296.80225000000002,289.31420999999995,280.59438199999994,274.12831399999993,null,null,null,null,null,null,null,null,null,11.16599070396801,10.537500000000001,10.6175,1,0.02,151,15,76.217815652603022,0.6560146019914489]
["12","KARLIOVA",null,null,"BİNGÖL",null,"BİNGÖL","BİNGÖLKARLIOVA",266.94975400000004,268.57939399999998,272.81474800000001,277.36567200000002,283.712988,289.59951199999995,293.69658200000003,293.75834600000002,289.67568199999999,282.96537999999998,274.99555399999997,269.432616,null,null,null,null,null,null,null,null,null,11.260116942475451,10.537500000000001,10.6175,1,0.02,152,15,76.217815652603022,0.6560146019914489]
["12","KİĞI",null,null,"BİNGÖL",null,"BİNGÖL","BİNGÖLKİĞI",268.39663000000002,270.03955200000001,274.82217200000002,280.17231400000003,286.68603599999994,292.60224399999998,296.48798800000003,296.58179000000001,292.69521400000002,285.90522399999998,277.34712400000001,270.70605599999999,null,null,null,null,null,null,null,null,null,11.354029053987484,10.537500000000001,10.6175,1,0.02,153,15,76.217815652603022,0.6560146019914489]
["12","SOLHAN",null,null,"BİNGÖL",null,"BİNGÖL","BİNGÖLSOLHAN",267.04584999999997,268.39619199999999,272.37333999999998,277.34848799999997,283.49697400000002,289.42725000000002,294.13759199999998,294.14350400000001,289.89443199999994,282.74077199999999,275.32524599999999,269.91386599999998,null,null,null,null,null,null,null,null,null,11.44769921031868,10.537500000000001,10.6175,1,0.02,154,15,76.217815652603022,0.6560146019914489]
["12","YAYLADERE",null,null,"BİNGÖL",null,"BİNGÖL","BİNGÖLYAYLADERE",268.10600599999998,269.80048999999997,274.30224799999996,279.81294399999996,286.15361199999995,292.11318399999999,296.49111199999999,296.45913400000006,292.25928199999998,285.331008,276.90883199999996,270.21074200000004,null,null,null,null,null,null,null,null,null,11.541099654980153,10.537500000000001,10.6175,1,0.02,155,15,76.217815652603022,0.6560146019914489]
["12","YEDİSU",null,null,"BİNGÖL",null,"BİNGÖL","BİNGÖLYEDİSU",267.01695000000001,268.56298800000002,273.01747999999998,277.90122200000002,284.26220599999999,289.97568600000005,293.88291399999997,294.06577200000004,290.17881,283.38842800000003,275.43423000000001,269.61972200000002,null,null,null,null,null,null,null,null,null,11.634202711404399,10.537500000000001,10.6175,1,0.02,156,15,76.217815652603022,0.6560146019914489]
["13","ADİLCEVAZ",null,null,"BİTLİS",null,"BİTLİS","BİTLİSADİLCEVAZ",269.83647400000001,270.72354000000007,274.35849599999995,279.37856599999998,285.55048599999998,291.560452,295.54697199999998,295.34194400000007,291.53896600000002,284.61694399999999,277.75571400000001,273.184574,null,null,null,null,null,null,null,null,null,11.726980791146474,10.537500000000001,10.6175,1,0.02,157,15,76.217815652603022,0.6560146019914489]
["13","AHLAT",null,null,"BİTLİS",null,"BİTLİS","BİTLİSAHLAT",269.700534,270.76806399999998,274.71200999999996,279.87114800000001,286.12275600000004,292.16044799999997,296.17548799999997,295.89663200000001,292.02802800000001,285.11108400000001,277.71391600000004,273.21386799999999,null,null,null,null,null,null,null,null,null,11.819406402059034,10.537500000000001,10.6175,1,0.02,158,15,76.217815652603022,0.6560146019914489]
["13","BİTLİS",null,null,"BİTLİS",null,"BİTLİS","BİTLİSBİTLİS",269.31616400000001,270.69618999999994,274.56240200000002,279.70551599999999,286.41650199999992,292.83935400000001,297.047754,296.76733400000001,292.82334000000003,285.73998599999993,277.78969800000004,272.72324200000003,null,null,null,null,null,null,null,null,null,11.911452156438855,10.537500000000001,10.6175,1,0.02,159,15,76.217815652603022,0.6560146019914489]
["13","GÜROYMAK",null,null,"BİTLİS",null,"BİTLİS","BİTLİSGÜROYMAK",270.40210399999995,271.77548800000005,275.81552799999997,281.70669200000003,288.17041400000005,294.64990599999999,298.75556799999998,298.51107999999999,294.54443200000003,287.34155199999998,279.210398,274.03222999999997,null,null,null,null,null,null,null,null,null,12.003090779142411,10.537500000000001,10.6175,1,0.02,160,15,76.217815652603022,0.6560146019914489]
["13","HİZAN",null,null,"BİTLİS",null,"BİTLİS","BİTLİSHİZAN",269.59154799999999,271.21103599999998,275.495992,280.48910599999999,287.13643000000002,293.55771199999998,297.84619200000003,297.56889799999999,293.55732399999999,286.35834799999998,278.48110199999996,273.13261599999998,null,null,null,null,null,null,null,null,null,12.094295115668066,10.537500000000001,10.6175,1,0.02,161,15,76.217815652603022,0.6560146019914489]
["13","MUTKİ",null,null,"BİTLİS",null,"BİTLİS","BİTLİSMUTKİ",269.68296199999997,271.26455199999998,275.21708799999999,280.57934399999994,287.15908200000001,293.53975000000003,297.877048,297.61420800000002,293.589744,286.41108399999996,278.30180999999999,273.17480399999994,null,null,null,null,null,null,null,null,null,12.185038140202559,10.537500000000001,10.6175,1,0.02,162,15,76.217815652603022,0.6560146019914489]
["13","TATVAN",null,null,"BİTLİS",null,"BİTLİS","BİTLİSTATVAN",269.40249000000006,270.47900399999997,274.039354,278.94262600000002,285.58017599999999,291.88662199999999,296.00713200000001,295.64936799999998,291.88583800000004,284.95874199999997,277.54282599999999,272.78691600000002,null,null,null,null,null,null,null,null,null,12.275292963629324,10.537500000000001,10.6175,1,0.02,163,15,76.217815652603022,0.6560146019914489]
["14","BOLU",null,null,"BOLU",null,"BOLU","BOLUBOLU",271.846632,274.14462800000001,277.46162199999998,281.41723400000001,286.47744399999999,289.49755800000003,291.60165999999998,292.16850800000003,289.308492,284.79585199999997,279.356494,275.08105599999999,null,null,null,null,null,null,null,null,null,12.365032841496323,10.537500000000001,10.6175,1,0.02,164,15,76.217815652603022,0.6560146019914489]
["14","DÖRTDİVAN",null,null,"BOLU",null,"BOLU","BOLUDÖRTDİVAN",270.64663000000002,273.13759599999997,276.408886,280.52114199999994,285.52939400000002,288.49716599999999,290.87509799999998,291.64819199999999,288.75966600000004,284.20405399999999,278.47993200000002,274.079882,null,null,null,null,null,null,null,null,null,12.454231181940997,10.537500000000001,10.6175,1,0.02,165,15,76.217815652603022,0.6560146019914489]
["14","GEREDE",null,null,"BOLU",null,"BOLU","BOLUGEREDE",271.15249200000005,273.24892799999998,276.24716799999999,280.204342,285.22900399999997,288.32177799999999,290.702834,291.44350600000001,288.37216999999998,283.88139799999999,278.50727799999999,274.38027399999999,null,null,null,null,null,null,null,null,null,12.542861553570015,10.537500000000001,10.6175,1,0.02,166,15,76.217815652603022,0.6560146019914489]
["14","GÖYNÜK",null,null,"BOLU",null,"BOLU","BOLUGÖYNÜK",272.58959599999997,275.12939399999999,278.37997600000006,282.23676799999998,287.60791,290.59247999999997,293.25673799999998,293.69350800000001,290.526858,285.64897599999995,280.01391799999999,275.68378999999993,null,null,null,null,null,null,null,null,null,12.630897693291463,10.537500000000001,10.6175,1,0.02,167,15,76.217815652603022,0.6560146019914489]
["14","KIBRISCIK",null,null,"BOLU",null,"BOLU","BOLUKIBRISCIK",271.24468000000002,274.08642200000003,277.32216800000003,281.40356200000002,286.66845799999999,289.66318599999994,292.77391999999998,293.242726,289.90576399999998,284.84741399999996,278.729152,274.54745999999994,null,null,null,null,null,null,null,null,null,12.718313514097167,10.537500000000001,10.6175,1,0.02,168,15,76.217815652603022,0.6560146019914489]
["14","MENGEN",null,null,"BOLU",null,"BOLU","BOLUMENGEN",272.226316,274.16806800000006,277.24326600000001,280.97348399999998,285.98291399999999,289.079206,291.30087800000001,291.94936399999995,288.82646599999998,284.51772799999998,279.31822,275.39940999999999,null,null,null,null,null,null,null,null,null,12.805083112792833,10.537500000000001,10.6175,1,0.02,169,15,76.217815652603022,0.6560146019914489]
["14","MUDURNU",null,null,"BOLU",null,"BOLU","BOLUMUDURNU",271.66459600000002,274.40986200000003,277.83193,281.90864199999999,287.10790800000001,290.04091600000004,292.409468,292.824366,289.93115399999999,285.26889399999999,279.45415600000001,274.94082400000002,null,null,null,null,null,null,null,null,null,12.891180777673725,10.537500000000001,10.6175,1,0.02,170,15,76.217815652603022,0.6560146019914489]
["14","SEBEN",null,null,"BOLU",null,"BOLU","BOLUSEBEN",272.12670600000001,274.98994400000004,278.43857200000002,282.61567000000002,287.89853599999998,290.82724599999995,293.78173600000002,294.15561800000006,290.91357400000004,285.93998999999997,279.637742,275.35253599999999,null,null,null,null,null,null,null,null,null,12.976580996143605,10.537500000000001,10.6175,1,0.02,171,15,76.217815652603022,0.6560146019914489]
["14","YENİÇAĞA",null,null,"BOLU",null,"BOLU","BOLUYENİÇAĞA",271.75327000000004,273.88798800000001,277.16123199999998,281.12621999999999,286.12783000000002,289.17451399999999,291.42392200000006,292.14389999999997,289.13779400000004,284.64038399999998,279.16313400000001,274.963864,null,null,null,null,null,null,null,null,null,13.061258462274646,10.537500000000001,10.6175,1,0.02,172,15,76.217815652603022,0.6560146019914489]
["15","AĞLASUN",null,null,"BURDUR",null,"BURDUR","BURDURAĞLASUN",273.58960000000002,275.78291000000002,278.37686000000002,282.34887600000002,287.67236200000002,290.89481800000004,295.43173999999999,295.57631600000002,292.38427999999993,286.35092799999995,280.77133599999996,276.55839600000002,null,null,null,null,null,null,null,null,null,13.145188084306145,10.537500000000001,10.6175,1,0.02,173,15,76.217815652603022,0.6560146019914489]
["15","ALTINYAYLA(DİRMİL)",null,null,"BURDUR",null,"BURDUR","BURDURALTINYAYLA(DİRMİL)",273.65561800000006,276.27666200000004,278.79834,283.19692400000002,288.69658200000003,291.56200999999999,296.49580200000003,296.27358600000002,292.77763999999996,287.124752,281.60571399999998,276.89316399999996,null,null,null,null,null,null,null,null,null,13.228344992079748,10.537500000000001,10.6175,1,0.02,174,15,76.217815652603022,0.6560146019914489]
["15","BUCAK",null,null,"BURDUR",null,"BURDUR","BURDURBUCAK",275.46655399999997,277.66064800000004,280.30224800000008,284.33285799999999,289.58720400000004,293.00693199999995,297.89385000000004,297.93139600000001,294.53389000000004,288.065382,282.36430799999999,278.19824200000005,null,null,null,null,null,null,null,null,null,13.310704544409006,10.537500000000001,10.6175,1,0.02,175,15,76.217815652603022,0.6560146019914489]
["15","BURDUR",null,null,"BURDUR",null,"BURDUR","BURDURBURDUR",274.74428799999998,277.10165999999998,279.70302599999997,283.90669000000003,289.32274999999993,292.55419599999993,297.14697200000001,297.26889399999999,293.99052799999998,287.92944799999998,282.16118399999993,277.58105399999999,null,null,null,null,null,null,null,null,null,13.392242336381102,10.537500000000001,10.6175,1,0.02,176,15,76.217815652603022,0.6560146019914489]
["15","ÇAVDIR",null,null,"BURDUR",null,"BURDUR","BURDURÇAVDIR",274.16616399999998,276.92822200000001,279.68427800000001,284.51645199999996,290.17860999999999,293.094042,298.14306399999998,297.91538600000001,294.12529000000001,288.01107999999999,281.91860200000002,277.18300800000003,null,null,null,null,null,null,null,null,null,13.47293420658854,10.537500000000001,10.6175,1,0.02,177,15,76.217815652603022,0.6560146019914489]
["15","ÇELTİKÇİ",null,null,"BURDUR",null,"BURDUR","BURDURÇELTİKÇİ",274.45952399999999,276.65361799999999,279.16552799999999,283.08911000000001,288.31532999999996,291.57958600000001,296.22548999999998,296.38842599999992,293.08427799999998,286.77123799999998,281.26195999999999,277.20683199999996,null,null,null,null,null,null,null,null,null,13.552756244288707,10.537500000000001,10.6175,1,0.02,178,15,76.217815652603022,0.6560146019914489]
["15","GÖLHİSAR",null,null,"BURDUR",null,"BURDUR","BURDURGÖLHİSAR",274.27632000000006,276.94892200000004,279.51161999999994,284.14106000000004,289.67001799999997,292.57334200000003,297.62197000000003,297.48412999999999,293.87334199999998,288.04155200000002,282.29086799999999,277.34629000000001,null,null,null,null,null,null,null,null,null,13.631684796489132,10.537500000000001,10.6175,1,0.02,179,15,76.217815652603022,0.6560146019914489]
["15","KARAMANLI",null,null,"BURDUR",null,"BURDUR","BURDURKARAMANLI",274.07123799999999,276.63720799999999,279.26708799999994,283.89379600000001,289.50595599999997,292.30107400000003,297.22470800000002,297.06811600000003,293.42842000000002,287.48686400000003,281.56079200000005,276.87324000000001,null,null,null,null,null,null,null,null,null,13.709696474956381,10.537500000000001,10.6175,1,0.02,180,15,76.217815652603022,0.6560146019914489]
["15","KEMER",null,null,"BURDUR",null,"BURDUR","BURDURKEMER",274.21616400000005,276.75166000000002,279.33115200000003,283.76098999999999,289.32431400000007,292.26396799999998,296.97353399999997,296.97007200000002,293.43583799999999,287.46694400000001,281.59790400000003,276.94980399999997,null,null,null,null,null,null,null,null,null,13.786768163146494,10.537500000000001,10.6175,1,0.02,181,15,76.217815652603022,0.6560146019914489]
["15","TEFENNİ",null,null,"BURDUR",null,"BURDUR","BURDURTEFENNİ",273.84429,276.50360799999999,279.16122799999999,283.81372399999998,289.46611199999995,292.29677800000002,297.22939200000002,297.007566,293.30185799999998,287.30327,281.3229,276.73300600000005,null,null,null,null,null,null,null,null,null,13.862877023054917,10.537500000000001,10.6175,1,0.02,182,15,76.217815652603022,0.6560146019914489]
["15","YEŞİLOVA",null,null,"BURDUR",null,"BURDUR","BURDURYEŞİLOVA",274.44389799999999,276.90166200000004,279.52998200000002,284.150442,289.72587800000002,292.52997999999997,297.45166,297.33843200000001,293.77177399999999,287.85913199999993,281.96977600000002,277.14550799999995,null,null,null,null,null,null,null,null,null,13.938000501983892,10.537500000000001,10.6175,1,0.02,183,15,76.217815652603022,0.6560146019914489]
["16","BÜYÜKORHAN",null,null,"BURSA",null,"BURSA","BURSABÜYÜKORHAN",274.29624000000001,276.97822400000007,279.706546,283.75786200000005,288.91220799999996,291.79365200000001,294.67783200000002,295.15600799999999,291.89247999999998,286.72006799999997,281.61703999999997,277.41035399999998,null,null,null,null,null,null,null,null,null,14.012116339225319,10.537500000000001,10.6175,1,0.02,184,15,76.217815652603022,0.6560146019914489]
["16","GEMLİK",null,null,"BURSA",null,"BURSA","BURSAGEMLİK",277.00288,278.911428,281.357326,284.814502,290.10517800000002,293.93544800000001,296.36025599999994,296.78100400000005,293.72333800000001,289.13881800000001,284.53813400000001,280.20956799999999,null,null,null,null,null,null,null,null,null,14.085202572657071,10.537500000000001,10.6175,1,0.02,185,15,76.217815652603022,0.6560146019914489]
["16","GÜRSU",null,null,"BURSA",null,"BURSA","BURSAGÜRSU",275.40483400000005,277.62431399999997,280.412014,284.20317399999999,289.40947,292.70498200000003,295.19541399999997,295.52319399999999,292.43583999999998,287.70093000000003,283.14359999999999,278.61581999999999,null,null,null,null,null,null,null,null,null,14.157237545250855,10.537500000000001,10.6175,1,0.02,186,15,76.217815652603022,0.6560146019914489]
["16","HARMANCIK",null,null,"BURSA",null,"BURSA","BURSAHARMANCIK",273.74819199999996,276.63564400000001,279.545996,283.85395600000004,289.11298999999997,291.96513999999996,295.24228399999998,295.48803600000002,292.01006000000001,286.56069400000001,281.07758999999999,276.79706800000002,null,null,null,null,null,null,null,null,null,14.228199911489643,10.537500000000001,10.6175,1,0.02,187,15,76.217815652603022,0.6560146019914489]
["16","İNEGÖL",null,null,"BURSA",null,"BURSA",{"$f":"G275&B275","v":"BURSAİNEGÖL"},275.66928999999999,278.42041200000006,281.62568199999998,285.64535999999998,290.82158200000003,293.91161599999998,296.37158199999999,296.73452199999997,293.55341600000003,288.80952200000002,283.75063399999999,279.09003799999999,null,null,null,null,null,null,null,null,null,14.298068643692831,10.537500000000001,10.6175,1,0.02,188,15,76.217815652603022,0.6560146019914489]
["16","İZNİK",null,null,"BURSA",null,"BURSA","BURSAİZNİK",276.708348,278.95869199999999,281.80732599999999,285.557862,290.96845400000001,294.60966999999999,297.10986200000002,297.33061600000002,294.09326199999998,289.42358200000001,284.33071200000006,279.82011999999997,null,null,null,null,null,null,null,null,null,14.366823038247173,10.537500000000001,10.6175,1,0.02,189,15,76.217815652603022,0.6560146019914489]
["16","KARACABEY",null,null,"BURSA",null,"BURSA","BURSAKARACABEY",278.74428799999998,280.59423800000002,282.62998200000004,285.783252,291.24775399999999,295.44013800000005,297.76689400000004,298.04389200000003,295.00419999999997,290.06928600000003,285.80688400000003,281.87831999999997,null,null,null,null,null,null,null,null,null,14.434442721741725,10.537500000000001,10.6175,1,0.02,190,15,76.217815652603022,0.6560146019914489]
["16","KELES",null,null,"BURSA",null,"BURSA","BURSAKELES",273.12163199999998,276.09072000000003,278.979198,283.04301799999996,288.13330000000008,291.01318400000002,293.75830400000001,294.20248999999995,290.97099799999995,285.99115999999998,280.79203999999999,276.55215000000004,null,null,null,null,null,null,null,null,null,14.500907657004912,10.537500000000001,10.6175,1,0.02,191,15,76.217815652603022,0.6560146019914489]
["16","KESTEL",null,null,"BURSA",null,"BURSA","BURSAKESTEL",275.40483400000005,277.62431399999997,280.412014,284.20317399999999,289.40947,292.70498200000003,295.19541399999997,295.52319399999999,292.43583999999998,287.70093000000003,283.14359999999999,278.61581999999999,null,null,null,null,null,null,null,null,null,{"$f":"AE279-AF279*(EXP(1)^(-AG279*AL279))*COS(2*PI()/365*(AI279-AJ279-(AG279/2)*AK279))","v":14.566198149041984},{"$f":"($AB$88+$AA$88)/2","v":10.537500000000001},{"$f":"($AB$88-$AA$88)/2","v":10.6175},{"$f":"$Z$88","v":1},{"$f":"$Y$88","v":0.02},192,{"$f":"$AC$88","v":15},{"$f":"SQRT(365/(PI()*AH279))","v":76.217815652603022},{"$f":"SQRT(PI()/(365*AH279))","v":0.6560146019914489}]
["16","MUDANYA",null,null,"BURSA",null,"BURSA","BURSAMUDANYA",279.30149999999998,279.61304000000001,281.98705999999999,284.44873000000001,290.92334,295.71337999999997,296.26146999999997,297.01172000000003,294.34519999999998,291.23876999999999,288.73584,282.26416,null,null,null,null,null,null,null,null,null,14.630294850871071,10.537500000000001,10.6175,1,0.02,193,15,76.217815652603022,0.6560146019914489]
["16","MUSTAFAKEMALPAŞA",null,null,"BURSA",null,"BURSA","BURSAMUSTAFAKEMALPAŞA",277.79155200000002,280.00244199999997,282.23310600000002,285.62270999999998,291.03603400000003,294.83857599999999,297.28525400000001,297.47475599999996,294.25224200000002,289.13491399999998,284.788138,281.03222399999999,null,null,null,null,null,null,null,null,null,14.693178769256093,10.537500000000001,10.6175,1,0.02,194,15,76.217815652603022,0.6560146019914489]
["16","NİLÜFER",null,null,"BURSA",null,"BURSA","BURSANİLÜFER",276.234914,278.41377,281.15146399999998,284.91684400000003,290.18603599999994,293.53584199999995,295.912598,296.15873999999997,293.14443399999999,288.34741200000002,283.89751000000001,279.47792800000002,null,null,null,null,null,null,null,null,null,14.754831270334895,10.537500000000001,10.6175,1,0.02,195,15,76.217815652603022,0.6560146019914489]
["16","ORHANELİ",null,null,"BURSA",null,"BURSA","BURSAORHANELİ",274.86889600000006,277.79970400000002,280.72685000000001,284.85395400000004,290.015334,292.87724799999995,295.34228399999995,295.73764599999993,292.63662000000005,287.64819399999999,282.54907600000001,278.28261800000001,null,null,null,null,null,null,null,null,null,14.815234085140833,10.537500000000001,10.6175,1,0.02,196,15,76.217815652603022,0.6560146019914489]
["16","ORHANGAZİ",null,null,"BURSA",null,"BURSA","BURSAORHANGAZİ",276.86303800000007,278.66962599999999,281.04638600000004,284.47465599999998,289.804396,293.64091799999994,296.17431399999998,296.62514799999997,293.53974800000003,288.89116000000001,284.38032400000003,279.94824399999999,null,null,null,null,null,null,null,null,null,14.874369315016281,10.537500000000001,10.6175,1,0.02,197,15,76.217815652603022,0.6560146019914489]
["16","OSMANGAZİ",null,null,"BURSA",null,"BURSA","BURSAOSMANGAZİ",276.234914,278.41377,281.15146399999998,284.91684400000003,290.18603599999994,293.53584199999995,295.912598,296.15873999999997,293.14443399999999,288.34741200000002,283.89751000000001,279.47792800000002,null,null,null,null,null,null,null,null,null,14.932219436916384,10.537500000000001,10.6175,1,0.02,198,15,76.217815652603022,0.6560146019914489]
["16","YENİŞEHİR",null,null,"BURSA",null,"BURSA","BURSAYENİŞEHİR",276.243898,278.50009399999999,281.35654399999999,285.22661200000005,290.60634799999997,294.12724400000002,296.85049399999997,297.078666,293.74599599999999,288.954838,283.88227599999999,279.25488000000001,null,null,null,null,null,null,null,null,null,14.988767308601513,10.537500000000001,10.6175,1,0.02,199,15,76.217815652603022,0.6560146019914489]
["16","YILDIRIM",null,null,"BURSA",null,"BURSA","BURSAYILDIRIM",276.83842599999997,278.97587800000002,281.78193399999998,285.572318,290.87900400000001,294.47724600000004,297.17666199999996,297.43569400000001,294.13896600000004,289.42788000000007,284.47915399999999,279.85917799999999,null,null,null,null,null,null,null,null,null,15.043996173716891,10.537500000000001,10.6175,1,0.02,200,15,76.217815652603022,0.6560146019914489]
["17","AYVACIK",null,null,"ÇANAKKALE",null,"ÇANAKKALE","ÇANAKKALEAYVACIK",280.00131999999996,281.37509399999999,283.44951199999997,286.36879600000003,291.34853000000004,295.50731999999999,298.27744199999995,298.51382000000001,294.88584199999997,290.01655399999999,286.35922799999997,282.50410199999999,null,null,null,null,null,null,null,null,null,15.09788966675784,10.537500000000001,10.6175,1,0.02,201,15,76.217815652603022,0.6560146019914489]
["17","BAYRAMİÇ",null,null,"ÇANAKKALE",null,"ÇANAKKALE","ÇANAKKALEBAYRAMİÇ",278.43334799999997,279.96963,282.31865199999999,285.33832999999998,290.77001799999994,295.47256200000004,298.06963200000001,298.41303400000004,294.77334000000002,289.47632199999998,285.37329,281.55254399999995,null,null,null,null,null,null,null,null,null,15.150431817919262,10.537500000000001,10.6175,1,0.02,202,15,76.217815652603022,0.6560146019914489]
["17","BİGA",null,null,"ÇANAKKALE",null,"ÇANAKKALE","ÇANAKKALEBİGA",278.19624600000003,279.91572200000002,282.18623000000002,285.434034,290.80321800000002,295.43310400000001,297.74970599999995,297.83999000000006,294.69599799999997,289.36889600000001,285.35962200000006,281.35488199999998,null,null,null,null,null,null,null,null,null,15.201607057827809,10.537500000000001,10.6175,1,0.02,203,15,76.217815652603022,0.6560146019914489]
["17","BOZCAADA",null,null,"ÇANAKKALE",null,"ÇANAKKALE","ÇANAKKALEBOZCAADA",280.75092999999998,282.05399999999997,284.26670200000001,287.09028799999999,292.21455200000003,296.57763599999998,299.26728799999995,299.49077199999999,295.78310399999998,290.67397599999993,287.00298199999997,283.36972400000002,null,null,null,null,null,null,null,null,null,15.25140022215545,10.537500000000001,10.6175,1,0.02,204,15,76.217815652603022,0.6560146019914489]
["17","ÇAN",null,null,"ÇANAKKALE",null,"ÇANAKKALE","ÇANAKKALEÇAN",277.003266,278.99502600000005,281.56904000000003,285.07544200000001,290.17939200000001,294.42919799999999,296.74970599999995,296.77124200000003,293.55420199999998,288.22983399999998,284.22367399999996,280.202538,null,null,null,null,null,null,null,null,null,15.299796556112966,10.537500000000001,10.6175,1,0.02,205,15,76.217815652603022,0.6560146019914489]
["17","ÇANAKKALE",null,null,"ÇANAKKALE",null,"ÇANAKKALE","ÇANAKKALEÇANAKKALE",279.85327199999995,281.180566,283.36826000000002,286.26528599999995,291.61103599999996,296.33076200000005,298.77744000000001,298.99585000000002,295.37451199999998,290.131396,286.27251000000001,282.71698800000001,null,null,null,null,null,null,null,null,null,15.346781718822129,10.537500000000001,10.6175,1,0.02,206,15,76.217815652603022,0.6560146019914489]
["17","ECEABAT",null,null,"ÇANAKKALE",null,"ÇANAKKALE","ÇANAKKALEECEABAT",279.85327199999995,281.180566,283.36826000000002,286.26528599999995,291.61103599999996,296.33076200000005,298.77744000000001,298.99585000000002,295.37451199999998,290.131396,286.27251000000001,282.71698800000001,null,null,null,null,null,null,null,null,null,15.392341787565204,10.537500000000001,10.6175,1,0.02,207,15,76.217815652603022,0.6560146019914489]
["17","EZİNE",null,null,"ÇANAKKALE",null,"ÇANAKKALE","ÇANAKKALEEZİNE",279.95835,281.40634800000009,283.76904400000001,286.861378,292.16142600000001,296.61748399999999,299.40869199999997,299.585306,295.714742,290.28022200000004,286.44086600000003,282.62636599999996,null,null,null,null,null,null,null,null,null,15.436463261910557,10.537500000000001,10.6175,1,0.02,208,15,76.217815652603022,0.6560146019914489]
["17","GELİBOLU",null,null,"ÇANAKKALE",null,"ÇANAKKALE","ÇANAKKALEGELİBOLU",279.29687250000001,280.94696500000003,282.87811249999999,285.997255,291.08667000000003,295.73168499999997,298.56316750000002,298.68475749999999,295.27734499999997,289.802795,285.36858999999998,282.30187999999998,null,null,null,null,null,null,null,null,null,15.479133067713118,10.537500000000001,10.6175,1,0.02,209,15,76.217815652603022,0.6560146019914489]
["17","GÖKÇEADA(İMROZ)",null,null,"ÇANAKKALE",null,"ÇANAKKALE","ÇANAKKALEGÖKÇEADA(İMROZ)",280.39794999999998,282.00311249999999,283.93426749999998,286.91424749999999,292.27562750000004,296.92944499999999,299.79852,299.86053500000003,296.05957749999999,290.35601249999996,286.10199249999999,283.1895725,null,null,null,null,null,null,null,null,null,15.520338560988542,10.537500000000001,10.6175,1,0.02,210,15,76.217815652603022,0.6560146019914489]
["17","LAPSEKİ",null,null,"ÇANAKKALE",null,"ÇANAKKALE","ÇANAKKALELAPSEKİ",279.29687250000001,280.94696500000003,282.87811249999999,285.997255,291.08667000000003,295.73168499999997,298.56316750000002,298.68475749999999,295.27734499999997,289.802795,285.36858999999998,282.30187999999998,null,null,null,null,null,null,null,null,null,15.560067531659879,10.537500000000001,10.6175,1,0.02,211,15,76.217815652603022,0.6560146019914489]
["17","YENİCE",null,null,"ÇANAKKALE",null,"ÇANAKKALE","ÇANAKKALEYENİCE",277.00913199999997,278.90517600000004,281.446774,285.07347999999996,290.18173999999999,294.23193199999997,296.58525599999996,296.64858800000002,293.45771200000001,288.29351199999996,284.18813799999998,280.10644600000001,null,null,null,null,null,null,null,null,null,15.598308207175702,10.537500000000001,10.6175,1,0.02,212,15,76.217815652603022,0.6560146019914489]
["18","ATKARACALAR",null,null,"ÇANKIRI",null,"ÇANKIRI","ÇANKIRIATKARACALAR",270.25951599999996,273.07627600000006,276.40615200000002,280.54575199999999,285.57627000000002,288.619822,291.60946999999999,292.56186400000001,289.210444,284.19233800000001,277.96469999999999,273.76074200000005,null,null,null,null,null,null,null,null,null,15.635049255998551,10.537500000000001,10.6175,1,0.02,213,15,76.217815652603022,0.6560146019914489]
["18","BAYRAMÖREN",null,null,"ÇANKIRI",null,"ÇANKIRI","ÇANKIRIBAYRAMÖREN",270.34272199999998,273.18564200000003,276.50537200000002,280.64770199999998,285.72236399999997,288.82997800000004,291.98173800000006,292.84740800000003,289.36748399999999,284.24507399999999,277.89477399999998,273.71620799999999,null,null,null,null,null,null,null,null,null,15.670279790962724,10.537500000000001,10.6175,1,0.02,214,15,76.217815652603022,0.6560146019914489]
["18","ÇANKIRI",null,null,"ÇANKIRI",null,"ÇANKIRI","ÇANKIRIÇANKIRI",272.55912799999999,275.94970599999999,279.54209000000003,283.97466199999997,289.50361800000002,292.663184,296.49306000000001,296.58335199999999,292.39013799999998,286.78569399999998,279.83461799999998,276.07441399999999,null,null,null,null,null,null,null,null,null,15.703989372500377,10.537500000000001,10.6175,1,0.02,215,15,76.217815652603022,0.6560146019914489]
["18","ÇERKEŞ",null,null,"ÇANKIRI",null,"ÇANKIRI","ÇANKIRIÇERKEŞ",270.38100800000001,272.89189199999998,276.17451199999999,280.286768,285.312206,288.43466799999999,291.19892200000004,292.12905000000001,288.85811000000001,283.957178,278.00063000000006,273.79589799999997,null,null,null,null,null,null,null,null,null,15.736168011734982,10.537500000000001,10.6175,1,0.02,216,15,76.217815652603022,0.6560146019914489]
["18","ELDİVAN",null,null,"ÇANKIRI",null,"ÇANKIRI","ÇANKIRIELDİVAN",271.73999000000003,274.98603400000002,278.39482399999997,282.79379600000004,288.33994799999999,291.62333999999998,295.46259600000002,295.55248999999998,291.42724799999996,285.73803999999996,278.92329200000006,275.23300800000004,null,null,null,null,null,null,null,null,null,15.766806173441267,10.537500000000001,10.6175,1,0.02,217,15,76.217815652603022,0.6560146019914489]
["18","ILGAZ",null,null,"ÇANKIRI",null,"ÇANKIRI","ÇANKIRIILGAZ",270.36850400000003,273.468456,276.96318400000001,281.26840600000003,286.47548599999999,289.42529000000002,292.97157800000002,293.51577200000003,289.980368,284.98178399999995,278.32056,274.09940999999992,null,null,null,null,null,null,null,null,null,15.795894778870693,10.537500000000001,10.6175,1,0.02,218,15,76.217815652603022,0.6560146019914489]
["18","KIZILIRMAK",null,null,"ÇANKIRI",null,"ÇANKIRI","ÇANKIRIKIZILIRMAK",274.25717599999996,277.51415600000001,281.11396400000001,285.71333000000004,291.69033000000002,295.20185400000003,298.75048600000002,298.26616000000001,294.22294799999997,288.489216,281.11000799999999,277.19004200000001,null,null,null,null,null,null,null,null,null,15.823425208441682,10.537500000000001,10.6175,1,0.02,219,15,76.217815652603022,0.6560146019914489]
["18","KORGUN",null,null,"ÇANKIRI",null,"ÇANKIRI","ÇANKIRIKORGUN",271.361086,274.65322000000003,278.14208999999994,282.39965799999999,287.71728400000001,290.73310400000003,294.51142800000002,294.94507199999998,290.99912200000006,285.68178799999998,279.03188399999999,275.09472399999993,null,null,null,null,null,null,null,null,null,15.849389304293803,10.537500000000001,10.6175,1,0.02,220,15,76.217815652603022,0.6560146019914489]
["18","KURŞUNLU",null,null,"ÇANKIRI",null,"ÇANKIRI","ÇANKIRIKURŞUNLU",270.05405000000002,272.96923600000002,276.34482400000002,280.51645200000002,285.61494000000005,288.592084,291.98603599999996,292.797414,289.247164,284.19584599999996,277.80766599999998,273.65996000000001,null,null,null,null,null,null,null,null,null,15.873779372705101,10.537500000000001,10.6175,1,0.02,221,15,76.217815652603022,0.6560146019914489]
["18","ORTA",null,null,"ÇANKIRI",null,"ÇANKIRI","ÇANKIRIORTA",269.798586,272.655956,275.98505600000004,280.32270399999999,285.45165600000001,288.45810199999994,291.73252200000002,292.48882199999997,289.07764000000003,284.08569800000004,277.85688400000004,273.49355400000002,null,null,null,null,null,null,null,null,null,15.896588186371924,10.537500000000001,10.6175,1,0.02,222,15,76.217815652603022,0.6560146019914489]
["18","ŞABANÖZÜ",null,null,"ÇANKIRI",null,"ÇANKIRI","ÇANKIRIŞABANÖZÜ",270.91225600000001,274.004392,277.404202,281.70669200000003,287.083302,290.23232200000001,293.88173599999999,294.33491599999996,290.45615200000003,285.02827600000001,278.526026,274.55136600000003,null,null,null,null,null,null,null,null,null,15.917808986550529,10.537500000000001,10.6175,1,0.02,223,15,76.217815652603022,0.6560146019914489]
["18","YAPRAKLI",null,null,"ÇANKIRI",null,"ÇANKIRI","ÇANKIRIYAPRAKLI",270.910302,273.83056599999998,277.21708799999999,281.533252,286.90751999999998,289.791698,293.64658200000002,293.82397400000002,290.17451199999999,285.10053800000003,278.61977599999994,274.58652599999994,null,null,null,null,null,null,null,null,null,15.937435485059844,10.537500000000001,10.6175,1,0.02,224,15,76.217815652603022,0.6560146019914489]
["19","ALACA",null,null,"ÇORUM",null,"ÇORUM","ÇORUMALACA",272.27748800000001,275.09970799999996,278.78192999999999,282.95669000000004,288.60791,292.01084199999997,295.24384599999996,294.91303600000003,291.77490399999999,286.86460200000005,279.868606,275.50410199999999,null,null,null,null,null,null,null,null,null,15.95546186614478,10.537500000000001,10.6175,1,0.02,225,15,76.217815652603022,0.6560146019914489]
["19","BAYAT",null,null,"ÇORUM",null,"ÇORUM","ÇORUMBAYAT",274.54506800000001,277.22118799999998,280.61669799999999,284.95630199999999,291.00946800000003,294.351854,297.67431599999998,297.16420800000003,293.407712,288.00678800000003,280.86977400000001,277.090036,null,null,null,null,null,null,null,null,null,15.971882788199586,10.537500000000001,10.6175,1,0.02,226,15,76.217815652603022,0.6560146019914489]
["19","BOĞAZKALE",null,null,"ÇORUM",null,"ÇORUM","ÇORUMBOĞAZKALE",271.60014799999999,274.40556600000002,278.02450799999997,282.27465800000004,288.13173799999998,291.48818199999994,295.11220199999997,294.66186600000003,291.32685600000002,285.84701799999993,278.89828799999998,274.88262200000003,null,null,null,null,null,null,null,null,null,15.986693385350662,10.537500000000001,10.6175,1,0.02,227,15,76.217815652603022,0.6560146019914489]
["19","ÇORUM",null,null,"ÇORUM",null,"ÇORUM","ÇORUMÇORUM",273.14741199999997,275.41493800000001,278.575288,282.590284,288.14892599999996,291.40772000000004,294.32705199999998,294.15249000000006,291.1542,286.449366,279.71234999999996,275.57363199999998,null,null,null,null,null,null,null,null,null,15.999889268898432,10.537500000000001,10.6175,1,0.02,228,15,76.217815652603022,0.6560146019914489]
["19","DODURGA",null,null,"ÇORUM",null,"ÇORUM","ÇORUMDODURGA",274.76537999999999,277.17471,280.73739800000004,284.82778199999996,290.55126999999999,293.67178000000001,296.29619200000002,295.89585199999999,292.77451000000002,288.294286,281.203756,277.17675999999994,null,null,null,null,null,null,null,null,null,16.011466528617817,10.537500000000001,10.6175,1,0.02,229,15,76.217815652603022,0.6560146019914489]
["19","İSKİLİP",null,null,"ÇORUM",null,"ÇORUM","ÇORUMİSKİLİP",273.854444,276.29853399999996,279.61904000000004,283.86997000000002,289.64228199999997,292.98271799999998,296.11611199999999,295.72202000000004,292.30420400000003,287.30561799999998,280.42758799999996,276.46113200000002,null,null,null,null,null,null,null,null,null,16.021421733916892,10.537500000000001,10.6175,1,0.02,230,15,76.217815652603022,0.6560146019914489]
["19","KARGI",null,null,"ÇORUM",null,"ÇORUM","ÇORUMKARGI",273.02436399999999,275.64306199999999,279.28310399999998,283.41098399999998,288.85361399999999,292.02998200000002,294.42900400000002,294.42046199999999,291.26396599999998,286.87358599999999,279.87914599999999,275.93027599999999,null,null,null,null,null,null,null,null,null,16.029751934853486,10.537500000000001,10.6175,1,0.02,231,15,76.217815652603022,0.6560146019914489]
["19","LAÇİN",null,null,"ÇORUM",null,"ÇORUM","ÇORUMLAÇİN",274.30483400000003,276.62197400000002,280.01006399999994,284.130518,289.83877000000001,292.94755800000001,295.687206,295.27904999999998,292.23427800000002,287.66773000000001,280.69672400000002,276.56815799999998,null,null,null,null,null,null,null,null,null,16.03645466300928,10.537500000000001,10.6175,1,0.02,232,15,76.217815652603022,0.6560146019914489]
["19","MECİTÖZÜ",null,null,"ÇORUM",null,"ÇORUM","ÇORUMMECİTÖZÜ",273.29975999999999,275.57118600000001,278.84990000000005,282.79536399999995,288.258692,291.46513800000002,294.102442,294.06498999999997,291.28193399999998,286.71460000000002,279.72719999999998,275.64706999999999,null,null,null,null,null,null,null,null,null,16.04152793222126,10.537500000000001,10.6175,1,0.02,233,15,76.217815652603022,0.6560146019914489]
["19","OĞUZLAR(KARAÖREN)",null,null,"ÇORUM",null,"ÇORUM","ÇORUMOĞUZLAR(KARAÖREN)",273.14741199999997,275.41493800000001,278.575288,282.590284,288.14892599999996,291.40772000000004,294.32705199999998,294.15249000000006,291.1542,286.449366,279.71234999999996,275.57363199999998,null,null,null,null,null,null,null,null,null,16.044970239170276,10.537500000000001,10.6175,1,0.02,234,15,76.217815652603022,0.6560146019914489]
["19","ORTAKÖY",null,null,"ÇORUM",null,"ÇORUM","ÇORUMORTAKÖY",272.997412,275.48564799999997,278.925296,283.10278400000004,288.65791200000001,292.03935199999995,294.95673999999997,294.65561799999995,291.76552800000002,287.01381800000001,279.93344400000001,275.63808599999999,null,null,null,null,null,null,null,null,null,16.046780563826477,10.537500000000001,10.6175,1,0.02,235,15,76.217815652603022,0.6560146019914489]
["19","OSMANCIK",null,null,"ÇORUM",null,"ÇORUM","ÇORUMOSMANCIK",274.55639600000001,276.932906,280.45654200000001,284.45708400000001,290.08213000000001,293.24052799999998,295.81962599999997,295.62475599999999,292.41201000000001,288.00717800000001,280.98227200000002,276.97675199999998,null,null,null,null,null,null,null,null,null,16.046958369751607,10.537500000000001,10.6175,1,0.02,236,15,76.217815652603022,0.6560146019914489]
["19","SUNGURLU",null,null,"ÇORUM",null,"ÇORUM","ÇORUMSUNGURLU",272.72905400000002,275.91025400000001,279.49130600000001,283.79418800000002,289.77158000000003,293.29013399999997,296.79345599999999,296.35795999999999,292.68310400000001,287.06029799999999,279.74087200000002,275.76894600000003,null,null,null,null,null,null,null,null,null,16.045503604257931,10.537500000000001,10.6175,1,0.02,237,15,76.217815652603022,0.6560146019914489]
["19","UĞURLUDAĞ",null,null,"ÇORUM",null,"ÇORUM","ÇORUMUĞURLUDAĞ",272.50679000000002,275.15361399999995,278.55810400000001,282.871532,288.61377000000005,292.13154200000002,295.65087999999997,295.34194200000002,291.82763600000004,286.352102,279.43344799999994,275.16894199999996,null,null,null,null,null,null,null,null,null,16.042416698423857,10.537500000000001,10.6175,1,0.02,238,15,76.217815652603022,0.6560146019914489]
["20","ACIPAYAM",null,null,"DENİZLİ",null,"DENİZLİ","DENİZLİACIPAYAM",276.14702399999999,278.86337800000001,281.62138599999997,286.66841200000005,292.26064200000002,295.15732399999996,300.33330000000001,300.22280200000006,296.44287400000002,290.27202399999999,284.00063399999999,278.75566399999997,null,null,null,null,null,null,null,null,null,16.03769856696621,10.537500000000001,10.6175,1,0.02,239,15,76.217815652603022,0.6560146019914489]
["20","AKKÖY",null,null,"DENİZLİ",null,"DENİZLİ","DENİZLİAKKÖY",277.302098,280.30478600000004,283.22724600000004,288.350436,293.85869200000002,296.77177999999998,301.27860999999996,301.15717999999998,297.26201200000003,290.97983800000003,284.58032399999996,279.59277199999997,null,null,null,null,null,null,null,null,null,16.031350607969163,10.537500000000001,10.6175,1,0.02,240,15,76.217815652603022,0.6560146019914489]
["20","BABADAĞ",null,null,"DENİZLİ",null,"DENİZLİ","DENİZLİBABADAĞ",276.79897800000003,279.44345800000002,282.09912200000002,287.10200400000002,292.52743999999996,295.80537199999998,300.43915600000003,300.31811600000003,296.32021400000002,290.04546200000004,284.01117399999998,278.89824200000004,null,null,null,null,null,null,null,null,null,16.023374702469965,10.537500000000001,10.6175,1,0.02,241,15,76.217815652603022,0.6560146019914489]
["20","BAKLAN",null,null,"DENİZLİ",null,"DENİZLİ","DENİZLİBAKLAN",275.415774,277.94189200000005,280.81161800000001,285.64614,291.28251999999998,294.03466999999995,298.93564800000001,298.73022200000003,294.88232399999998,288.57163400000002,282.37055400000008,277.83886799999999,null,null,null,null,null,null,null,null,null,16.013773213901555,10.537500000000001,10.6175,1,0.02,242,15,76.217815652603022,0.6560146019914489]
["20","BEKİLLİ",null,null,"DENİZLİ",null,"DENİZLİ","DENİZLİBEKİLLİ",276.008354,278.81220399999995,281.824118,286.98090999999994,292.65165800000005,295.40888799999999,300.35400399999997,300.10366199999999,295.99951399999998,289.48881799999998,282.99985400000003,278.42363799999998,null,null,null,null,null,null,null,null,null,16.00254898739221,10.537500000000001,10.6175,1,0.02,243,15,76.217815652603022,0.6560146019914489]
["20","BEYAĞAÇ",null,null,"DENİZLİ",null,"DENİZLİ","DENİZLİBEYAĞAÇ",275.46186399999999,277.68876999999998,279.859668,284.03832999999997,289.40986599999997,292.53740200000004,297.62822199999999,297.62124,293.929596,287.89037799999994,282.45922999999999,277.89823999999999,null,null,null,null,null,null,null,null,null,15.989705348922485,10.537500000000001,10.6175,1,0.02,244,15,76.217815652603022,0.6560146019914489]
["20","BOZKURT",null,null,"DENİZLİ",null,"DENİZLİ","DENİZLİBOZKURT",276.18842599999999,278.70322199999998,281.54755599999999,286.45005200000003,292.03251799999998,295.02842399999997,299.74423799999994,299.66538000000003,295.92138800000009,289.86694399999999,283.70922800000005,278.69120800000002,null,null,null,null,null,null,null,null,null,15.975246104339643,10.537500000000001,10.6175,1,0.02,245,15,76.217815652603022,0.6560146019914489]
["20","BULDAN",null,null,"DENİZLİ",null,"DENİZLİ","DENİZLİBULDAN",276.90718400000003,279.84658400000001,282.51435599999996,287.55396000000002,292.96806399999997,295.85147000000006,300.42744199999999,300.45327000000003,296.50380800000005,290.29897399999999,284.20649400000002,279.17754000000002,null,null,null,null,null,null,null,null,null,15.959175538229916,10.537500000000001,10.6175,1,0.02,246,15,76.217815652603022,0.6560146019914489]
["20","ÇAL",null,null,"DENİZLİ",null,"DENİZLİ","DENİZLİÇAL",275.9896,278.72900600000003,281.726854,286.855906,292.51103600000005,295.22217000000001,300.16220600000008,299.89507200000003,295.822562,289.35131600000005,282.89125999999999,278.29824399999995,null,null,null,null,null,null,null,null,null,15.941498412648867,10.537500000000001,10.6175,1,0.02,247,15,76.217815652603022,0.6560146019914489]
["20","ÇAMELİ",null,null,"DENİZLİ",null,"DENİZLİ","DENİZLİÇAMELİ",275.18920800000001,277.767674,280.21357,284.63208199999997,290.08056599999998,292.96591799999999,297.91416200000003,297.76381800000001,294.27998200000002,288.51382000000001,282.94829199999998,278.09159799999998,null,null,null,null,null,null,null,null,null,15.922219965710315,10.537500000000001,10.6175,1,0.02,248,15,76.217815652603022,0.6560146019914489]
["20","ÇARDAK",null,null,"DENİZLİ",null,"DENİZLİ","DENİZLİÇARDAK",276.05053399999997,278.525488,281.33623399999999,286.16997000000003,291.81962599999997,294.78661799999998,299.53173600000002,299.43100800000002,295.74170199999998,289.725146,283.62837200000001,278.62480199999999,null,null,null,null,null,null,null,null,null,15.901345910034147,10.537500000000001,10.6175,1,0.02,249,15,76.217815652603022,0.6560146019914489]
["20","ÇİVRİL",null,null,"DENİZLİ",null,"DENİZLİ","DENİZLİÇİVRİL",275.236088,278.06181800000002,281.11552599999999,286.064502,291.73447399999998,294.49170000000004,299.37704799999995,299.20835000000005,295.302638,288.80952200000002,282.31938600000001,277.88378999999998,null,null,null,null,null,null,null,null,null,15.87888243105356,10.537500000000001,10.6175,1,0.02,250,15,76.217815652603022,0.6560146019914489]
["20","DENİZLİ",null,null,"DENİZLİ",null,"DENİZLİ","DENİZLİDENİZLİ",278.32514600000002,281.30712800000003,284.248332,289.46332999999998,294.968456,298.16709199999997,302.78251799999998,302.61225400000001,298.62373200000002,292.30873800000001,285.88032399999997,280.51347399999997,null,null,null,null,null,null,null,null,null,15.854836185182178,10.537500000000001,10.6175,1,0.02,251,15,76.217815652603022,0.6560146019914489]
["20","GÜNEY",null,null,"DENİZLİ",null,"DENİZLİ",{"$f":"G339&B339","v":"DENİZLİGÜNEY"},276.79350400000004,279.73486400000002,282.68115400000005,287.88520399999999,293.46767200000005,296.26865200000003,301.06571999999994,300.864598,296.79950799999995,290.38217599999996,283.89047599999998,279.06699600000002,null,null,null,null,null,null,null,null,null,15.829214297841613,10.537500000000001,10.6175,1,0.02,252,15,76.217815652603022,0.6560146019914489]
["20","HONAZ",null,null,"DENİZLİ",null,"DENİZLİ","DENİZLİHONAZ",277.48881999999998,280.38134600000001,283.39130600000004,288.59692400000006,294.124706,297.21826199999998,301.88837999999998,301.71186799999998,297.78271800000005,291.47475800000001,284.97680400000002,279.81581800000004,null,null,null,null,null,null,null,null,null,15.80202436135005,10.537500000000001,10.6175,1,0.02,253,15,76.217815652603022,0.6560146019914489]
["20","KALE",null,null,"DENİZLİ",null,"DENİZLİ","DENİZLİKALE",276.92866400000003,279.32470999999998,281.68544800000001,286.32387200000005,291.72158400000001,295.08584000000002,300.083302,300.132182,296.25419799999997,289.86264799999998,283.91508800000003,279.19277599999998,null,null,null,null,null,null,null,null,null,15.773274432672476,10.537500000000001,10.6175,1,0.02,254,15,76.217815652603022,0.6560146019914489]
["20","SARAYKÖY",null,null,"DENİZLİ",null,"DENİZLİ","DENİZLİSARAYKÖY",279.04272400000002,282.22275400000001,285.12841600000002,290.34848999999997,295.89462600000002,299.08622800000001,303.58290799999997,303.40287599999999,299.45224799999994,293.15991200000002,286.69556,281.29707200000001,null,null,null,null,null,null,null,null,null,15.742973031033236,10.537500000000001,10.6175,1,0.02,255,15,76.217815652603022,0.6560146019914489]
["20","SERİNHİSAR",null,null,"DENİZLİ",null,"DENİZLİ","DENİZLİSERİNHİSAR",274.383352,276.74580000000003,279.21396599999997,283.960598,289.40088000000003,292.35029199999997,297.35244,297.18765000000002,293.35341599999998,287.20014800000001,281.38813399999998,276.77011800000002,null,null,null,null,null,null,null,null,null,{"$f":"AE343-AF343*(EXP(1)^(-AG343*AL343))*COS(2*PI()/365*(AI343-AJ343-(AG343/2)*AK343))","v":15.711129135391591},{"$f":"($AB$88+$AA$88)/2","v":10.537500000000001},{"$f":"($AB$88-$AA$88)/2","v":10.6175},{"$f":"$Z$88","v":1},{"$f":"$Y$88","v":0.02},256,{"$f":"$AC$88","v":15},{"$f":"SQRT(365/(PI()*AH343))","v":76.217815652603022},{"$f":"SQRT(PI()/(365*AH343))","v":0.6560146019914489}]
["20","TAVAS",null,null,"DENİZLİ",null,"DENİZLİ","DENİZLİTAVAS",274.89194399999997,277.31533200000001,279.77060600000004,284.56059599999998,289.92509600000005,293.12763599999994,297.96728599999994,297.90678600000001,294.02646199999998,287.69546200000002,281.754932,277.18027599999994,null,null,null,null,null,null,null,null,null,15.677752181781068,10.537500000000001,10.6175,1,0.02,257,15,76.217815652603022,0.6560146019914489]
["21","BAĞLAR",null,null,"DİYARBAKIR",null,"DİYARBAKIR","DİYARBAKIRBAĞLAR",276.76928799999996,278.274314,282.75420199999996,287.18363999999997,293.09150399999999,299.28623199999998,304.08290999999997,304.00366200000002,299.55966599999999,292.29701799999998,284.03461800000002,279.09238399999998,null,null,null,null,null,null,null,null,null,15.642852060513356,10.537500000000001,10.6175,1,0.02,258,15,76.217815652603022,0.6560146019914489]
["21","BİSMİL",null,null,"DİYARBAKIR",null,"DİYARBAKIR","DİYARBAKIRBİSMİL",277.56967599999996,278.99345599999998,283.52568400000001,287.98598600000003,294.16103600000002,300.55107199999998,305.066508,304.77710200000001,300.310452,293.09155399999997,284.85180800000001,279.90136799999999,null,null,null,null,null,null,null,null,null,15.606439113247593,10.537500000000001,10.6175,1,0.02,259,15,76.217815652603022,0.6560146019914489]
["21","ÇERMİK",null,null,"DİYARBAKIR",null,"DİYARBAKIR","DİYARBAKIRÇERMİK",275.44663000000003,277.92197400000003,282.36552799999998,286.91802199999995,292.98564400000004,299.29794600000002,303.73720800000001,303.45835,299.27294800000004,292.03139200000004,283.68930599999999,278.15175800000003,null,null,null,null,null,null,null,null,null,15.568524129925908,10.537500000000001,10.6175,1,0.02,260,15,76.217815652603022,0.6560146019914489]
["21","ÇINAR",null,null,"DİYARBAKIR",null,"DİYARBAKIR","DİYARBAKIRÇINAR",277.161474,278.65751600000004,283.01005599999996,287.41997000000003,293.42431399999998,299.67060199999997,304.41806600000001,304.20444399999997,299.79052799999999,292.58257000000003,284.25727599999999,279.47754199999997,null,null,null,null,null,null,null,null,null,15.529118345576133,10.537500000000001,10.6175,1,0.02,261,15,76.217815652603022,0.6560146019914489]
["21","ÇÜNGÜŞ",null,null,"DİYARBAKIR",null,"DİYARBAKIR","DİYARBAKIRÇÜNGÜŞ",273.58412799999996,276.06962800000002,280.43076400000007,285.01918799999999,291.04306600000001,297.07920000000001,301.47627,301.22241599999995,297.28037400000005,290.15405599999997,282.17407400000002,276.82363199999998,null,null,null,null,null,null,null,null,null,15.488233436982616,10.537500000000001,10.6175,1,0.02,262,15,76.217815652603022,0.6560146019914489]
["21","DİCLE",null,null,"DİYARBAKIR",null,"DİYARBAKIR","DİYARBAKIRDİCLE",273.75600599999996,275.34736200000003,280.82841999999999,285.59106199999997,291.65829400000001,298.41474400000004,303.01181600000007,302.72631800000005,298.14482399999997,290.61538400000001,282.22837200000004,277.02987999999993,null,null,null,null,null,null,null,null,null,15.445881519226145,10.537500000000001,10.6175,1,0.02,263,15,76.217815652603022,0.6560146019914489]
["21","EĞİL",null,null,"DİYARBAKIR",null,"DİYARBAKIR","DİYARBAKIREĞİL",274.77436800000004,276.27627000000001,281.38271600000002,285.97270600000002,292.08525399999996,298.87959199999995,303.47197599999998,303.17084800000003,298.51786800000002,291.02006999999998,282.67407000000003,277.60410200000007,null,null,null,null,null,null,null,null,null,15.402075142093974,10.537500000000001,10.6175,1,0.02,264,15,76.217815652603022,0.6560146019914489]
["21","ERGANİ",null,null,"DİYARBAKIR",null,"DİYARBAKIR","DİYARBAKIRERGANİ",274.211478,276.21611000000001,281.09209199999998,285.65746799999999,291.56884400000001,298.17841600000003,302.73915599999998,302.41499000000005,297.89326799999998,290.67827399999999,282.33578799999998,277.194728,null,null,null,null,null,null,null,null,null,15.356827286361074,10.537500000000001,10.6175,1,0.02,265,15,76.217815652603022,0.6560146019914489]
["21","HANİ",null,null,"DİYARBAKIR",null,"DİYARBAKIR","DİYARBAKIRHANİ",274.08296200000001,275.33174000000002,280.92060599999996,285.77192400000001,291.92782799999998,298.724512,303.29306600000001,303.05756600000001,298.44872999999995,290.90678400000002,282.46079200000003,277.31620800000002,null,null,null,null,null,null,null,null,null,15.310151359943625,10.537500000000001,10.6175,1,0.02,266,15,76.217815652603022,0.6560146019914489]
["21","HAZRO",null,null,"DİYARBAKIR",null,"DİYARBAKIR","DİYARBAKIRHAZRO",274.17006800000001,275.34306200000003,280.510448,285.17309800000004,291.38642800000002,298.12568200000004,302.71728400000001,302.445066,297.78232400000002,290.44741399999998,282.13110599999999,277.25488200000001,null,null,null,null,null,null,null,null,null,15.26206119392597,10.537500000000001,10.6175,1,0.02,267,15,76.217815652603022,0.6560146019914489]
["21","KAYAPINAR",null,null,"DİYARBAKIR",null,"DİYARBAKIR","DİYARBAKIRKAYAPINAR",276.76928799999996,278.274314,282.75420199999996,287.18363999999997,293.09150399999999,299.28623199999998,304.08290999999997,304.00366200000002,299.55966599999999,292.29701799999998,284.03461800000002,279.09238399999998,null,null,null,null,null,null,null,null,null,15.212571038462173,10.537500000000001,10.6175,1,0.02,268,15,76.217815652603022,0.6560146019914489]
["21","KOCAKÖY",null,null,"DİYARBAKIR",null,"DİYARBAKIR","DİYARBAKIRKOCAKÖY",274.94272599999994,276.29892599999999,281.320606,285.88520400000004,292.044242,298.71044799999999,303.43174000000005,303.21030400000001,298.58037200000001,291.13764400000002,282.78423400000003,277.91308600000002,null,null,null,null,null,null,null,null,null,15.161695558553383,10.537500000000001,10.6175,1,0.02,269,15,76.217815652603022,0.6560146019914489]
["21","KULP",null,null,"DİYARBAKIR",null,"DİYARBAKIR","DİYARBAKIRKULP",272.33960000000002,273.99111200000004,279.19248200000004,284.61098800000002,291.086814,297.95693399999999,302.52743999999996,302.42201999999997,298.07295399999998,290.38217599999996,281.66508599999997,275.76152599999995,null,null,null,null,null,null,null,null,null,15.109449829702282,10.537500000000001,10.6175,1,0.02,270,15,76.217815652603022,0.6560146019914489]
["21","LİCE",null,null,"DİYARBAKIR",null,"DİYARBAKIR","DİYARBAKIRLİCE",271.55248999999998,273.04150200000004,278.58076599999998,283.79613999999998,289.98291,296.59091799999999,301.27509599999996,301.13334599999996,296.59052800000001,289.05678399999999,280.72642000000002,275.34746000000001,null,null,null,null,null,null,null,null,null,15.055849333445879,10.537500000000001,10.6175,1,0.02,271,15,76.217815652603022,0.6560146019914489]
["21","SİLVAN",null,null,"DİYARBAKIR",null,"DİYARBAKIR","DİYARBAKIRSİLVAN",275.46107999999998,276.660642,281.39599800000008,285.87348400000002,291.96376600000002,298.34599600000001,302.86181599999998,302.53647999999998,297.947946,290.84389799999997,282.74555400000003,278.08690999999999,null,null,null,null,null,null,null,null,null,15.000909952768012,10.537500000000001,10.6175,1,0.02,272,15,76.217815652603022,0.6560146019914489]
["21","SUR",null,null,"DİYARBAKIR",null,"DİYARBAKIR","DİYARBAKIRSUR",276.49507,277.84853400000003,282.557322,286.995362,293.21025199999997,299.82920200000001,304.53955000000002,304.29467599999998,299.65810599999998,292.195066,283.84126200000003,278.88886199999996,null,null,null,null,null,null,null,null,null,14.944647967392864,10.537500000000001,10.6175,1,0.02,273,15,76.217815652603022,0.6560146019914489]
["21","YENİŞEHİR",null,null,"DİYARBAKIR",null,"DİYARBAKIR","DİYARBAKIRYENİŞEHİR",276.76928799999996,278.274314,282.75420199999996,287.18363999999997,293.09150399999999,299.28623199999998,304.08290999999997,304.00366200000002,299.55966599999999,292.29701799999998,284.03461800000002,279.09238399999998,null,null,null,null,null,null,null,null,null,14.887080048960934,10.537500000000001,10.6175,1,0.02,274,15,76.217815652603022,0.6560146019914489]
["22","EDİRNE",null,null,"EDİRNE",null,"EDİRNE","EDİRNEEDİRNE",276.30639600000001,278.90791200000001,281.97138600000005,285.64223400000003,291.54579999999999,295.95732600000002,298.64111200000002,299.06459999999998,294.72216800000001,288.41381799999999,283.70063199999998,279.65957399999996,null,null,null,null,null,null,null,null,null,14.828223256088872,10.537500000000001,10.6175,1,0.02,275,15,76.217815652603022,0.6560146019914489]
["22","ENEZ",null,null,"EDİRNE",null,"EDİRNE","EDİRNEENEZ",279.44741200000004,280.96650599999998,283.418654,286.40082799999999,291.80361400000004,296.61670000000004,299.45595800000001,299.96030400000001,295.70927599999999,289.95561600000002,285.94555600000001,282.42441199999996,null,null,null,null,null,null,null,null,null,14.768095029314638,10.537500000000001,10.6175,1,0.02,276,15,76.217815652603022,0.6560146019914489]
["22","HAVSA",null,null,"EDİRNE",null,"EDİRNE","EDİRNEHAVSA",276.43687,278.91455000000002,281.81552799999997,285.38481599999994,291.30400599999996,295.73466999999999,298.32275199999998,298.66772000000003,294.48779000000002,288.37749000000002,283.80883600000004,279.79823999999996,null,null,null,null,null,null,null,null,null,14.706713185929502,10.537500000000001,10.6175,1,0.02,277,15,76.217815652603022,0.6560146019914489]
["22","İPSALA",null,null,"EDİRNE",null,"EDİRNE","EDİRNEİPSALA",277.92436800000002,280.05712800000003,282.83466799999997,286.15550999999999,291.81767400000001,296.61396999999999,299.43525399999999,299.88842599999998,295.44521399999996,289.21810999999997,284.91274200000004,281.165434,null,null,null,null,null,null,null,null,null,14.644095914698381,10.537500000000001,10.6175,1,0.02,278,15,76.217815652603022,0.6560146019914489]
["22","KEŞAN",null,null,"EDİRNE",null,"EDİRNE","EDİRNEKEŞAN",277.89350200000001,279.92313999999999,282.65419999999995,285.86684399999996,291.538768,296.281542,299.11142600000005,299.52475599999997,295.18037199999998,289.12866199999996,284.861964,281.12285200000002,null,null,null,null,null,null,null,null,null,14.580261770470138,10.537500000000001,10.6175,1,0.02,279,15,76.217815652603022,0.6560146019914489]
["22","LALAPAŞA",null,null,"EDİRNE",null,"EDİRNE","EDİRNELALAPAŞA",275.964992,278.428226,281.416698,285.08325400000001,290.86728400000004,295.16591599999998,297.768844,298.22280599999999,294.01747800000004,287.93842600000005,283.22993000000002,279.20878800000003,null,null,null,null,null,null,null,null,null,14.51522966867936,10.537500000000001,10.6175,1,0.02,280,15,76.217815652603022,0.6560146019914489]
["22","MERİÇ",null,null,"EDİRNE",null,"EDİRNE","EDİRNEMERİÇ",276.97475400000002,279.41806800000006,282.30458800000002,285.79770600000001,291.49971000000005,296.10029199999997,298.92627999999996,299.35366000000005,294.93466599999999,288.60053599999998,284.072902,280.253714,null,null,null,null,null,null,null,null,null,14.449018879741317,10.537500000000001,10.6175,1,0.02,281,15,76.217815652603022,0.6560146019914489]
["22","SÜLOĞLU(SÜLEOĞLU)",null,null,"EDİRNE",null,"EDİRNE","EDİRNESÜLOĞLU(SÜLEOĞLU)",275.91850600000004,278.21923600000002,281.09716399999996,284.73129399999999,290.47587800000002,294.76162199999999,297.25439400000005,297.62007000000006,293.62138800000002,287.74662999999998,283.12954400000001,279.11152400000003,null,null,null,null,null,null,null,null,null,14.381649023341712,10.537500000000001,10.6175,1,0.02,282,15,76.217815652603022,0.6560146019914489]
["22","UZUNKÖPRÜ",null,null,"EDİRNE",null,"EDİRNE","EDİRNEUZUNKÖPRÜ",277.17007000000001,279.61298999999997,282.522558,285.960982,291.92548799999997,296.535842,299.21259799999996,299.516164,295.24169799999999,288.90405399999997,284.44164799999999,280.56894600000004,null,null,null,null,null,null,null,null,null,14.313140062622963,10.537500000000001,10.6175,1,0.02,283,15,76.217815652603022,0.6560146019914489]
["23","AĞIN",null,null,"ELAZIĞ",null,"ELAZIĞ","ELAZIĞAĞIN",274.08139399999999,276.17313999999999,280.77489799999995,285.92075200000005,291.77549200000004,297.74521400000003,301.47157800000002,301.10248999999999,297.43193200000007,290.91616400000004,282.88617999999997,277.38574199999999,null,null,null,null,null,null,null,null,null,14.243512298268671,10.537500000000001,10.6175,1,0.02,284,15,76.217815652603022,0.6560146019914489]
["23","ALACAKAYA",null,null,"ELAZIĞ",null,"ELAZIĞ","ELAZIĞALACAKAYA",273.017336,274.98134799999997,280.010448,284.86059399999999,290.77158200000002,297.30302399999999,301.86728400000004,301.55639600000001,297.22646600000002,289.96655399999997,281.67055599999998,276.444726,null,null,null,null,null,null,null,null,null,14.172786362488107,10.537500000000001,10.6175,1,0.02,285,15,76.217815652603022,0.6560146019914489]
["23","ARICAK",null,null,"ELAZIĞ",null,"ELAZIĞ","ELAZIĞARICAK",270.17827400000004,271.81689599999999,276.91552999999999,281.96059400000001,287.90829799999995,294.13467000000003,298.891504,298.69780200000002,294.28271600000005,286.91928999999993,278.91860400000007,274.07050800000002,null,null,null,null,null,null,null,null,null,14.100983212902431,10.537500000000001,10.6175,1,0.02,286,15,76.217815652603022,0.6560146019914489]
["23","BASKİL",null,null,"ELAZIĞ",null,"ELAZIĞ","ELAZIĞBASKİL",272.47319600000003,274.25244199999997,278.40107399999999,282.99457799999999,288.896976,294.58076399999999,298.67627200000004,298.31342600000005,294.40107599999999,287.58530200000007,280.12250800000004,275.36191400000001,null,null,null,null,null,null,null,null,null,14.028124126334506,10.537500000000001,10.6175,1,0.02,287,15,76.217815652603022,0.6560146019914489]
["23","ELAZIĞ",null,null,"ELAZIĞ",null,"ELAZIĞ","ELAZIĞELAZIĞ",273.82163400000002,275.95752400000003,280.40107599999999,285.15238800000003,291.09345599999995,297.16709000000003,301.33369000000005,301.01499200000001,297.15302800000001,290.16264800000005,282.13109800000001,276.734962,null,null,null,null,null,null,null,null,null,13.954230692504112,10.537500000000001,10.6175,1,0.02,288,15,76.217815652603022,0.6560146019914489]
["23","KARAKOÇAN",null,null,"ELAZIĞ",null,"ELAZIĞ","ELAZIĞKARAKOÇAN",270.39624400000002,272.09306200000003,276.979198,282.56411400000002,288.61689199999995,294.760064,299.15205199999997,299.00482799999997,294.84364999999997,287.57982799999996,279.10180800000001,272.88574,null,null,null,null,null,null,null,null,null,13.879324807630438,10.537500000000001,10.6175,1,0.02,289,15,76.217815652603022,0.6560146019914489]
["23","KEBAN",null,null,"ELAZIĞ",null,"ELAZIĞ","ELAZIĞKEBAN",273.88569200000001,275.98252000000002,280.52177399999999,285.54380000000003,291.36767799999996,297.24716799999999,301.10126600000001,300.66381999999999,296.95537000000002,290.27006999999998,282.36899800000003,276.98105399999997,null,null,null,null,null,null,null,null,null,13.803428667943781,10.537500000000001,10.6175,1,0.02,290,15,76.217815652603022,0.6560146019914489]
["23","KOVANCILAR",null,null,"ELAZIĞ",null,"ELAZIĞ","ELAZIĞKOVANCILAR",272.45131800000001,274.56259399999999,279.770216,284.877002,290.815336,297.25107600000001,301.73212999999998,301.45913000000002,297.36045000000001,290.01577000000003,281.49165400000004,275.90410000000003,null,null,null,null,null,null,null,null,null,13.726564763108293,10.537500000000001,10.6175,1,0.02,291,15,76.217815652603022,0.6560146019914489]
["23","MADEN",null,null,"ELAZIĞ",null,"ELAZIĞ","ELAZIĞMADEN",272.89819,274.96532999999994,279.70185600000002,284.31215599999996,290.14072199999998,296.58974799999999,301.16260199999999,300.822022,296.44287399999996,289.37280399999997,281.25766599999997,276.20566400000001,null,null,null,null,null,null,null,null,null,13.648755869557844,10.537500000000001,10.6175,1,0.02,292,15,76.217815652603022,0.6560146019914489]
["23","PALU",null,null,"ELAZIĞ",null,"ELAZIĞ","ELAZIĞPALU",271.416944,273.33368600000006,278.44755400000003,283.632858,289.56298600000002,295.86474799999996,300.459474,300.24975999999998,296.04365000000001,288.69429000000002,280.33422800000005,274.991604,null,null,null,null,null,null,null,null,null,13.570025043746845,10.537500000000001,10.6175,1,0.02,293,15,76.217815652603022,0.6560146019914489]
["23","SİVRİCE",null,null,"ELAZIĞ",null,"ELAZIĞ","ELAZIĞSİVRİCE",272.03335000000004,274.146976,278.27490599999999,282.95473800000002,288.80986199999995,294.68739999999997,299.11728799999997,298.86928399999999,294.96005400000001,288.09467000000001,280.38696199999998,275.46738399999998,null,null,null,null,null,null,null,null,null,13.490395615318132,10.537500000000001,10.6175,1,0.02,294,15,76.217815652603022,0.6560146019914489]
["24","ÇAYIRLI",null,null,"ERZİNCAN",null,"ERZİNCAN","ERZİNCANÇAYIRLI",266.51030000000003,268.33330000000007,272.93076200000002,278.45981399999999,284.723142,289.70380800000004,292.67002000000002,292.69663000000003,289.47489999999999,283.49585000000002,275.66156799999999,270.05097800000004,null,null,null,null,null,null,null,null,null,13.409891180189899,10.537500000000001,10.6175,1,0.02,295,15,76.217815652603022,0.6560146019914489]
["24","ERZİNCAN",null,null,"ERZİNCAN",null,"ERZİNCAN","ERZİNCANERZİNCAN",266.94897400000002,268.79033200000003,273.45927799999998,279.252002,285.61064199999998,290.63622800000002,293.84814800000004,293.73491200000001,290.63818200000003,284.52553399999999,276.36235800000003,270.03691400000002,null,null,null,null,null,null,null,null,null,13.328535593563689,10.537500000000001,10.6175,1,0.02,296,15,76.217815652603022,0.6560146019914489]
["24","ILIÇ(İLİÇ)",null,null,"ERZİNCAN",null,"ERZİNCAN","ERZİNCANILIÇ(İLİÇ)",269.19350799999995,271.05947200000003,276.37177800000001,282.48716000000002,288.69345600000003,293.54248200000001,296.82274999999998,296.481786,293.45693600000004,287.28686399999998,278.59281999999996,272.49550600000003,null,null,null,null,null,null,null,null,null,13.246352962855626,10.537500000000001,10.6175,1,0.02,297,15,76.217815652603022,0.6560146019914489]
["24","KEMAH",null,null,"ERZİNCAN",null,"ERZİNCAN","ERZİNCANKEMAH",267.58296000000001,269.20244399999996,274.24052399999999,280.18403599999999,287.30830000000003,292.05536799999999,295.23915799999997,295.22592599999996,292.48349400000001,286.32710000000003,277.23071399999998,270.52285599999999,null,null,null,null,null,null,null,null,null,13.163367640552838,10.537500000000001,10.6175,1,0.02,298,15,76.217815652603022,0.6560146019914489]
["24","KEMALİYE",null,null,"ERZİNCAN",null,"ERZİNCAN","ERZİNCANKEMALİYE",268.76577200000003,270.498538,275.12021399999998,280.77973799999995,286.63096200000001,291.60497800000002,295.48994000000005,295.25093000000004,291.70927800000004,285.379052,277.59126200000003,272.392382,null,null,null,null,null,null,null,null,null,13.079604216997286,10.537500000000001,10.6175,1,0.02,299,15,76.217815652603022,0.6560146019914489]
["24","OTLUKBELİ",null,null,"ERZİNCAN",null,"ERZİNCAN","ERZİNCANOTLUKBELİ",266.31147399999998,268.12666400000001,273.11279400000001,278.32388400000002,284.17196999999999,289.00146400000006,291.791112,291.87632199999996,288.62919999999997,282.63296200000002,275.30805399999997,270.28612800000002,null,null,null,null,null,null,null,null,null,12.995087513099138,10.537500000000001,10.6175,1,0.02,300,15,76.217815652603022,0.6560146019914489]
["24","REFAHİYE",null,null,"ERZİNCAN",null,"ERZİNCAN","ERZİNCANREFAHİYE",265.90053599999999,267.82119600000004,272.42099400000001,278.64965999999998,284.74657999999999,289.20263999999997,292.73329999999999,292.60288200000002,289.52373,283.67397200000005,275.42367999999999,268.74199399999998,null,null,null,null,null,null,null,null,null,12.909842572981773,10.537500000000001,10.6175,1,0.02,301,15,76.217815652603022,0.6560146019914489]
["24","TERCAN",null,null,"ERZİNCAN",null,"ERZİNCAN","ERZİNCANTERCAN",267.195066,268.85712799999999,274.27529599999997,279.76176800000002,285.69853999999998,291.047166,294.18525400000004,294.17397600000004,290.544826,284.09936600000003,276.387742,271.13105200000001,null,null,null,null,null,null,null,null,null,12.823894656560686,10.537500000000001,10.6175,1,0.02,302,15,76.217815652603022,0.6560146019914489]
["24","ÜZÜMLÜ",null,null,"ERZİNCAN",null,"ERZİNCAN","ERZİNCANÜZÜMLÜ",266.90873799999997,268.681736,273.18076000000002,278.58481799999998,285.171582,290.33896400000003,293.56298400000003,293.55327199999999,290.51552600000002,284.27475199999998,276.14282599999996,269.89238,null,null,null,null,null,null,null,null,null,12.737269232058427,10.537500000000001,10.6175,1,0.02,303,15,76.217815652603022,0.6560146019914489]
["25","AŞKALE",null,null,"ERZURUM",null,"ERZURUM","ERZURUMAŞKALE",259.67109199999999,261.28398800000002,267.63671999999997,275.55937199999994,284.59580000000005,289.71865199999996,293.02822000000003,293.04116199999999,289.40537,282.81381799999997,270.49179599999997,264.26210799999996,null,null,null,null,null,null,null,null,null,12.649991968457797,10.537500000000001,10.6175,1,0.02,304,15,76.217815652603022,0.6560146019914489]
["25","AZİZİYE(ILICA)",null,null,"ERZURUM",null,"ERZURUM","ERZURUMAZİZİYE(ILICA)",259.78788999999995,261.46758400000004,267.42617599999994,275.46211399999999,284.69736,289.84833599999996,292.883692,292.85952200000003,289.55966799999999,283.06615999999997,270.5703079999999,263.89022999999992,null,null,null,null,null,null,null,null,null,12.562088727895608,10.537500000000001,10.6175,1,0.02,305,15,76.217815652603022,0.6560146019914489]
["25","ÇAT",null,null,"ERZURUM",null,"ERZURUM","ERZURUMÇAT",259.25,260.64999999999998,266.04999999999995,273.14999999999998,282.66220600000003,288.24326000000002,291.82587799999999,291.89194200000003,288.35693400000002,281.72749400000004,269.34999999999997,262.95,null,null,null,null,null,null,null,null,null,12.473585557999133,10.537500000000001,10.6175,1,0.02,306,15,76.217815652603022,0.6560146019914489]
["25","HINIS",null,null,"ERZURUM",null,"ERZURUM","ERZURUMHINIS",260.20117399999998,261.77148400000004,267.81992600000001,275.58203400000002,285.14736200000004,290.98584199999999,294.69619399999999,294.63139999999999,290.64247800000004,283.86499200000003,270.91874999999993,264.1636739999999,null,null,null,null,null,null,null,null,null,12.384508684167676,10.537500000000001,10.6175,1,0.02,307,15,76.217815652603022,0.6560146019914489]
["25","HORASAN",null,null,"ERZURUM",null,"ERZURUM","ERZURUMHORASAN",260.88007599999992,263.16016000000002,269.982034,277.81914999999998,286.94618600000001,292.17451,294.92704999999995,294.52163200000001,291.05419799999999,284.40170999999998,271.91719199999994,265.83476799999994,null,null,null,null,null,null,null,null,null,12.294884501801393,10.537500000000001,10.6175,1,0.02,308,15,76.217815652603022,0.6560146019914489]
["25","İSPİR",null,null,"ERZURUM",null,"ERZURUM","ERZURUMİSPİR",260.19140799999991,261.82070600000003,267.18007800000004,274.34336199999996,283.903614,288.43466799999999,290.35048800000004,290.51733000000002,287.47099400000002,282.46693999999997,270.29218999999995,263.95116799999994,null,null,null,null,null,null,null,null,null,12.204739568479757,10.537500000000001,10.6175,1,0.02,309,15,76.217815652603022,0.6560146019914489]
["25","KARAÇOBAN",null,null,"ERZURUM",null,"ERZURUM","ERZURUMKARAÇOBAN",260.02968999999996,261.67500200000006,267.95898599999992,275.95312599999994,285.16806600000007,290.85459400000002,295.04697399999998,294.64975999999996,290.32646199999999,283.27710000000002,270.71093999999994,264.57538999999991,null,null,null,null,null,null,null,null,null,12.114100596092008,10.537500000000001,10.6175,1,0.02,310,15,76.217815652603022,0.6560146019914489]
["25","KARAYAZI",null,null,"ERZURUM",null,"ERZURUM","ERZURUMKARAYAZI",258.39569999999998,259.84414200000003,265.83906799999994,273.07734399999998,282.24658199999999,287.60654200000005,291.09032999999999,290.74585200000001,287.15498400000001,280.40991200000002,268.74414200000001,262.49296799999996,null,null,null,null,null,null,null,null,null,12.022994442921805,10.537500000000001,10.6175,1,0.02,311,15,76.217815652603022,0.6560146019914489]
["25","KÖPRÜKÖY",null,null,"ERZURUM",null,"ERZURUM","ERZURUMKÖPRÜKÖY",260.22265199999993,262.03320400000001,268.49375199999997,276.13437799999997,285.10439600000001,290.28974200000005,293.29384799999997,293.01108400000004,289.36904199999998,282.78881999999993,270.82421600000004,265.15390599999995,null,null,null,null,null,null,null,null,null,11.931448105688569,10.537500000000001,10.6175,1,0.02,312,15,76.217815652603022,0.6560146019914489]
["25","NARMAN",null,null,"ERZURUM",null,"ERZURUM","ERZURUMNARMAN",259.11406199999993,261.03632800000003,267.16875199999998,275.03281799999991,284.18330200000003,288.83467000000002,291.32705199999998,291.38568999999995,287.97842000000003,282.08686399999999,269.98906399999998,264.30663599999997,null,null,null,null,null,null,null,null,null,11.839488711547757,10.537500000000001,10.6175,1,0.02,313,15,76.217815652603022,0.6560146019914489]
["25","OLTU",null,null,"ERZURUM",null,"ERZURUM","ERZURUMOLTU",260.05663799999996,261.97852,268.51093600000002,276.17578599999996,285.148144,289.66552399999995,292.08681799999999,292.19467599999996,288.67685799999998,283.03608399999996,271.08320599999996,265.39843799999994,null,null,null,null,null,null,null,null,null,11.747143510052492,10.537500000000001,10.6175,1,0.02,314,15,76.217815652603022,0.6560146019914489]
["25","OLUR",null,null,"ERZURUM",null,"ERZURUM","ERZURUMOLUR",260.76601799999997,262.388284,268.68125199999997,276.33164199999993,285.28213,289.81395800000001,292.20244000000002,292.34780200000006,288.62685199999999,283.03334799999999,271.43906399999997,265.60039399999999,null,null,null,null,null,null,null,null,null,11.654439865078958,10.537500000000001,10.6175,1,0.02,315,15,76.217815652603022,0.6560146019914489]
["25","PALANDÖKEN",null,null,"ERZURUM",null,"ERZURUM",{"$f":"G403&B403","v":"ERZURUMPALANDÖKEN"},259.26289399999996,260.78593600000005,266.51835599999998,274.52734599999997,283.78291000000002,288.90341599999999,291.96533199999993,291.88608399999998,288.59872999999999,282.25366000000002,269.93007999999992,263.43984199999994,null,null,null,null,null,null,null,null,null,11.561405246717859,10.537500000000001,10.6175,1,0.02,316,15,76.217815652603022,0.6560146019914489]
["25","PASİNLER",null,null,"ERZURUM",null,"ERZURUM","ERZURUMPASİNLER",259.72773199999995,261.41797200000002,267.83398400000004,275.64219000000003,284.66377199999999,289.80888400000003,292.759862,292.529832,288.94130800000005,282.39936399999999,270.44570399999992,264.64179799999988,null,null,null,null,null,null,null,null,null,11.468067223134472,10.537500000000001,10.6175,1,0.02,317,15,76.217815652603022,0.6560146019914489]
["25","PAZARYOLU",null,null,"ERZURUM",null,"ERZURUM","ERZURUMPAZARYOLU",260.52890600000001,262.07890800000007,267.70859599999994,275.23515399999997,284.60361399999999,289.202246,291.288768,291.33530000000002,288.31044800000001,283.097804,270.79179799999997,264.52539199999995,null,null,null,null,null,null,null,null,null,11.374453452399591,10.537500000000001,10.6175,1,0.02,318,15,76.217815652603022,0.6560146019914489]
["25","ŞENKAYA",null,null,"ERZURUM",null,"ERZURUM","ERZURUMŞENKAYA",260.19296799999995,261.90624600000007,268.77304599999997,276.60664399999996,285.69384600000001,289.93662,292.19502,292.18217399999997,288.84443399999998,283.34975799999995,271.23828399999996,265.42968799999994,null,null,null,null,null,null,null,null,null,11.280591674293824,10.537500000000001,10.6175,1,0.02,319,15,76.217815652603022,0.6560146019914489]
["25","TEKMAN",null,null,"ERZURUM",null,"ERZURUM","ERZURUMTEKMAN",259.73046999999997,261.25235000000004,267.21250400000002,274.84726799999999,284.273144,289.95537400000001,293.19463000000002,293.15405399999997,289.59287399999994,282.86694199999999,270.33866999999992,263.70077999999995,null,null,null,null,null,null,null,null,null,{"$f":"AE407-AF407*(EXP(1)^(-AG407*AL407))*COS(2*PI()/365*(AI407-AJ407-(AG407/2)*AK407))","v":11.186509702087736},{"$f":"($AB$88+$AA$88)/2","v":10.537500000000001},{"$f":"($AB$88-$AA$88)/2","v":10.6175},{"$f":"$Z$88","v":1},{"$f":"$Y$88","v":0.02},320,{"$f":"$AC$88","v":15},{"$f":"SQRT(365/(PI()*AH407))","v":76.217815652603022},{"$f":"SQRT(PI()/(365*AH407))","v":0.6560146019914489}]
["25","TORTUM",null,null,"ERZURUM",null,"ERZURUM","ERZURUMTORTUM",259.58124999999995,261.53320600000001,267.3168,275.37187399999993,284.48603799999995,289.01474999999999,291.34541200000001,291.48920600000002,288.307322,282.63998800000002,270.28359399999999,264.04062199999993,null,null,null,null,null,null,null,null,null,11.09223541430014,10.537500000000001,10.6175,1,0.02,321,15,76.217815652603022,0.6560146019914489]
["25","UZUNDERE",null,null,"ERZURUM",null,"ERZURUM","ERZURUMUZUNDERE",260.45508199999995,262.30585800000006,267.89882599999999,275.42890799999992,284.52666199999999,288.91318199999995,291.30830200000003,291.47905800000001,288.08857599999999,282.78100599999999,270.90976799999993,264.81054399999994,null,null,null,null,null,null,null,null,null,10.997796746437114,10.537500000000001,10.6175,1,0.02,322,15,76.217815652603022,0.6560146019914489]
["25","YAKUTİYE",null,null,"ERZURUM",null,"ERZURUM","ERZURUMYAKUTİYE",259.26289399999996,260.78593600000005,266.51835599999998,274.52734599999997,283.78291000000002,288.90341599999999,291.96533199999993,291.88608399999998,288.59872999999999,282.25366000000002,269.93007999999992,263.43984199999994,null,null,null,null,null,null,null,null,null,10.903221682714106,10.537500000000001,10.6175,1,0.02,323,15,76.217815652603022,0.6560146019914489]
["26","ALPU",null,null,"ESKİŞEHİR",null,"ESKİŞEHİR","ESKİŞEHİRALPU",273.25405000000001,276.68252000000001,279.99247800000001,284.38559399999997,290.05869200000001,293.02294999999992,296.64775399999996,296.69897800000001,292.89287000000002,287.19350799999995,280.55766599999998,276.16269199999999,null,null,null,null,null,null,null,null,null,10.808538247763586,10.537500000000001,10.6175,1,0.02,324,15,76.217815652603022,0.6560146019914489]
["26","BEYLİKOVA",null,null,"ESKİŞEHİR",null,"ESKİŞEHİR","ESKİŞEHİRBEYLİKOVA",273.36733599999997,276.94150200000001,280.33349199999998,284.92036199999995,290.58017400000006,293.48037399999998,297.31494199999997,297.359914,293.52138600000001,287.62670800000001,280.77211799999998,276.37089600000002,null,null,null,null,null,null,null,null,null,10.713774498330773,10.537500000000001,10.6175,1,0.02,325,15,76.217815652603022,0.6560146019914489]
["26","ÇİFTELER",null,null,"ESKİŞEHİR",null,"ESKİŞEHİR","ESKİŞEHİRÇİFTELER",273.33373599999999,276.82783599999993,280.11396200000001,284.63169200000004,290.21376999999995,293.06474600000001,296.88603599999999,296.77748800000001,292.97529399999996,287.08335,280.66626400000001,276.19355400000001,null,null,null,null,null,null,null,null,null,10.618958514959786,10.537500000000001,10.6175,1,0.02,326,15,76.217815652603022,0.6560146019914489]
["26","GÜNYÜZÜ",null,null,"ESKİŞEHİR",null,"ESKİŞEHİR","ESKİŞEHİRGÜNYÜZÜ",273.25248799999997,276.26259600000003,279.71044799999999,284.378174,290.08134600000005,293.14677599999999,297.410642,297.27553999999998,293.17724400000003,286.98022800000001,280.29516799999999,275.99160199999994,null,null,null,null,null,null,null,null,null,10.524118393672795,10.537500000000001,10.6175,1,0.02,327,15,76.217815652603022,0.6560146019914489]
["26","HAN",null,null,"ESKİŞEHİR",null,"ESKİŞEHİR","ESKİŞEHİRHAN",271.99194599999998,275.59814599999999,278.65029200000004,283.13285999999999,288.59072200000003,291.219042,295.31688999999994,295.25834999999995,291.59755799999999,285.78491400000001,279.71431200000001,275.17480599999999,null,null,null,null,null,null,null,null,null,10.429282237644564,10.537500000000001,10.6175,1,0.02,328,15,76.217815652603022,0.6560146019914489]
["26","İNÖNÜ",null,null,"ESKİŞEHİR",null,"ESKİŞEHİR","ESKİŞEHİRİNÖNÜ",272.39233000000002,275.60674200000005,278.82646599999998,282.98286199999995,288.26259999999996,290.99208800000002,294.21572400000002,294.47749000000005,291.21474599999999,286.16225800000001,280.44555600000001,275.83613400000002,null,null,null,null,null,null,null,null,null,10.334478148874846,10.537500000000001,10.6175,1,0.02,329,15,76.217815652603022,0.6560146019914489]
["26","MAHMUDİYE",null,null,"ESKİŞEHİR",null,"ESKİŞEHİR","ESKİŞEHİRMAHMUDİYE",273.28921000000003,276.61962599999998,279.86006200000003,284.31176399999998,289.91220799999996,292.85263399999997,296.61650000000003,296.53569200000004,292.70380600000004,286.84506399999998,280.43852800000002,276.088866,null,null,null,null,null,null,null,null,null,10.239734219861189,10.537500000000001,10.6175,1,0.02,330,15,76.217815652603022,0.6560146019914489]
["26","MİHALGAZİ",null,null,"ESKİŞEHİR",null,"ESKİŞEHİR","ESKİŞEHİRMİHALGAZİ",273.48022800000001,276.52744199999995,279.695606,283.91254799999996,289.39423799999997,292.27217200000001,295.58759600000002,295.66264799999999,292.12723999999997,286.98491000000001,280.73344800000001,276.25332200000003,null,null,null,null,null,null,null,null,null,10.145078525274496,10.537500000000001,10.6175,1,0.02,331,15,76.217815652603022,0.6560146019914489]
["26","MİHALIÇÇIK",null,null,"ESKİŞEHİR",null,"ESKİŞEHİR","ESKİŞEHİRMİHALIÇÇIK",272.63491400000004,275.43916200000001,278.51435800000002,282.99848800000001,288.55009600000005,291.58310399999999,295.60595799999999,295.72319400000003,291.737796,286.07280200000002,279.86157400000002,275.352146,null,null,null,null,null,null,null,null,null,10.050539113639912,10.537500000000001,10.6175,1,0.02,332,15,76.217815652603022,0.6560146019914489]
["26","ODUNPAZARI",null,null,"ESKİŞEHİR",null,"ESKİŞEHİR","ESKİŞEHİRODUNPAZARI",272.74585000000008,276.02197200000001,279.07333799999998,283.19301800000005,288.68329800000004,291.59560599999998,295.06767400000001,295.13374000000005,291.53623000000005,286.26225400000004,280.13735000000003,275.78144600000002,null,null,null,null,null,null,null,null,null,9.9561439990254392,10.537500000000001,10.6175,1,0.02,333,15,76.217815652603022,0.6560146019914489]
["26","SARICAKAYA",null,null,"ESKİŞEHİR",null,"ESKİŞEHİR","ESKİŞEHİRSARICAKAYA",273.48022800000001,276.52744199999995,279.695606,283.91254799999996,289.39423799999997,292.27217200000001,295.58759600000002,295.66264799999999,292.12723999999997,286.98491000000001,280.73344800000001,276.25332200000003,null,null,null,null,null,null,null,null,null,9.8619211527407398,10.537500000000001,10.6175,1,0.02,334,15,76.217815652603022,0.6560146019914489]
["26","SEYİTGAZİ",null,null,"ESKİŞEHİR",null,"ESKİŞEHİR","ESKİŞEHİRSEYİTGAZİ",272.50522599999994,276.01376999999997,279.11473999999998,283.60356200000001,289.04970599999996,291.74092000000002,295.53134600000004,295.50209999999998,291.94795399999998,286.309912,280.16547800000001,275.57051000000001,null,null,null,null,null,null,null,null,null,9.7678984950486729,10.537500000000001,10.6175,1,0.02,335,15,76.217815652603022,0.6560146019914489]
["26","SİVRİHİSAR",null,null,"ESKİŞEHİR",null,"ESKİŞEHİR","ESKİŞEHİRSİVRİHİSAR",272.67046199999999,275.94970999999998,279.19365800000003,283.72505000000001,289.33096,292.28115599999995,296.43760000000003,296.434912,292.49795,286.449364,279.84204600000004,275.54082,null,null,null,null,null,null,null,null,null,9.6741038868918814,10.537500000000001,10.6175,1,0.02,336,15,76.217815652603022,0.6560146019914489]
["26","TEPEBAŞI",null,null,"ESKİŞEHİR",null,"ESKİŞEHİR","ESKİŞEHİRTEPEBAŞI",272.74585000000008,276.02197200000001,279.07333799999998,283.19301800000005,288.68329800000004,291.59560599999998,295.06767400000001,295.13374000000005,291.53623000000005,286.26225400000004,280.13735000000003,275.78144600000002,null,null,null,null,null,null,null,null,null,9.5805651216370151,10.537500000000001,10.6175,1,0.02,337,15,76.217815652603022,0.6560146019914489]
["27","ARABAN",null,null,"GAZİANTEP",null,"GAZİANTEP","GAZİANTEPARABAN",277.09311400000001,278.805566,283.02060799999992,287.33325000000002,293.72587999999996,299.15927999999997,303.67430999999999,303.39037999999999,299.72725200000002,292.40834799999999,284.10336599999999,279.43066799999997,null,null,null,null,null,null,null,null,null,9.4873099168389619,10.537500000000001,10.6175,1,0.02,338,15,76.217815652603022,0.6560146019914489]
["27","İSLAHİYE",null,null,"GAZİANTEP",null,"GAZİANTEP","GAZİANTEPİSLAHİYE",277.83335,279.88915599999996,283.10224600000004,287.148482,292.45829800000001,295.522558,299.35165999999998,299.52827199999996,297.45732400000003,292.71225200000003,285.43774400000001,280.58925599999998,null,null,null,null,null,null,null,null,null,9.3943659060275007,10.537500000000001,10.6175,1,0.02,339,15,76.217815652603022,0.6560146019914489]
["27","KARKAMIŞ",null,null,"GAZİANTEP",null,"GAZİANTEP","GAZİANTEPKARKAMIŞ",279.51420999999999,281.15752000000003,285.46864999999997,290.20513,297.00752,301.44404199999997,305.49267799999996,304.98413200000005,301.61865399999999,294.81811599999997,286.47641599999997,281.68652800000001,null,null,null,null,null,null,null,null,null,9.3017606305189435,10.537500000000001,10.6175,1,0.02,340,15,76.217815652603022,0.6560146019914489]
["27","NİZİP",null,null,"GAZİANTEP",null,"GAZİANTEP","GAZİANTEPNİZİP",278.39780200000007,280.079004,284.25341800000001,288.86645400000003,295.609084,300.392088,304.63525400000003,304.24116199999997,300.77607799999998,293.83296000000001,285.41196200000002,280.66815799999995,null,null,null,null,null,null,null,null,null,9.2095215312549978,10.537500000000001,10.6175,1,0.02,341,15,76.217815652603022,0.6560146019914489]
["27","NURDAĞI",null,null,"GAZİANTEP",null,"GAZİANTEP","GAZİANTEPNURDAĞI",276.84858399999996,278.83095400000002,282.16357200000004,286.14302200000003,291.46337800000003,294.91982000000002,298.82861200000002,299.04233600000003,296.75263800000005,291.64506799999998,284.267042,279.61113599999999,null,null,null,null,null,null,null,null,null,9.1176759406714645,10.537500000000001,10.6175,1,0.02,342,15,76.217815652603022,0.6560146019914489]
["27","OĞUZELİ",null,null,"GAZİANTEP",null,"GAZİANTEP","GAZİANTEPOĞUZELİ",277.51186200000001,279.26455199999998,283.21865599999995,287.64106400000003,294.08408399999996,298.49833799999999,302.68837799999994,302.41068999999999,299.31943200000006,292.76030200000002,284.60961800000001,279.88691600000004,null,null,null,null,null,null,null,null,null,9.0262510745990276,10.537500000000001,10.6175,1,0.02,343,15,76.217815652603022,0.6560146019914489]
["27","ŞAHİNBEY",null,null,"GAZİANTEP",null,"GAZİANTEP","GAZİANTEPŞAHİNBEY",276.79936600000002,278.54814599999997,282.35302399999995,286.61918800000001,292.70243999999997,297.10224400000004,301.31493999999998,301.12748999999997,298.08076399999999,291.76772399999999,283.94477600000005,279.30215000000004,null,null,null,null,null,null,null,null,null,8.9352740241986055,10.537500000000001,10.6175,1,0.02,344,15,76.217815652603022,0.6560146019914489]
["27","ŞEHİTKAMİL",null,null,"GAZİANTEP",null,"GAZİANTEP","GAZİANTEPŞEHİTKAMİL",276.79936600000002,278.54814599999997,282.35302399999995,286.61918800000001,292.70243999999997,297.10224400000004,301.31493999999998,301.12748999999997,298.08076399999999,291.76772399999999,283.94477600000005,279.30215000000004,null,null,null,null,null,null,null,null,null,8.8447717479336863,10.537500000000001,10.6175,1,0.02,345,15,76.217815652603022,0.6560146019914489]
["27","YAVUZELİ",null,null,"GAZİANTEP",null,"GAZİANTEP","GAZİANTEPYAVUZELİ",277.11498999999992,278.84541200000001,282.96865399999996,287.25708200000003,293.53213199999999,298.59756200000004,303.039942,302.83022600000004,299.46083799999997,292.41225400000002,284.10103000000004,279.41699199999999,null,null,null,null,null,null,null,null,null,8.7547710635819165,10.537500000000001,10.6175,1,0.02,346,15,76.217815652603022,0.6560146019914489]
["28","ALUCRA",null,null,"GİRESUN",null,"GİRESUN","GİRESUNALUCRA",265.96107999999992,267.97509400000001,272.13584000000003,278.01801799999993,284.29775200000006,288.67333999999994,291.22978599999999,291.14155199999999,288.35107399999998,283.14624199999997,275.31782400000003,268.74785000000003,null,null,null,null,null,null,null,null,null,8.6652986402884498,10.537500000000001,10.6175,1,0.02,347,15,76.217815652603022,0.6560146019914489]
["28","BULANCAK",null,null,"GİRESUN",null,"GİRESUN","GİRESUNBULANCAK",278.18066749999997,278.42254500000001,281.39764250000002,283.70526000000001,288.54663500000004,292.12378000000001,294.75897250000003,294.73993000000002,292.34179499999999,288.60260000000005,283.96576250000004,281.09289999999999,null,null,null,null,null,null,null,null,null,8.5763809906632851,10.537500000000001,10.6175,1,0.02,348,15,76.217815652603022,0.6560146019914489]
["28","ÇAMOLUK",null,null,"GİRESUN",null,"GİRESUN","GİRESUNÇAMOLUK",266.50561200000004,268.5333,273.04247800000002,279.21215799999999,285.12978400000003,289.60654799999998,292.74345999999997,292.638036,289.63896400000004,284.017336,275.96040199999999,269.19824000000006,null,null,null,null,null,null,null,null,null,8.4880444629249965,10.537500000000001,10.6175,1,0.02,349,15,76.217815652603022,0.6560146019914489]
["28","ÇANAKÇI",null,null,"GİRESUN",null,"GİRESUN","GİRESUNÇANAKÇI",276.041944,276.66103400000003,279.61748,282.677392,287.74853400000001,291.24716999999998,293.11298399999998,293.10600400000004,290.68505999999996,287.10913399999998,282.32211999999998,278.86582600000003,null,null,null,null,null,null,null,null,null,8.400315233093222,10.537500000000001,10.6175,1,0.02,350,15,76.217815652603022,0.6560146019914489]
["28","DERELİ",null,null,"GİRESUN",null,"GİRESUN","GİRESUNDERELİ",273.05874000000006,273.99189199999995,276.81670199999996,280.74028400000003,286.30986199999995,289.59599800000001,291.30166000000003,291.24780199999998,288.89482400000003,285.31498999999997,279.856494,275.91894799999994,null,null,null,null,null,null,null,null,null,8.3132192972321022,10.537500000000001,10.6175,1,0.02,351,15,76.217815652603022,0.6560146019914489]
["28","DOĞANKENT",null,null,"GİRESUN",null,"GİRESUN","GİRESUNDOĞANKENT",274.14741800000002,275.03017599999998,278.08115400000003,281.77426800000001,286.98173799999995,290.23154400000004,291.94346000000007,291.93178799999998,289.52880799999997,285.95209799999998,280.74673000000001,277.04199,null,null,null,null,null,null,null,null,null,8.2267824637471207,10.537500000000001,10.6175,1,0.02,352,15,76.217815652603022,0.6560146019914489]
["28","ESPİYE",null,null,"GİRESUN",null,"GİRESUN","GİRESUNESPİYE",277.80761999999999,278.015805,281.33758499999999,283.85760249999998,288.64233250000001,292.05444249999999,294.55828500000001,294.47235000000001,292.15478000000002,288.3384375,283.64398249999999,280.53723249999996,null,null,null,null,null,null,null,null,null,8.1410303457375033,10.537500000000001,10.6175,1,0.02,353,15,76.217815652603022,0.6560146019914489]
["28","EYNESİL",null,null,"GİRESUN",null,"GİRESUN","GİRESUNEYNESİL",277.43310750000001,277.64910750000001,280.69207749999998,283.15252749999996,287.89966249999998,291.65649500000006,294.40643,294.302435,291.99658500000004,288.02105500000005,283.2924175,280.21447499999999,null,null,null,null,null,null,null,null,null,8.0559883534064927,10.537500000000001,10.6175,1,0.02,354,15,76.217815652603022,0.6560146019914489]
["28","GİRESUN",null,null,"GİRESUN",null,"GİRESUN","GİRESUNGİRESUN",278.50879500000002,278.64959749999997,281.67596500000002,284.11102249999999,288.92065500000001,292.39331000000004,294.9552625,294.90057250000001,292.55420500000002,288.82720749999999,284.16546750000003,281.20080499999995,null,null,null,null,null,null,null,null,null,7.9716816865317774,10.537500000000001,10.6175,1,0.02,355,15,76.217815652603022,0.6560146019914489]
["28","GÖRELE",null,null,"GİRESUN",null,"GİRESUN","GİRESUNGÖRELE",278.05224750000002,278.154965,281.14959750000003,283.52654999999999,288.26830749999999,292.0686025,294.79413250000005,294.69208000000003,292.39843250000001,288.47076749999997,283.8334375,280.78918249999998,null,null,null,null,null,null,null,null,null,7.8881353269982348,10.537500000000001,10.6175,1,0.02,356,15,76.217815652603022,0.6560146019914489]
["28","GÜCE",null,null,"GİRESUN",null,"GİRESUN","GİRESUNGÜCE",277.373535,277.67449999999997,281.25457749999998,283.782895,288.56665249999998,291.86303499999997,294.30535999999995,294.18719249999998,291.8876975,288.07477249999999,283.36223999999999,280.21447999999998,null,null,null,null,null,null,null,null,null,7.8053740313952744,10.537500000000001,10.6175,1,0.02,357,15,76.217815652603022,0.6560146019914489]
["28","KEŞAP",null,null,"GİRESUN",null,"GİRESUN","GİRESUNKEŞAP",278.296875,278.47919249999995,281.4660025,284.00750749999997,288.77660999999995,292.25268,294.81659250000001,294.75946499999998,292.43017749999996,288.65288750000002,283.95404000000002,280.91076750000002,null,null,null,null,null,null,null,null,null,7.7234223236809232,10.537500000000001,10.6175,1,0.02,358,15,76.217815652603022,0.6560146019914489]
["28","PİRAZİZ",null,null,"GİRESUN",null,"GİRESUN","GİRESUNPİRAZİZ",278.18066749999997,278.42254500000001,281.39764250000002,283.70526000000001,288.54663500000004,292.12378000000001,294.75897250000003,294.73993000000002,292.34179499999999,288.60260000000005,283.96576250000004,281.09289999999999,null,null,null,null,null,null,null,null,null,7.6423044879148314,10.537500000000001,10.6175,1,0.02,359,15,76.217815652603022,0.6560146019914489]
["28","ŞEBİNKARAHİSAR",null,null,"GİRESUN",null,"GİRESUN","GİRESUNŞEBİNKARAHİSAR",267.50014599999997,269.34931599999999,273.33740599999999,279.18872199999998,285.18798800000002,289.55732599999999,292.13642799999997,292.03295200000002,289.17919999999998,284.01264600000002,276.42016799999999,270.15957400000002,null,null,null,null,null,null,null,null,null,7.5620445610624074,10.537500000000001,10.6175,1,0.02,360,15,76.217815652603022,0.6560146019914489]
["28","TİREBOLU",null,null,"GİRESUN",null,"GİRESUN","GİRESUNTİREBOLU",277.373535,277.67449999999997,281.25457749999998,283.782895,288.56665249999998,291.86303499999997,294.30535999999995,294.18719249999998,291.8876975,288.07477249999999,283.36223999999999,280.21447999999998]
["28","YAĞLIDERE",null,null,"GİRESUN",null,"GİRESUN","GİRESUNYAĞLIDERE",278.24950749999999,278.43231249999997,281.43573249999997,283.96551499999998,288.74340749999999,292.2609875,294.83904749999999,294.76580999999999,292.438965,288.63189749999998,283.94378499999999,280.90930750000001]
["29","GÜMÜŞHANE",null,null,"GÜMÜŞHANE",null,"GÜMÜŞHANE","GÜMÜŞHANEGÜMÜŞHANE",266.828664,268.57705199999998,272.54482799999994,277.60981800000002,283.718458,287.48428200000001,289.286428,289.29819399999997,286.71708999999998,282.21772600000003,275.06235000000004,269.73496]
["29","KELKİT",null,null,"GÜMÜŞHANE",null,"GÜMÜŞHANE","GÜMÜŞHANEKELKİT",266.96069,268.983294,273.80966999999998,279.70903600000003,285.653614,290.12998200000004,292.91064399999999,292.809912,289.73193199999997,284.16538200000002,276.21157199999999,270.20839800000005]
["29","KÖSE",null,null,"GÜMÜŞHANE",null,"GÜMÜŞHANE","GÜMÜŞHANEKÖSE",266.59545800000001,268.58915800000005,273.031542,278.36840600000005,284.27548400000001,288.79013600000002,291.454004,291.471632,288.21552600000001,282.55249000000003,275.12251200000003,270.27714800000001]
["29","KÜRTÜN",null,null,"GÜMÜŞHANE",null,"GÜMÜŞHANE","GÜMÜŞHANEKÜRTÜN",270.279832,271.34072199999997,274.58545000000004,279.27426600000001,284.94072399999999,288.22060999999997,289.800096,289.77632000000006,287.30928,283.48920799999996,277.42172799999997,272.83886999999999]
["29","ŞİRAN",null,null,"GÜMÜŞHANE",null,"GÜMÜŞHANE","GÜMÜŞHANEŞİRAN",266.85600599999998,268.94306599999999,273.60302999999999,279.81332400000002,285.85986200000002,290.21864800000003,292.72041200000001,292.68569399999996,289.92919999999998,284.69311600000003,276.52055800000005,269.79824600000001]
["29","TORUL",null,null,"GÜMÜŞHANE",null,"GÜMÜŞHANE","GÜMÜŞHANETORUL",267.51225400000004,269.40556600000002,273.14833799999997,278.14887800000002,284.28564599999993,287.59325999999999,289.02470200000005,288.99233400000003,286.60185599999994,282.60874200000001,275.58891800000004,270.083012]
["30","ÇUKURCA",null,null,"HAKKARİ",null,"HAKKARİ","HAKKARİÇUKURCA",269.37475799999999,271.53096199999999,276.10341600000004,281.14653400000003,287.92666399999996,294.54208600000004,298.71220599999998,298.48882199999997,294.36044000000004,287.036472,278.90962000000002,272.55254000000002]
["30","HAKKARİ",null,null,"HAKKARİ",null,"HAKKARİ","HAKKARİHAKKARİ",266.77944600000001,268.96415999999999,273.14911999999998,277.06645399999996,283.76298800000006,290.59404599999999,294.80634999999995,294.48412999999999,290.45771400000001,282.97554000000002,275.29243200000002,269.715824]
["30","ŞEMDİNLİ",null,null,"HAKKARİ",null,"HAKKARİ","HAKKARİŞEMDİNLİ",267.99233600000002,270.04072800000006,274.21826199999998,279.03169000000003,286.29657999999995,292.51826199999994,296.233296,295.55873999999994,292.00654399999996,284.77085399999999,276.697902,271.03925999999996]
["30","YÜKSEKOVA",null,null,"HAKKARİ",null,"HAKKARİ","HAKKARİYÜKSEKOVA",266.70757199999997,268.99932000000001,273.35576200000003,277.67894799999999,284.84618600000005,291.119438,294.81416200000001,294.100144,290.63661999999999,283.27983,275.454544,269.78183799999999]
["31","ALTINÖZÜ",null,null,"HATAY",null,"HATAY","HATAYALTINÖZÜ",281.191554,282.66025200000001,285.67802799999998,289.200828,297.71172000000001,299.93438400000002,302.04765599999996,303.21054399999997,302.41874799999999,299.30156399999998,288.14828999999997,283.47675399999997]
["31","ANTAKYA",null,null,"HATAY",null,"HATAY","HATAYANTAKYA",281.71108199999998,283.32353599999999,286.29326200000003,289.77622200000008,298.30547000000001,300.52266399999996,302.55429600000002,303.74491799999998,303.02656199999996,300.10156199999994,288.954544,283.98965199999998]
["31","BELEN",null,null,"HATAY",null,"HATAY","HATAYBELEN",280.66420799999997,282.1044,284.87646600000005,288.38285800000006,297.02772800000002,299.53594399999997,301.88749999999999,303.025778,302.00586199999998,298.64101800000003,287.83071000000001,283.28691399999997]
["31","DÖRTYOL",null,null,"HATAY",null,"HATAY","HATAYDÖRTYOL",281.28998999999999,282.90283400000004,286.00693200000001,289.66567199999997,298.179686,300.33985200000006,302.41093799999999,303.59296399999999,302.95742599999994,299.85624599999994,288.62602400000003,284.05019600000003]
["31","ERZİN",null,null,"HATAY",null,"HATAY","HATAYERZİN",280.88334599999996,282.58017600000005,285.81318199999998,289.60122200000001,298.29413800000003,300.66133400000001,302.87578199999996,304.00194800000003,303.17109599999998,299.69297199999994,288.21313199999997,283.48690999999997]
["31","HASSA",null,null,"HATAY",null,"HATAY","HATAYHASSA",278.45639799999998,280.306738,283.43466599999999,287.39145399999995,296.43359399999997,299.10313399999995,301.70468599999992,302.62031000000002,301.24375000000003,297.26015799999993,285.80922999999996,281.18222600000001]
["31","İSKENDERUN",null,null,"HATAY",null,"HATAY","HATAYİSKENDERUN",281.13725599999998,282.55048600000003,285.22412000000003,288.64809200000002,297.16796799999997,299.43985399999997,301.549218,302.74999399999996,301.912892,298.872658,288.30688399999997,283.85175599999997]
["31","KIRIKHAN",null,null,"HATAY",null,"HATAY",{"$f":"G467&B467","v":"HATAYKIRIKHAN"},280.73803800000002,282.49072000000001,285.61122799999998,289.33559400000001,298.30155999999994,300.93203999999997,303.13788999999997,304.06015199999996,302.98632399999997,299.498828,288.27094199999999,283.219334]
["31","KUMLU",null,null,"HATAY",null,"HATAY","HATAYKUMLU",281.66655200000002,283.54033199999998,286.79326200000003,290.63090399999999,299.75,302.34999999999997,304.34999999999997,305.14999999999998,304.14999999999998,300.54999999999995,289.06157000000002,283.91855400000003]
["31","REYHANLI",null,null,"HATAY",null,"HATAY","HATAYREYHANLI",280.84467800000004,282.53095400000001,285.90693399999998,289.91723000000002,299.18476800000002,301.88868200000002,304.08867599999996,304.82069999999999,303.57265799999999,299.44960600000002,287.90493200000003,283.12949399999997]
["31","SAMANDAĞ",null,null,"HATAY",null,"HATAY","HATAYSAMANDAĞ",282.31733600000001,283.521188,286.20381000000003,289.35474199999999,297.57069599999994,299.55039600000003,301.44961000000001,302.83983799999999,302.34336399999995,299.91406399999994,289.17954199999997,284.59863800000005]
["31","YAYLADAĞI",null,null,"HATAY",null,"HATAY","HATAYYAYLADAĞI",280.32124199999998,281.517674,284.42373400000002,287.91762600000004,296.46640600000001,298.78907400000003,301.141008,302.25663799999995,301.31718799999999,298.03280999999998,286.99400000000003,282.64824200000004]
["32","AKSU",null,null,"ISPARTA",null,"ISPARTA","ISPARTAAKSU",271.92006600000002,274.01103799999999,276.83505600000001,281.03325400000006,286.404786,289.45146399999993,293.80947200000003,293.83608599999997,290.94950400000005,285.13959800000003,279.683446,275.33808599999998]
["32","ATABEY",null,null,"ISPARTA",null,"ISPARTA","ISPARTAATABEY",272.42787599999997,274.79501800000003,277.62841800000001,281.66879800000004,287.09619199999997,290.24247600000001,294.80126999999999,294.78959800000001,291.71630999999996,285.70483200000001,279.98579600000005,275.66894600000001]
["32","EĞİRDİR(EĞRİDİR)",null,null,"ISPARTA",null,"ISPARTA","ISPARTAEĞİRDİR(EĞRİDİR)",274.14155,276.417284,279.58076399999999,284.15005200000007,289.62431199999997,292.87568799999997,297.20556399999998,297.25952000000001,294.24638399999998,288.35795799999994,282.27563599999996,277.46347600000001]
["32","GELENDOST",null,null,"ISPARTA",null,"ISPARTA","ISPARTAGELENDOST",273.456006,275.90048999999999,279.03114799999997,283.56880200000001,289.06572400000005,292.22178000000002,296.502048,296.54428799999999,293.55927800000001,287.72709800000001,281.67407600000001,276.79199199999999]
["32","GÖNEN",null,null,"ISPARTA",null,"ISPARTA","ISPARTAGÖNEN",272.81576800000005,275.25556599999999,278.13857399999995,282.24497000000002,287.69931600000001,290.84795199999996,295.22782999999998,295.24272400000001,292.21904000000001,286.11615999999992,280.23422799999997,275.95410400000003]
["32","ISPARTA",null,null,"ISPARTA",null,"ISPARTA","ISPARTAISPARTA",274.41382399999998,276.83642599999996,279.67334,283.96293800000001,289.43603400000001,292.74677400000002,297.33408199999997,297.36967599999997,294.19130999999999,288.02788199999998,282.02875799999998,277.48535000000004]
["32","KEÇİBORLU",null,null,"ISPARTA",null,"ISPARTA","ISPARTAKEÇİBORLU",274.11147399999999,276.55713000000003,279.31357000000003,283.53364599999998,289.04579799999999,292.25653999999997,296.67782999999997,296.74975200000006,293.61435,287.36499000000003,281.34087000000005,276.94667800000002]
["32","SENİRKENT",null,null,"ISPARTA",null,"ISPARTA","ISPARTASENİRKENT",272.37553600000001,274.91533200000003,277.74169799999999,281.86489399999999,287.362212,290.38779399999999,294.85595599999999,294.82631800000001,291.72685400000006,285.72436399999998,279.89086599999996,275.52441200000004]
["32","SÜTÇÜLER",null,null,"ISPARTA",null,"ISPARTA","ISPARTASÜTÇÜLER",274.12163199999998,276.33876599999996,279.10029199999997,283.23950200000002,288.62236199999995,291.82060000000001,296.51688999999999,296.39546200000001,293.33662200000003,287.29702199999997,281.58540400000004,277.31269600000002]
["32","ŞARKİKARAAĞAÇ",null,null,"ISPARTA",null,"ISPARTA","ISPARTAŞARKİKARAAĞAÇ",272.09741199999996,274.63407999999998,278.00458999999995,282.66215799999998,288.16649999999998,291.20263599999998,295.50400200000001,295.55873600000001,292.55263600000001,286.61928799999998,280.34712000000002,275.49629199999993]
["32","ULUBORLU",null,null,"ISPARTA",null,"ISPARTA","ISPARTAULUBORLU",272.37553600000001,274.91533200000003,277.74169799999999,281.86489399999999,287.362212,290.38779399999999,294.85595599999999,294.82631800000001,291.72685400000006,285.72436399999998,279.89086599999996,275.52441200000004]
["32","YALVAÇ",null,null,"ISPARTA",null,"ISPARTA","ISPARTAYALVAÇ",271.88685799999996,274.58134799999999,277.87294600000001,282.38833400000004,287.81025,290.872952,295.17079799999999,295.14428600000002,291.99052599999999,286.06186399999996,279.94672800000001,275.24198999999999]
["32","YENİŞARBADEMLİ",null,null,"ISPARTA",null,"ISPARTA","ISPARTAYENİŞARBADEMLİ",272.49780199999998,274.60127,277.76240200000001,282.311376,287.74072200000001,290.74717200000003,295.05010000000004,295.08647599999995,292.18506199999996,286.49038400000001,280.718208,276.02207200000004]
["33","AKDENİZ",null,null,"MERSİN(İÇEL)",null,"MERSİN(İÇEL)","MERSİN(İÇEL)AKDENİZ",279.63745,281.37085000000002,283.28784000000002,286.12450000000001,294.76074,297.99395999999996,297.90395799999993,300.63344799999999,299.79179799999991,300.30424799999997,288.20067999999998,282.47899999999998]
["33","ANAMUR",null,null,"MERSİN(İÇEL)",null,"MERSİN(İÇEL)","MERSİN(İÇEL)ANAMUR",282.65757000000002,283.78603000000004,285.91318200000001,289.34536200000002,296.77616999999998,299.23750199999995,301.83945799999992,303.32304199999993,302.80352399999992,301.41093599999994,289.81625600000001,285.56074599999999]
["33","AYDINCIK",null,null,"MERSİN(İÇEL)",null,"MERSİN(İÇEL)","MERSİN(İÇEL)AYDINCIK",282.04565000000002,283.56616000000002,285.19603999999998,287.50146000000001,295.87011999999999,299.32401999999996,300.59926799999994,303.11781799999994,302.07695799999993,301.95268799999997,290.55225000000002,284.88135]
["33","BOZYAZI",null,null,"MERSİN(İÇEL)",null,"MERSİN(İÇEL)","MERSİN(İÇEL)BOZYAZI",279.46753000000001,281.29662999999999,283.5652,286.13623000000001,295.60643999999996,299.11308999999994,300.04652799999997,302.51625799999994,300.90311799999995,300.483948,288.69287000000003,282.90087999999997]
["33","ÇAMLIYAYLA",null,null,"MERSİN(İÇEL)",null,"MERSİN(İÇEL)","MERSİN(İÇEL)ÇAMLIYAYLA",271.87709600000005,273.54541,276.92412400000001,281.68559599999998,289.50624999999991,292.20976599999989,295.32735199999996,296.74062599999996,295.60938199999998,293.06757799999997,280.33735200000001,275.40527400000002]
["33","ERDEMLİ",null,null,"MERSİN(İÇEL)",null,"MERSİN(İÇEL)","MERSİN(İÇEL)ERDEMLİ",280.11399999999998,281.59937000000002,283.54759999999999,286.03075999999999,294.57714999999996,297.70878999999991,297.59732799999995,300.44007799999997,299.73125799999991,300.27494799999999,288.62060000000002,283.14109999999999]
["33","GÜLNAR (GÜLPINAR)",null,null,"MERSİN(İÇEL)",null,"MERSİN(İÇEL)","MERSİN(İÇEL)GÜLNAR (GÜLPINAR)",279.63745,281.37085000000002,283.28784000000002,286.12450000000001,294.76074,297.99395999999996,297.90395799999993,300.63344799999999,299.79179799999991,300.30424799999997,288.20067999999998,282.47899999999998]
["33","MEZİTLİ",null,null,"MERSİN(İÇEL)",null,"MERSİN(İÇEL)","MERSİN(İÇEL)MEZİTLİ",279.63745,281.37085000000002,283.28784000000002,286.12450000000001,294.76074,297.99395999999996,297.90395799999993,300.63344799999999,299.79179799999991,300.30424799999997,288.20067999999998,282.47899999999998]
["33","MUT",null,null,"MERSİN(İÇEL)",null,"MERSİN(İÇEL)","MERSİN(İÇEL)MUT",278.58569600000004,281.271974,284.95419599999997,289.90356200000002,298.14999999999998,301.34999999999997,303.95,304.75,303.25,299.95,286.34400000000005,281.90020000000004]
["33","SİLİFKE",null,null,"MERSİN(İÇEL)",null,"MERSİN(İÇEL)","MERSİN(İÇEL)SİLİFKE",281.03178399999996,282.425884,284.91591600000004,288.389498,295.67030999999997,298.32421999999991,300.89609599999994,302.72617400000001,301.85585999999989,300.40273399999995,288.11586999999997,283.847464]
["33","TARSUS",null,null,"MERSİN(İÇEL)",null,"MERSİN(İÇEL)","MERSİN(İÇEL)TARSUS",281.84858600000001,283.31415800000002,286.13974199999996,289.58950199999998,296.70116999999993,299.49023399999999,301.4375,303.34687799999995,303.15664399999991,301.81327999999996,289.05609799999996,284.54159599999997]
["33","TOROSLAR",null,null,"MERSİN(İÇEL)",null,"MERSİN(İÇEL)","MERSİN(İÇEL)TOROSLAR",279.63745,281.37085000000002,283.28784000000002,286.12450000000001,294.76074,297.99395999999996,297.90395799999993,300.63344799999999,299.79179799999991,300.30424799999997,288.20067999999998,282.47899999999998]
["33","YENİŞEHİR",null,null,"MERSİN(İÇEL)",null,"MERSİN(İÇEL)","MERSİN(İÇEL)YENİŞEHİR",277.006396,278.91025400000001,281.77763399999998,285.36606400000005,292.46835799999991,294.98593799999992,297.57851799999997,299.381642,298.73828399999996,296.95156200000002,284.64125799999999,280.29707200000001]
["34","ADALAR",null,null,"İSTANBUL",null,"İSTANBUL","İSTANBULADALAR",279.5652,279.71460000000002,281.9812,284.63427999999999,291.09325999999999,296.25830000000002,296.40600000000001,297.07812000000001,294.38037000000003,291.00439999999998,288.90379999999999,282.72314]
["34","ARNAVUTKÖY",null,null,"İSTANBUL",null,"İSTANBUL","İSTANBULARNAVUTKÖY",279.19194600000003,280.16962599999999,281.88310399999995,284.48013000000003,290.38095800000002,295.16475000000003,297.56728400000003,298.07241400000004,294.80108000000001,289.97202200000004,286.09399400000001,282.39550800000001]
["34","ATAŞEHİR",null,null,"İSTANBUL",null,"İSTANBUL","İSTANBULATAŞEHİR",279.38139800000005,280.22197599999998,281.91435200000001,284.69848600000006,290.28720800000002,294.81240400000002,297.20907999999997,297.68061799999998,294.62568399999998,290.07866000000001,286.18188599999996,282.443558]
["34","AVCILAR",null,null,"İSTANBUL",null,"İSTANBUL","İSTANBULAVCILAR",279.77515,280.47470999999996,282.10341399999999,284.72114399999998,290.34814599999999,295.13466600000004,297.64540599999998,298.18530399999997,294.98427800000002,290.36343199999999,286.59790199999998,282.89081800000002]
["34","BAĞCILAR",null,null,"İSTANBUL",null,"İSTANBUL","İSTANBULBAĞCILAR",279.76616200000001,280.46494600000005,282.06240399999996,284.66606199999995,290.30673199999995,295.09990199999999,297.58134000000001,298.12749199999996,294.95185800000002,290.35092599999996,286.57602200000002,282.88887]
["34","BAHÇELİEVLER",null,null,"İSTANBUL",null,"İSTANBUL","İSTANBULBAHÇELİEVLER",279.70952199999999,280.45635000000004,282.07411999999994,284.74223799999999,290.38876600000003,295.13544999999999,297.60556800000001,298.12553400000002,294.960058,290.34897599999999,286.50336600000003,282.82714799999997]
["34","BAKIRKÖY",null,null,"İSTANBUL",null,"İSTANBUL","İSTANBULBAKIRKÖY",279.76616200000001,280.46494600000005,282.06240399999996,284.66606199999995,290.30673199999995,295.09990199999999,297.58134000000001,298.12749199999996,294.95185800000002,290.35092599999996,286.57602200000002,282.88887]
["34","BAŞAKŞEHİR",null,null,"İSTANBUL",null,"İSTANBUL","İSTANBULBAŞAKŞEHİR",279.411472,280.27040999999997,281.93857399999996,284.57895600000001,290.38994199999996,295.195606,297.60517399999998,298.09936199999999,294.84911599999998,290.088818,286.23814000000004,282.55683600000003]
["34","BAYRAMPAŞA",null,null,"İSTANBUL",null,"İSTANBUL","İSTANBULBAYRAMPAŞA",279.70952199999999,280.45635000000004,282.07411999999994,284.74223799999999,290.38876600000003,295.13544999999999,297.60556800000001,298.12553400000002,294.960058,290.34897599999999,286.50336600000003,282.82714799999997]
["34","BEŞİKTAŞ",null,null,"İSTANBUL",null,"İSTANBUL","İSTANBULBEŞİKTAŞ",279.34038199999998,280.25752,281.98271999999997,284.72739399999995,290.48720399999996,295.12646800000005,297.46845799999994,297.94311800000003,294.78466200000003,290.06616399999996,286.16040200000003,282.461522]
["34","BEYKOZ",null,null,"İSTANBUL",null,"İSTANBUL","İSTANBULBEYKOZ",279.31694600000003,280.25322200000005,281.98857800000002,284.76918599999999,290.47939399999996,295.02881200000002,297.34736400000003,297.81303800000001,294.70381199999997,290.02944200000002,286.10884400000003,282.39355599999999]
["34","BEYLİKDÜZÜ",null,null,"İSTANBUL",null,"İSTANBUL","İSTANBULBEYLİKDÜZÜ",279.76967200000001,280.48095599999999,282.16748000000001,284.81684400000006,290.44111400000003,295.22489999999999,297.76376600000003,298.28960000000001,295.04521400000004,290.38568999999995,286.61157200000002,282.87754200000001]
["34","BEYOĞLU",null,null,"İSTANBUL",null,"İSTANBUL","İSTANBULBEYOĞLU",279.457176,280.28290800000002,281.95888600000001,284.72114200000004,290.35321800000003,294.95303000000001,297.33994199999995,297.82475400000004,294.72294799999997,290.13179199999996,286.25102400000003,282.54980400000005]
["34","BÜYÜKÇEKMECE",null,null,"İSTANBUL",null,"İSTANBUL","İSTANBULBÜYÜKÇEKMECE",279.76967200000001,280.48095599999999,282.16748000000001,284.81684400000006,290.44111400000003,295.22489999999999,297.76376600000003,298.28960000000001,295.04521400000004,290.38568999999995,286.61157200000002,282.87754200000001]
["34","ÇATALCA",null,null,"İSTANBUL",null,"İSTANBUL","İSTANBULÇATALCA",279.14858200000003,280.12666400000001,281.91709000000003,284.65629799999999,290.41884600000003,295.175296,297.60322200000002,298.13413200000002,294.81474599999996,289.95521999999994,286.09633399999996,282.33379400000001]
["34","ÇEKMEKÖY",null,null,"İSTANBUL",null,"İSTANBUL","İSTANBULÇEKMEKÖY",279.18373400000002,280.20009599999997,281.98232200000001,284.76762399999996,290.52275200000003,294.99286799999999,297.33603600000004,297.78803799999997,294.678808,289.97358400000002,286.04086999999998,282.26699200000002]
["34","ESENLER",null,null,"İSTANBUL",null,"İSTANBUL","İSTANBULESENLER",279.29546199999999,280.20829999999995,281.91904399999999,284.632858,290.44893199999996,295.18896599999999,297.56494000000004,298.04858200000001,294.81083799999999,290.04702000000003,286.14399400000002,282.44862999999998]
["34","ESENYURT",null,null,"İSTANBUL",null,"İSTANBUL","İSTANBULESENYURT",279.77515,280.47470999999996,282.10341399999999,284.72114399999998,290.34814599999999,295.13466600000004,297.64540599999998,298.18530399999997,294.98427800000002,290.36343199999999,286.59790199999998,282.89081800000002]
["34","EYÜP",null,null,"İSTANBUL",null,"İSTANBUL","İSTANBULEYÜP",279.23925499999996,280.39520749999997,281.90984750000001,284.61493000000007,290.2546375,294.81421,297.75701750000002,298.16961749999996,294.85449249999999,289.85357999999997,285.4486675,282.36242749999997]
["34","FATİH",null,null,"İSTANBUL",null,"İSTANBUL","İSTANBULFATİH",279.70952199999999,280.45635000000004,282.07411999999994,284.74223799999999,290.38876600000003,295.13544999999999,297.60556800000001,298.12553400000002,294.960058,290.34897599999999,286.50336600000003,282.82714799999997]
["34","GAZİOSMANPAŞA",null,null,"İSTANBUL",null,"İSTANBUL","İSTANBULGAZİOSMANPAŞA",279.29546199999999,280.20829999999995,281.91904399999999,284.632858,290.44893199999996,295.18896599999999,297.56494000000004,298.04858200000001,294.81083799999999,290.04702000000003,286.14399400000002,282.44862999999998]
["34","GÜNGÖREN",null,null,"İSTANBUL",null,"İSTANBUL","İSTANBULGÜNGÖREN",279.70952199999999,280.45635000000004,282.07411999999994,284.74223799999999,290.38876600000003,295.13544999999999,297.60556800000001,298.12553400000002,294.960058,290.34897599999999,286.50336600000003,282.82714799999997]
["34","KADIKÖY",null,null,"İSTANBUL",null,"İSTANBUL","İSTANBULKADIKÖY",279.38139800000005,280.22197599999998,281.91435200000001,284.69848600000006,290.28720800000002,294.81240400000002,297.20907999999997,297.68061799999998,294.62568399999998,290.07866000000001,286.18188599999996,282.443558]
["34","KAĞITHANE",null,null,"İSTANBUL",null,"İSTANBUL","İSTANBULKAĞITHANE",279.34038199999998,280.25752,281.98271999999997,284.72739399999995,290.48720399999996,295.12646800000005,297.46845799999994,297.94311800000003,294.78466200000003,290.06616399999996,286.16040200000003,282.461522]
["34","KARTAL",null,null,"İSTANBUL",null,"İSTANBUL","İSTANBULKARTAL",279.23899999999998,279.45483000000002,281.78784000000002,284.42140000000001,290.97217000000001,295.98095999999998,296.13256999999999,296.82029999999997,294.10498000000001,290.80322000000001,288.59519999999998,282.37549999999999]
["34","KÜÇÜKÇEKMECE",null,null,"İSTANBUL",null,"İSTANBUL","İSTANBULKÜÇÜKÇEKMECE",279.76616200000001,280.46494600000005,282.06240399999996,284.66606199999995,290.30673199999995,295.09990199999999,297.58134000000001,298.12749199999996,294.95185800000002,290.35092599999996,286.57602200000002,282.88887]
["34","MALTEPE",null,null,"İSTANBUL",null,"İSTANBUL","İSTANBULMALTEPE",279.23899999999998,279.45483000000002,281.78784000000002,284.42140000000001,290.97217000000001,295.98095999999998,296.13256999999999,296.82029999999997,294.10498000000001,290.80322000000001,288.59519999999998,282.37549999999999]
["34","PENDİK",null,null,"İSTANBUL",null,"İSTANBUL","İSTANBULPENDİK",279.05561800000004,280.05243999999999,281.90380799999997,284.78285799999998,290.25518,294.55302399999999,296.913768,297.33803799999998,294.31904000000003,289.92084599999998,285.94946599999992,282.125586]
["34","SANCAKTEPE",null,null,"İSTANBUL",null,"İSTANBUL","İSTANBULSANCAKTEPE",278.87631999999996,279.91103800000002,281.71942799999999,284.55473799999999,290.14658000000003,294.52256,296.89423999999997,297.366556,294.28426999999999,289.71577000000002,285.75806,281.90840199999997]
["34","SARIYER",null,null,"İSTANBUL",null,"İSTANBUL","İSTANBULSARIYER",279.34130749999997,280.48504749999995,282.00262250000003,284.74139250000002,290.33520499999997,294.83276499999999,297.74334499999998,298.15545499999996,294.90429999999998,289.93072749999999,285.52728500000001,282.44982749999997]
["34","SİLİVRİ",null,null,"İSTANBUL",null,"İSTANBUL","İSTANBULSİLİVRİ",278.89116200000001,279.96689199999997,281.90498600000001,284.76020600000004,290.48329999999999,295.23818600000004,297.74619000000001,298.24545799999999,294.80341600000003,289.83725399999997,285.95102800000001,282.09199599999999]
["34","SULTANBEYLİ",null,null,"İSTANBUL",null,"İSTANBUL","İSTANBULSULTANBEYLİ",278.87631999999996,279.91103800000002,281.71942799999999,284.55473799999999,290.14658000000003,294.52256,296.89423999999997,297.366556,294.28426999999999,289.71577000000002,285.75806,281.90840199999997]
["34","SULTANGAZİ",null,null,"İSTANBUL",null,"İSTANBUL","İSTANBULSULTANGAZİ",279.29546199999999,280.20829999999995,281.91904399999999,284.632858,290.44893199999996,295.18896599999999,297.56494000000004,298.04858200000001,294.81083799999999,290.04702000000003,286.14399400000002,282.44862999999998]
["34","ŞİLE",null,null,"İSTANBUL",null,"İSTANBUL",{"$f":"G531&B531","v":"İSTANBULŞİLE"},279.34472749999998,280.61394749999999,282.19549499999999,284.92645249999998,290.53881999999999,294.82445749999999,297.72089,298.12714499999998,294.91161750000003,290.090395,285.64349499999997,282.41272000000004]
["34","ŞİŞLİ",null,null,"İSTANBUL",null,"İSTANBUL","İSTANBULŞİŞLİ",279.34038199999998,280.25752,281.98271999999997,284.72739399999995,290.48720399999996,295.12646800000005,297.46845799999994,297.94311800000003,294.78466200000003,290.06616399999996,286.16040200000003,282.461522]
["34","TUZLA",null,null,"İSTANBUL",null,"İSTANBUL","İSTANBULTUZLA",279.37572999999998,279.54468000000003,281.94799999999998,284.73975000000002,291.31200000000001,295.94189999999998,296.11304000000001,296.68554999999998,294.10302999999999,290.77393000000001,288.74169999999998,282.3501]
["34","ÜMRANİYE",null,null,"İSTANBUL",null,"İSTANBUL","İSTANBULÜMRANİYE",279.38139800000005,280.22197599999998,281.91435200000001,284.69848600000006,290.28720800000002,294.81240400000002,297.20907999999997,297.68061799999998,294.62568399999998,290.07866000000001,286.18188599999996,282.443558]
["34","ÜSKÜDAR",null,null,"İSTANBUL",null,"İSTANBUL","İSTANBULÜSKÜDAR",279.457176,280.28290800000002,281.95888600000001,284.72114200000004,290.35321800000003,294.95303000000001,297.33994199999995,297.82475400000004,294.72294799999997,290.13179199999996,286.25102400000003,282.54980400000005]
["34","ZEYTİNBURNU",null,null,"İSTANBUL",null,"İSTANBUL","İSTANBULZEYTİNBURNU",279.70952199999999,280.45635000000004,282.07411999999994,284.74223799999999,290.38876600000003,295.13544999999999,297.60556800000001,298.12553400000002,294.960058,290.34897599999999,286.50336600000003,282.82714799999997]
["35","ALİAĞA",null,null,"İZMİR",null,"İZMİR","İZMİRALİAĞA",280.13135250000005,282.21697499999999,284.32977,287.95623999999998,296.96040049999999,301.96606399999996,304.69510599999995,304.36595349999999,300.2523425,295.21153649999991,286.17425500000002,282.7178925]
["35","BALÇOVA",null,null,"İZMİR",null,"İZMİR","İZMİRBALÇOVA",280.46753000000001,281.14233000000002,283.99097,287.16942999999998,297.27753799999999,304.54589399999998,305.38364599999994,305.71977600000002,300.74844000000002,297.07964399999997,289.25731999999999,282.31885]
["35","BAYINDIR",null,null,"İZMİR",null,"İZMİR","İZMİRBAYINDIR",278.64271599999995,281.343458,283.68544800000001,288.13833199999999,297.54531000000009,302.61914399999995,305.43164199999995,305.25976200000002,300.99491999999998,295.38007999999996,285.81587400000001,281.28535199999999]
["35","BAYRAKLI",null,null,"İZMİR",null,"İZMİR","İZMİRBAYRAKLI",278.80991,281.05713200000002,283.445604,287.41293999999999,296.69804600000003,301.92499999999995,304.54921799999994,304.436328,300.02226000000002,294.79648399999996,285.68696600000004,281.39316200000002]
["35","BERGAMA",null,null,"İZMİR",null,"İZMİR","İZMİRBERGAMA",279.01772599999998,281.09658200000001,283.57216800000003,287.42348400000003,296.81406600000003,302.31562599999995,304.20780999999994,303.83436999999998,299.81328600000001,294.98867599999994,285.92719799999998,281.74082000000004]
["35","BEYDAĞ",null,null,"İZMİR",null,"İZMİR","İZMİRBEYDAĞ",278.13959999999997,281.01455199999998,283.40107599999999,288.17427200000003,297.46015399999999,301.90508599999998,305.20508000000001,304.97109399999999,300.85273200000006,295.50507999999991,285.80141800000001,280.690428]
["35","BORNOVA",null,null,"İZMİR",null,"İZMİR","İZMİRBORNOVA",278.80991,281.05713200000002,283.445604,287.41293999999999,296.69804600000003,301.92499999999995,304.54921799999994,304.436328,300.02226000000002,294.79648399999996,285.68696600000004,281.39316200000002]
["35","BUCA",null,null,"İZMİR",null,"İZMİR","İZMİRBUCA",280.46753000000001,281.14233000000002,283.99097,287.16942999999998,297.27753799999999,304.54589399999998,305.38364599999994,305.71977600000002,300.74844000000002,297.07964399999997,289.25731999999999,282.31885]
["35","ÇEŞME",null,null,"İZMİR",null,"İZMİR","İZMİRÇEŞME",283.97656000000001,285.30047500000001,286.71502750000002,289.49042500000002,297.69770799999998,302.54712149999995,304.30594849999994,303.89475600000003,300.73817750000001,296.82579649999997,289.06,286.20910749999996]
["35","ÇİĞLİ",null,null,"İZMİR",null,"İZMİR","İZMİRÇİĞLİ",280.59702200000004,282.59463399999999,284.91982200000001,288.61020600000001,297.82773600000002,303.28945199999998,305.54374999999999,305.39960600000006,301.10625200000004,296.17148599999996,287.26743399999998,283.188086]
["35","DİKİLİ",null,null,"İZMİR",null,"İZMİR","İZMİRDİKİLİ",280.35092399999996,281.92900800000007,284.07685600000002,287.16724199999999,296.03515399999998,301.46171800000002,303.38125199999996,303.21523400000001,299.37538799999999,295.05117999999993,286.73383799999999,282.89824399999998]
["35","FOÇA",null,null,"İZMİR",null,"İZMİR","İZMİRFOÇA",281.65771749999999,283.412285,285.24187999999998,288.25360000000001,296.78218049999998,301.60717149999999,304.03886099999994,303.6989585,300.12294750000001,295.73155649999995,287.28997249999998,284.09680249999997]
["35","GAZİEMİR",null,null,"İZMİR",null,"İZMİR","İZMİRGAZİEMİR",279.317385,281.7750825,283.94988750000005,288.11199750000003,297.28266049999996,302.114014,305.37430849999993,305.25462350000004,300.77822000000003,295.03429399999993,285.67718500000001,282.0054925]
["35","GÜZELBAHÇE",null,null,"İZMİR",null,"İZMİR","İZMİRGÜZELBAHÇE",281.24292000000003,281.74194,284.5027,287.53075999999999,297.39667800000001,304.73145399999999,305.29770599999995,305.63773600000002,300.79336000000001,297.39018399999998,289.88231999999999,283.18018000000001]
["35","KARABAĞLAR",null,null,"İZMİR",null,"İZMİR","İZMİRKARABAĞLAR",279.39550750000001,281.58612249999999,283.70428500000003,287.62761999999998,296.74067300000002,301.50708149999997,304.62869849999998,304.45774350000005,300.13319999999999,294.68419149999994,285.61712749999998,281.95763999999997]
["35","KARABURUN",null,null,"İZMİR",null,"İZMİR","İZMİRKARABURUN",282.31494249999997,283.69842249999999,285.07196249999998,287.47478749999999,295.448193,300.00463399999995,302.10135349999996,301.78831100000002,298.77627000000001,295.23790899999995,287.49994000000004,284.50354249999998]
["35","KARŞIYAKA",null,null,"İZMİR",null,"İZMİR","İZMİRKARŞIYAKA",280.46753000000001,281.14233000000002,283.99097,287.16942999999998,297.27753799999999,304.54589399999998,305.38364599999994,305.71977600000002,300.74844000000002,297.07964399999997,289.25731999999999,282.31885]
["35","KEMALPAŞA",null,null,"İZMİR",null,"İZMİR","İZMİRKEMALPAŞA",277.57866000000001,279.99384599999996,282.27919800000001,286.34184400000004,295.61093599999998,300.56250199999999,303.44297199999994,303.29257200000001,298.98320200000006,293.62773799999997,284.48618399999998,280.08339799999999]
["35","KINIK",null,null,"İZMİR",null,"İZMİR","İZMİRKINIK",278.17631199999994,280.25205,282.80575799999997,286.88715599999995,296.37539000000004,301.61367200000001,303.47109799999993,302.97773000000001,299.06914000000006,294.22539199999994,285.20571000000001,280.74238600000001]
["35","KİRAZ",null,null,"İZMİR",null,"İZMİR","İZMİRKİRAZ",277.69663000000003,280.73174,283.15888999999999,287.943016,297.182816,301.54687399999995,304.52109399999995,304.32148399999994,300.38867000000005,295.23242399999992,285.49555600000002,280.55370999999997]
["35","KONAK",null,null,"İZMİR",null,"İZMİR","İZMİRKONAK",280.46753000000001,281.14233000000002,283.99097,287.16942999999998,297.27753799999999,304.54589399999998,305.38364599999994,305.71977600000002,300.74844000000002,297.07964399999997,289.25731999999999,282.31885]
["35","MENDERES(CUMAOVASI)",null,null,"İZMİR",null,"İZMİR","İZMİRMENDERES(CUMAOVASI)",279.317385,281.7750825,283.94988750000005,288.11199750000003,297.28266049999996,302.114014,305.37430849999993,305.25462350000004,300.77822000000003,295.03429399999993,285.67718500000001,282.0054925]
["35","MENEMEN",null,null,"İZMİR",null,"İZMİR","İZMİRMENEMEN",279.50131799999997,281.54853400000002,283.92216599999995,287.67934399999996,296.94999799999999,302.30156399999993,304.795706,304.65819799999997,300.26288600000004,295.22617599999995,286.20649599999996,282.02480600000001]
["35","NARLIDERE",null,null,"İZMİR",null,"İZMİR","İZMİRNARLIDERE",281.24292000000003,281.74194,284.5027,287.53075999999999,297.39667800000001,304.73145399999999,305.29770599999995,305.63773600000002,300.79336000000001,297.39018399999998,289.88231999999999,283.18018000000001]
["35","ÖDEMİŞ",null,null,"İZMİR",null,"İZMİR","İZMİRÖDEMİŞ",279.39857999999998,282.55479000000003,285.01435800000002,289.88872200000003,299.25,303.84999999999997,306.34999999999997,306.14999999999998,302.34999999999997,297.14999999999998,287.36235399999998,282.36933799999997]
["35","SEFERİHİSAR",null,null,"İZMİR",null,"İZMİR","İZMİRSEFERİHİSAR",281.80522999999999,283.39345800000001,285.30185599999999,288.38755200000003,297.11874799999998,302.44648199999995,304.54883000000001,304.54140599999999,300.65976599999999,296.42422199999993,288.19946400000003,284.34550999999999]
["35","SELÇUK",null,null,"İZMİR",null,"İZMİR","İZMİRSELÇUK",279.894678,282.03447599999998,284.120994,287.969582,297.15703200000002,302.48202999999995,305.63945399999994,305.61757800000004,301.15585600000003,295.876958,286.71782200000001,282.16582000000005]
["35","TİRE",null,null,"İZMİR",null,"İZMİR","İZMİRTİRE",278.74507000000006,281.33681800000005,283.62529000000001,288.17348600000003,297.62421999999998,302.64258000000001,305.83320599999996,305.612888,301.19257400000004,295.43593999999996,285.92524399999996,281.11308199999996]
["35","TORBALI",null,null,"İZMİR",null,"İZMİR","İZMİRTORBALI",279.29467599999998,281.80635000000001,284.07333800000004,288.26801199999994,297.60898400000002,302.82851199999999,305.59570399999996,305.58398599999998,301.21952800000003,295.72617199999991,286.30571599999996,281.840822]
["35","URLA",null,null,"İZMİR",null,"İZMİR","İZMİRURLA",281.52587749999998,283.33660750000001,285.20135500000004,288.57684499999993,297.31537799999995,302.16919399999995,304.55887349999995,304.31223599999998,300.57509750000003,295.90489649999995,287.40032749999995,284.02990499999999]
["36","AKYAKA",null,null,"KARS",null,"KARS","KARSAKYAKA",258.96757600000001,260.99257600000004,267.40625399999999,275.40234399999997,285.21259799999996,289.64404200000001,292.86806999999999,292.24585000000008,288.02412599999997,282.230614,270.08320000000003,263.58554600000002]
["36","ARPAÇAY",null,null,"KARS",null,"KARS","KARSARPAÇAY",257.38203199999998,258.86835600000001,265.16249799999997,272.71757999999994,282.76338400000003,287.13193399999994,290.23173800000006,289.86421200000007,285.86435599999999,280.58843000000002,268.73163599999998,261.81210800000002]
["36","DİGOR",null,null,"KARS",null,"KARS","KARSDİGOR",256.91367200000002,258.94882799999999,265.359374,273.59179399999999,283.59306200000003,288.25029599999999,291.62041399999998,291.20093200000002,287.27060799999998,280.76264799999996,268.63086200000004,261.83867199999997]
["36","KAĞIZMAN",null,null,"KARS",null,"KARS","KARSKAĞIZMAN",258.56406200000004,260.81640200000004,267.91054800000001,276.80038799999994,287.18642599999998,292.14990399999999,294.714158,294.35522000000003,291.190136,284.51342600000004,271.27070400000008,262.79492000000005]
["36","KARS",null,null,"KARS",null,"KARS","KARSKARS",257.94570199999998,259.851562,266.63476800000007,274.56875399999996,284.61806399999995,288.89130999999998,291.65361199999995,291.41772600000002,287.68271399999992,281.75678799999997,269.34140200000007,262.68359200000003]
["36","SARIKAMIŞ",null,null,"KARS",null,"KARS","KARSSARIKAMIŞ",256.14921799999996,257.601562,263.61914399999995,271.86405999999999,282.276658,286.94873000000001,289.95830000000001,289.77085399999999,286.42255599999999,280.245068,267.87109399999997,260.34374800000001]
["36","SELİM",null,null,"KARS",null,"KARS","KARSSELİM",257.43007799999998,259.01679400000006,265.71093999999999,273.96796999999998,284.25478400000003,288.74482599999999,291.27041199999996,291.03373999999997,287.73701,281.75366199999996,269.20468000000005,261.89336000000003]
["36","SUSUZ",null,null,"KARS",null,"KARS","KARSSUSUZ",256.84999999999997,258.45,264.95,272.54999999999995,282.66298999999998,286.98388399999999,289.99346000000003,289.73100400000004,285.83232400000003,280.260696,268.34999999999997,261.34999999999997]
["37","ABANA",null,null,"KASTAMONU",null,"KASTAMONU","KASTAMONUABANA",275.84131000000002,276.57097999999996,278.98797499999995,282.04706250000004,286.71557750000005,290.41528249999999,293.36150750000002,293.40008499999999,290.63182749999999,286.58209999999997,281.62493749999999,278.98449750000003]
["37","AĞLI",null,null,"KASTAMONU",null,"KASTAMONU","KASTAMONUAĞLI",271.55835000000002,273.37080000000003,275.865138,279.89926600000001,285.10322200000002,288.34677799999997,290.52001999999999,290.666946,287.52763400000003,283.62163600000002,278.46625800000004,274.58847800000001]
["37","ARAÇ",null,null,"KASTAMONU",null,"KASTAMONU","KASTAMONUARAÇ",271.56694400000003,274.34931799999993,277.54013799999996,281.81372400000004,287.09853199999998,290.26279599999998,293.42080399999998,293.82397600000002,290.24091600000003,285.36537599999997,278.90297799999996,274.67519199999998]
["37","AZDAVAY",null,null,"KASTAMONU",null,"KASTAMONU","KASTAMONUAZDAVAY",272.22944000000001,274.32626399999998,277.27998399999996,281.24418600000001,286.455174,289.56474800000001,291.96220399999999,292.12553800000006,288.79560800000002,284.68608400000005,279.26078999999999,275.21894400000002]
["37","BOZKURT",null,null,"KASTAMONU",null,"KASTAMONU","KASTAMONUBOZKURT",275.84131000000002,276.57097999999996,278.98797499999995,282.04706250000004,286.71557750000005,290.41528249999999,293.36150750000002,293.40008499999999,290.63182749999999,286.58209999999997,281.62493749999999,278.98449750000003]
["37","CİDE",null,null,"KASTAMONU",null,"KASTAMONU","KASTAMONUCİDE",277.4707075,278.37469249999998,280.740905,283.55486999999999,288.36889500000001,292.20287999999999,294.97479250000004,295.29803500000003,292.26660249999998,288.069885,283.32415749999996,280.55773749999997]
["37","ÇATALZEYTİN",null,null,"KASTAMONU",null,"KASTAMONU","KASTAMONUÇATALZEYTİN",276.1513625,276.83025999999995,279.28485000000001,282.33758499999999,287.01147250000002,290.72778499999998,293.63103999999998,293.64617749999996,290.89404500000001,286.91217,281.92327999999998,279.32043500000003]
["37","DADAY",null,null,"KASTAMONU",null,"KASTAMONU","KASTAMONUDADAY",271.82436199999995,274.06767400000001,277.07959400000004,281.25356399999998,286.49267199999997,289.57724200000001,292.30439400000006,292.31186600000001,288.98818,284.81225799999999,278.90688800000004,274.85448800000006]
["37","DEVREKANİ",null,null,"KASTAMONU",null,"KASTAMONU","KASTAMONUDEVREKANİ",271.682568,273.74111000000005,276.67216999999999,280.92152999999996,286.18994200000003,289.40068600000001,291.75517600000001,291.73921000000001,288.44599399999998,284.46889999999996,278.72211800000002,274.78378800000002]
["37","DOĞANYURT",null,null,"KASTAMONU",null,"KASTAMONU","KASTAMONUDOĞANYURT",278.89306499999998,279.24969499999997,281.07244750000001,283.74774500000001,288.51880499999999,292.65258499999999,295.62957499999999,295.86492999999996,293.05175250000002,289.1089475,284.71722499999998,282.09533499999998]
["37","HANÖNÜ(GÖKÇEAĞAÇ)",null,null,"KASTAMONU",null,"KASTAMONU","KASTAMONUHANÖNÜ(GÖKÇEAĞAÇ)",273.07749200000001,274.87079999999997,278.07724799999994,282.16332799999998,287.49033200000002,290.76748200000003,292.98134799999997,292.88725599999998,289.76865199999997,285.82241199999999,279.83891800000004,275.98534799999999]
["37","İHSANGAZİ",null,null,"KASTAMONU",null,"KASTAMONU","KASTAMONUİHSANGAZİ",270.687252,273.4083,276.62138400000003,281.13559999999995,286.41923600000001,289.494822,292.532128,292.78139999999996,289.43388799999997,284.727102,278.28305999999998,273.92636800000002]
["37","İNEBOLU",null,null,"KASTAMONU",null,"KASTAMONU","KASTAMONUİNEBOLU",275.76416,276.58856250000002,278.95916749999998,282.00457749999998,286.70434750000004,290.38256999999999,293.27801249999999,293.37909000000002,290.55175499999996,286.47955000000002,281.60247500000003,278.94542999999999]
["37","KASTAMONU",null,null,"KASTAMONU",null,"KASTAMONU","KASTAMONUKASTAMONU",272.81850599999996,275.21533199999999,278.42255800000004,282.73364000000004,288.11298800000003,291.31513799999999,294.03174000000001,293.83569199999999,290.52060399999999,286.29780200000005,279.88110199999994,275.86152000000004]
["37","KÜRE",null,null,"KASTAMONU",null,"KASTAMONU","KASTAMONUKÜRE",272.98569400000002,274.22900399999997,276.55419799999999,280.21020399999998,285.28877,288.78232200000002,291.10439200000002,291.24428999999998,288.33818199999996,284.37397599999997,279.65531999999996,276.07129000000003]
["37","PINARBAŞI",null,null,"KASTAMONU",null,"KASTAMONU","KASTAMONUPINARBAŞI",272.72592799999995,274.86611399999998,277.84990200000004,281.757476,286.94932,290.09247999999997,292.45908399999996,292.73100600000004,289.331546,285.103272,279.70102400000002,275.71504000000004]
["37","SEYDİLER",null,null,"KASTAMONU",null,"KASTAMONU","KASTAMONUSEYDİLER",271.745858,273.79814199999998,276.74325999999996,280.97934599999996,286.23486400000002,289.40575799999999,291.77353800000003,291.78998999999999,288.479198,284.51499200000001,278.83930799999996,274.82714400000003]
["37","ŞENPAZAR",null,null,"KASTAMONU",null,"KASTAMONU","KASTAMONUŞENPAZAR",274.72514600000005,275.91728599999999,278.30302999999998,281.66098799999997,286.72939200000002,290.23427800000002,292.46455000000003,292.73061200000001,289.78075999999999,285.82397600000002,281.28149600000006,277.77285399999994]
["37","TAŞKÖPRÜ",null,null,"KASTAMONU",null,"KASTAMONU","KASTAMONUTAŞKÖPRÜ",273.95287999999999,276.10126600000001,279.40341599999999,283.63637400000005,289.173924,292.36748399999999,294.74110999999999,294.35209800000001,291.11786799999999,287.08257200000003,280.69164999999998,276.79121199999997]
["37","TOSYA",null,null,"KASTAMONU",null,"KASTAMONU","KASTAMONUTOSYA",271.81733200000002,274.89619400000004,278.67295000000001,283.18364399999996,288.58291399999996,291.57490200000001,294.41493800000001,294.42788000000002,291.35029199999997,286.86577,279.77250599999996,275.58222999999998]
["38","AKKIŞLA",null,null,"KAYSERİ",null,"KAYSERİ",{"$f":"G595&B595","v":"KAYSERİAKKIŞLA"},267.90131600000001,269.81962999999996,274.53193599999997,279.75785999999999,285.14150600000005,289.21513399999998,292.99267600000002,292.72202200000004,289.70146600000004,283.88296200000002,276.93579000000005,271.59238199999999]
["38","BÜNYAN",null,null,"KAYSERİ",null,"KAYSERİ","KAYSERİBÜNYAN",269.17905000000007,271.06103799999994,275.71318000000002,280.61762599999997,285.92627199999998,290.040526,293.96885000000003,293.71186599999999,290.58778799999999,284.611086,277.729152,272.86152200000004]
["38","DEVELİ",null,null,"KAYSERİ",null,"KAYSERİ","KAYSERİDEVELİ",269.43647399999998,271.22470600000003,275.34873000000005,280.11059800000004,285.68955,289.69638400000002,293.79658600000005,293.54701999999997,290.34170200000005,284.23022600000002,277.65415199999995,273.00136400000002]
["38","FELAHİYE",null,null,"KAYSERİ",null,"KAYSERİ","KAYSERİFELAHİYE",270.52084799999994,272.52743799999996,276.85967199999999,281.20083000000005,286.78994,290.89052400000003,294.63642800000002,294.13569199999995,290.86748399999999,284.94897200000003,278.00336400000003,273.90370999999999]
["38","HACILAR",null,null,"KAYSERİ",null,"KAYSERİ","KAYSERİHACILAR",268.66147800000005,270.59502000000003,274.67334199999999,279.34653600000001,284.79267199999998,288.50654599999996,292.70595599999996,292.48647399999999,289.57920200000001,283.70873799999998,277.16079000000002,272.32793199999998]
["38","İNCESU",null,null,"KAYSERİ",null,"KAYSERİ","KAYSERİİNCESU",271.589992,273.993064,278.35849999999999,283.05278399999997,288.82275800000002,292.74951199999998,296.53837800000002,295.83139799999998,292.89912400000003,287.045456,279.83500600000002,275.12910399999998]
["38","KOCASİNAN",null,null,"KAYSERİ",null,"KAYSERİ","KAYSERİKOCASİNAN",270.94975599999998,273.359084,278.09170600000004,283.07309600000002,288.64189800000003,292.60263199999997,296.45478600000001,295.99546199999997,293.34678199999996,287.32358599999998,279.869776,274.64511800000002]
["38","MELİKGAZİ",null,null,"KAYSERİ",null,"KAYSERİ","KAYSERİMELİKGAZİ",270.94975599999998,273.359084,278.09170600000004,283.07309600000002,288.64189800000003,292.60263199999997,296.45478600000001,295.99546199999997,293.34678199999996,287.32358599999998,279.869776,274.64511800000002]
["38","ÖZVATAN(ÇUKUR)",null,null,"KAYSERİ",null,"KAYSERİ","KAYSERİÖZVATAN(ÇUKUR)",270.94975599999998,273.359084,278.09170600000004,283.07309600000002,288.64189800000003,292.60263199999997,296.45478600000001,295.99546199999997,293.34678199999996,287.32358599999998,279.869776,274.64511800000002]
["38","PINARBAŞI",null,null,"KAYSERİ",null,"KAYSERİ","KAYSERİPINARBAŞI",267.30014599999998,269.48681999999997,273.84287,279.65161000000001,285.244236,289.23232599999994,292.93251600000002,292.79038200000002,290.15302600000001,284.03569200000004,276.90297599999997,271.136526]
["38","SARIOĞLAN",null,null,"KAYSERİ",null,"KAYSERİ","KAYSERİSARIOĞLAN",270.526318,272.79970399999996,277.70889,282.819186,288.42861599999998,292.547166,295.88759799999997,295.298588,292.58818199999996,286.86538199999995,279.38852600000001,274.10175800000002]
["38","SARIZ",null,null,"KAYSERİ",null,"KAYSERİ","KAYSERİSARIZ",267.23256600000002,269.27236199999999,273.35927600000002,278.72270399999996,284.76415800000001,288.65615000000003,292.51767600000005,292.58022799999998,290.00342000000001,283.98061399999995,276.93813399999999,270.80020000000002]
["38","TALAS",null,null,"KAYSERİ",null,"KAYSERİ","KAYSERİTALAS",270.629054,272.95439999999996,277.7835,282.84731399999998,288.34931799999993,292.34599600000001,296.21103800000003,295.83998400000002,293.16357600000003,287.10835000000003,279.69946200000004,274.38652400000001]
["38","TOMARZA",null,null,"KAYSERİ",null,"KAYSERİ","KAYSERİTOMARZA",269.30600399999997,271.12978400000003,275.967872,281.27817199999998,286.63721199999998,290.56904199999997,294.58564399999995,294.43803599999995,291.64248200000003,285.59272199999998,278.65376000000003,273.237302]
["38","YAHYALI",null,null,"KAYSERİ",null,"KAYSERİ","KAYSERİYAHYALI",269.83256599999999,271.86611399999998,275.96826399999998,281.28168999999997,286.95439399999998,290.77646799999997,294.923924,294.65796,291.86357200000003,285.78217599999999,278.85375599999998,273.55331999999999]
["38","YEŞİLHİSAR",null,null,"KAYSERİ",null,"KAYSERİ","KAYSERİYEŞİLHİSAR",272.14780400000001,274.32666399999999,278.37372599999998,282.92075799999998,288.71181799999999,292.71669400000002,296.55712800000003,295.90444600000001,292.68701599999997,286.71069400000005,279.77602399999995,275.34941600000002]
["39","BABAESKİ",null,null,"KIRKLARELİ",null,"KIRKLARELİ","KIRKLARELİBABAESKİ",277.12084800000002,279.40751600000004,282.11006400000002,285.50473599999998,291.386034,295.97139000000004,298.45049399999999,298.74116400000003,294.777244,288.817724,284.46001000000001,280.50449199999997]
["39","DEMİRKÖY",null,null,"KIRKLARELİ",null,"KIRKLARELİ","KIRKLARELİDEMİRKÖY",276.23608400000001,277.82509999999996,280.12490200000002,282.91958,288.4708,292.69677799999999,294.81103200000001,295.38061400000004,292.07802800000002,287.37827000000004,283.36470000000003,279.43691200000001]
["39","KIRKLARELİ",null,null,"KIRKLARELİ",null,"KIRKLARELİ","KIRKLARELİKIRKLARELİ",276.09350800000004,278.20087799999999,281.04169999999999,284.64575600000001,290.32978800000001,294.64951000000002,296.95244400000001,297.21147200000001,293.44247999999999,287.85092399999996,283.39086800000001,279.30878999999993]
["39","KOFÇAZ",null,null,"KIRKLARELİ",null,"KIRKLARELİ","KIRKLARELİKOFÇAZ",274.862256,277.02119000000005,279.74443400000007,283.25355999999999,288.74111800000003,292.85068199999995,295.02353400000004,295.40639199999998,291.72724800000003,286.47475599999996,282.03462000000002,277.96855600000004]
["39","LÜLEBURGAZ",null,null,"KIRKLARELİ",null,"KIRKLARELİ","KIRKLARELİLÜLEBURGAZ",277.06342599999999,279.19696999999996,281.68739999999997,285.06840799999998,290.90790800000002,295.58779200000004,297.958302,298.25991399999992,294.42724000000004,288.78178800000001,284.51586800000001,280.42597799999999]
["39","PEHLİVANKÖY",null,null,"KIRKLARELİ",null,"KIRKLARELİ","KIRKLARELİPEHLİVANKÖY",277.11967799999996,279.46689400000002,282.30810200000002,285.68246799999997,291.579004,296.15458599999999,298.75673799999998,299.04662800000006,294.95967000000002,288.81890200000004,284.423292,280.53222599999998]
["39","PINARHİSAR",null,null,"KIRKLARELİ",null,"KIRKLARELİ","KIRKLARELİPINARHİSAR",276.254052,278.25165800000002,280.89208599999995,284.32426400000003,289.94775199999998,294.345212,296.521188,296.88881800000001,293.282714,287.92319199999997,283.641254,279.55683600000003]
["39","VİZE",null,null,"KIRKLARELİ",null,"KIRKLARELİ","KIRKLARELİVİZE",276.694682,278.32704999999999,280.62450999999999,283.63325199999997,289.18564399999997,293.54951200000005,295.71025800000001,296.27670999999998,292.90653800000001,287.98530399999999,283.88422800000001,279.93691000000001]
["40","AKÇAKENT",null,null,"KIRŞEHİR",null,"KIRŞEHİR","KIRŞEHİRAKÇAKENT",272.31928600000003,275.11884599999996,278.43895600000008,283.07934400000005,288.85439000000008,292.38896599999998,296.04814399999998,295.55248999999998,292.02919600000001,286.35483399999998,279.29008799999997,275.08027600000003]
["40","AKPINAR",null,null,"KIRŞEHİR",null,"KIRŞEHİR","KIRŞEHİRAKPINAR",272.88256800000005,275.60048799999998,278.98037199999999,283.55708199999992,289.37197200000003,292.853024,296.59463,296.08452199999999,292.65224599999999,287.11694399999999,280.00024399999995,275.725978]
["40","BOZTEPE",null,null,"KIRŞEHİR",null,"KIRŞEHİR","KIRŞEHİRBOZTEPE",273.11811599999999,275.87939599999999,279.43036999999998,283.94379799999996,289.91611399999999,293.42724399999997,297.02392800000001,296.32201999999995,293.02216800000002,287.52241000000004,280.29634199999998,276.03769]
["40","ÇİÇEKDAĞI",null,null,"KIRŞEHİR",null,"KIRŞEHİR","KIRŞEHİRÇİÇEKDAĞI",273.22202200000004,276.04384999999996,279.58935600000007,284.12309800000003,290.12509599999998,293.78232400000002,297.22002000000003,296.49233800000002,292.99169600000005,287.37280599999997,279.964698,275.94316399999997]
["40","KAMAN",null,null,"KIRŞEHİR",null,"KIRŞEHİR","KIRŞEHİRKAMAN",273.37514999999996,275.81181600000002,278.99404199999998,283.58246599999995,289.654786,293.19521599999996,297.05752200000001,296.58335,292.83114799999998,286.954838,279.82719600000001,275.92363399999999]
["40","KIRŞEHİR",null,null,"KIRŞEHİR",null,"KIRŞEHİR","KIRŞEHİRKIRŞEHİR",272.91499199999998,275.52783400000004,279.01708600000001,283.40864599999998,289.40283400000004,292.85849799999994,296.571192,295.91225600000001,292.59443399999998,286.98491200000001,279.98345,275.85644200000002]
["40","MUCUR",null,null,"KIRŞEHİR",null,"KIRŞEHİR","KIRŞEHİRMUCUR",272.83569399999999,275.29501800000003,278.97489999999999,283.48715800000002,289.53252000000003,293.07607199999995,296.632518,295.87709800000005,292.53427199999999,286.89858600000002,279.81821400000001,275.68652400000002]
["41","BAŞİSKELE",null,null,"KOCAELİ",null,"KOCAELİ","KOCAELİBAŞİSKELE",274.23569199999997,276.25596000000002,279.10419599999994,282.77075200000002,288.02119199999999,291.312792,293.58017799999999,294.05131599999999,291.09482600000001,286.46381999999994,281.85337199999998,277.25449399999997]
["41","ÇAYIROVA",null,null,"KOCAELİ",null,"KOCAELİ","KOCAELİÇAYIROVA",279.02787999999998,280.23876400000006,282.25185399999998,285.35512799999998,290.86142799999999,295.03857799999997,297.32236399999999,297.65404799999999,294.58895999999993,290.13647800000001,286.01703999999995,282.12284999999997]
["41","DARICA",null,null,"KOCAELİ",null,"KOCAELİ","KOCAELİDARICA",279.02787999999998,280.23876400000006,282.25185399999998,285.35512799999998,290.86142799999999,295.03857799999997,297.32236399999999,297.65404799999999,294.58895999999993,290.13647800000001,286.01703999999995,282.12284999999997]
["41","DERİNCE",null,null,"KOCAELİ",null,"KOCAELİ","KOCAELİDERİNCE",276.87241000000006,278.52314799999999,280.91201000000007,283.90590600000002,289.37783200000001,293.260062,295.37314199999997,295.93334800000002,292.85732200000001,288.35014799999999,284.084228,280.11972800000001]
["41","DİLOVASI",null,null,"KOCAELİ",null,"KOCAELİ","KOCAELİDİLOVASI",278.11304000000001,279.64423999999997,281.91123000000005,285.12387799999999,290.69111399999997,294.78232800000001,297.05791199999999,297.40874400000001,294.23896200000001,289.664604,285.374078,281.30215000000004]
["41","GEBZE",null,null,"KOCAELİ",null,"KOCAELİ","KOCAELİGEBZE",279.02787999999998,280.23876400000006,282.25185399999998,285.35512799999998,290.86142799999999,295.03857799999997,297.32236399999999,297.65404799999999,294.58895999999993,290.13647800000001,286.01703999999995,282.12284999999997]
["41","GÖLCÜK",null,null,"KOCAELİ",null,"KOCAELİ","KOCAELİGÖLCÜK",276.28334799999999,278.29424,281.101854,284.64692600000001,289.95087599999999,293.46005600000001,295.41455000000002,295.73764599999998,292.90185600000001,288.42006800000001,283.91313600000001,279.38808]
["41","İZMİT",null,null,"KOCAELİ",null,"KOCAELİ","KOCAELİİZMİT",277.34897800000005,279.19267400000001,281.844042,285.07426800000002,290.42158000000001,294.21162000000004,296.05400400000002,296.42202000000003,293.48662200000001,289.12202200000002,284.69321400000001,280.632228]
["41","KANDIRA",null,null,"KOCAELİ",null,"KOCAELİ","KOCAELİKANDIRA",278.33251749999999,279.83123499999999,281.657895,284.41131250000001,289.7873525,294.08862499999998,297.01776000000001,297.57928500000003,294.31689499999999,289.39069000000001,284.8895875,281.40197750000004]
["41","KARAMÜRSEL",null,null,"KOCAELİ",null,"KOCAELİ","KOCAELİKARAMÜRSEL",277.21772799999997,279.09736600000008,281.613966,285.06802000000005,290.60204800000002,294.466702,296.75439599999999,297.06538399999999,293.92490199999997,289.27397200000001,284.68852399999997,280.30918000000003]
["41","KARTEPE",null,null,"KOCAELİ",null,"KOCAELİ","KOCAELİKARTEPE",275.83920999999998,277.85048799999993,280.70420000000001,284.19106199999999,289.48954599999996,292.97412399999996,295.01220799999999,295.45991199999997,292.50419799999997,287.91264999999999,283.35766199999995,279.01230199999998]
["41","KÖRFEZ(TÜTÜNÇİFTLİK)",null,null,"KOCAELİ",null,"KOCAELİ","KOCAELİKÖRFEZ(TÜTÜNÇİFTLİK)",276.28334799999999,278.29424,281.101854,284.64692600000001,289.95087599999999,293.46005600000001,295.41455000000002,295.73764599999998,292.90185600000001,288.42006800000001,283.91313600000001,279.38808]
["42","AHIRLI",null,null,"KONYA",null,"KONYA","KONYAAHIRLI",271.95366200000001,274.140332,277.22958599999998,282.50824999999998,288.11064400000004,291.22099800000001,295.75556399999999,295.59819400000003,292.52216800000002,286.64077200000003,280.44321200000002,275.52793200000002]
["42","AKÖREN",null,null,"KONYA",null,"KONYA","KONYAAKÖREN",273.22436200000004,276.04932199999996,279.52685400000001,284.22114399999998,290.22431599999999,293.39130800000004,297.71611799999999,297.21694400000001,293.72880999999995,287.59702399999998,281.12133800000004,276.45878800000003]
["42","AKŞEHİR",null,null,"KONYA",null,"KONYA","KONYAAKŞEHİR",272.42084399999999,275.24853599999994,278.93817999999999,283.60004800000002,289.08291200000002,292.13428199999998,296.47353600000002,296.31420800000001,292.99950800000005,287.04780199999999,280.65415400000001,275.63105000000002]
["42","ALTINEKİN",null,null,"KONYA",null,"KONYA","KONYAALTINEKİN",273.55366400000003,276.51962800000001,280.30693600000006,284.64965799999999,290.70244000000002,293.99013600000001,297.97705000000002,297.31381799999997,293.72294999999997,287.76929000000001,281.02445999999998,276.461524]
["42","BEYŞEHİR",null,null,"KONYA",null,"KONYA","KONYABEYŞEHİR",273.51694600000002,275.83213000000001,279.22061199999996,283.93910999999997,289.49619199999995,292.49169800000004,296.75634400000001,296.69584999999995,293.78232399999996,288.07202399999994,281.92094600000001,277.05371200000002]
["42","BOZKIR",null,null,"KONYA",null,"KONYA","KONYABOZKIR",272.02280000000002,274.46571999999998,277.72802800000005,282.93129800000003,288.65752000000003,291.88349799999997,296.37861600000002,296.23647399999999,292.95536999999996,286.98687200000001,280.64282199999997,275.74941799999999]
["42","CİHANBEYLİ",null,null,"KONYA",null,"KONYA","KONYACİHANBEYLİ",273.912644,276.64111400000002,280.36787199999998,284.71059600000001,290.74071799999996,294.17802800000004,298.23017600000003,297.68920400000002,293.90810199999999,287.93960400000003,281.47524000000004,276.93144599999999]
["42","ÇELTİK",null,null,"KONYA",null,"KONYA","KONYAÇELTİK",272.96069199999999,276.12314200000003,280.058494,284.76410800000002,290.47236400000003,293.40459000000004,297.89072399999998,297.63608400000004,293.66357400000004,287.37162799999999,280.506888,275.85410000000002]
["42","ÇUMRA",null,null,"KONYA",null,"KONYA","KONYAÇUMRA",274.08491199999997,277.16220600000003,280.68466999999998,285.42427000000004,291.74697200000003,294.91045000000003,298.90205600000002,298.08452399999999,294.59443599999997,288.44467799999995,281.68852600000002,277.32558600000004]
["42","DERBENT",null,null,"KONYA",null,"KONYA","KONYADERBENT",271.18686400000001,273.61377000000005,276.94170200000002,281.52544,287.00400000000002,289.92724599999997,294.18837999999994,294.21069599999998,291.21513800000002,285.63373999999999,279.43579399999999,274.62362999999999]
["42","DEREBUCAK",null,null,"KONYA",null,"KONYA","KONYADEREBUCAK",272.45288599999998,274.58018000000004,277.393258,281.61880000000002,286.89775199999997,289.80810200000008,294.31025,294.19115999999997,291.288568,285.70522399999999,280.15884,275.82675999999998]
["42","DOĞANHİSAR",null,null,"KONYA",null,"KONYA","KONYADOĞANHİSAR",271.66616199999999,274.03134600000004,277.401072,281.92036400000001,287.38799200000005,290.47294799999997,294.79306600000001,294.77241199999997,291.63857399999995,285.87280399999997,279.65180599999997,274.89160400000003]
["42","EMİRGAZİ",null,null,"KONYA",null,"KONYA","KONYAEMİRGAZİ",274.05327,277.35556600000001,280.80224800000002,285.39653199999998,291.52900199999999,294.77841999999998,298.75009800000004,297.90248800000001,294.61513600000001,288.78335200000004,281.47406999999998,277.43652600000001]
["42","EREĞLİ",null,null,"KONYA",null,"KONYA","KONYAEREĞLİ",272.932568,275.70712999999995,279.68271400000003,284.29536199999995,290.47314199999994,294.15497999999997,298.22744399999999,297.56967599999996,294.07412199999999,287.91928599999994,280.84321399999999,276.63183600000002]
["42","GÜNEYSINIR",null,null,"KONYA",null,"KONYA","KONYAGÜNEYSINIR",272.77280199999996,275.91494399999999,279.36708800000002,284.04262800000004,290.21650199999999,293.483498,297.47822400000001,296.74858399999999,293.37919599999998,287.29506800000001,280.83930599999997,276.60293000000001]
["42","HADİM",null,null,"KONYA",null,"KONYA","KONYAHADİM",270.85600800000003,273.58134800000005,276.62372799999997,281.83872200000002,287.72900199999992,290.92607600000002,295.18251800000002,295.00991199999999,291.84326000000004,285.98764599999998,279.73774600000002,275.04042799999996]
["42","HALKAPINAR",null,null,"KONYA",null,"KONYA","KONYAHALKAPINAR",269.94585399999994,272.35869400000001,275.99560600000001,280.81254799999999,286.88408199999998,290.36904400000003,294.83135199999998,294.39194200000003,291.11864600000001,285.14389399999999,278.46508399999999,273.89160400000003]
["42","HÜYÜK",null,null,"KONYA",null,"KONYA","KONYAHÜYÜK",271.64858399999997,273.948534,277.13896599999998,281.61411200000003,287.10477999999995,290.12568199999998,294.41767399999998,294.41303800000003,291.38466400000004,285.64155199999993,279.67836999999997,275.02168200000006]
["42","ILGIN",null,null,"KONYA",null,"KONYA","KONYAILGIN",272.53764999999999,275.23720400000002,279.11787399999997,283.64653199999998,289.25010000000003,292.59052600000007,296.76610999999997,296.51889399999999,293.08310399999999,287.03725599999996,280.36118199999999,275.67871400000001]
["42","KADINHANI",null,null,"KONYA",null,"KONYA","KONYAKADINHANI",272.612256,275.30165799999997,279.170998,283.66294000000005,289.32509599999997,292.356154,296.614552,296.41498999999999,293.10966799999994,287.19663000000003,280.519386,275.70058800000004]
["42","KARAPINAR",null,null,"KONYA",null,"KONYA","KONYAKARAPINAR",274.46303799999998,277.75986,281.12646599999999,285.82075199999997,292.052052,295.18974799999995,299.15478199999995,298.27866599999999,295.030372,289.07084799999996,281.83149399999996,277.79042799999996]
["42","KARATAY",null,null,"KONYA",null,"KONYA",{"$f":"G659&B659","v":"KONYAKARATAY"},273.04155400000002,275.94033200000001,279.65458999999998,284.23872,290.178224,293.10654199999999,297.53369000000004,297.09858599999995,293.66200799999996,287.73764199999999,281.08227999999997,276.19980399999997]
["42","KULU",null,null,"KONYA",null,"KONYA","KONYAKULU",273.49663199999998,276.20048599999996,279.713572,284.06176799999997,290.00947200000002,293.56904599999996,297.72587999999996,297.29702199999997,293.45654400000001,287.31576800000005,280.696732,276.47675799999996]
["42","MERAM",null,null,"KONYA",null,"KONYA","KONYAMERAM",273.04155400000002,275.94033200000001,279.65458999999998,284.23872,290.178224,293.10654199999999,297.53369000000004,297.09858599999995,293.66200799999996,287.73764199999999,281.08227999999997,276.19980399999997]
["42","SARAYÖNÜ",null,null,"KONYA",null,"KONYA","KONYASARAYÖNÜ",273.23530199999999,276.06259399999999,280.00615200000004,284.33637399999998,290.19931200000002,293.34873000000005,297.60400400000003,297.22709799999996,293.70576199999994,287.561868,280.88501200000002,276.26386600000001]
["42","SELÇUKLU",null,null,"KONYA",null,"KONYA","KONYASELÇUKLU",273.04155400000002,275.94033200000001,279.65458999999998,284.23872,290.178224,293.10654199999999,297.53369000000004,297.09858599999995,293.66200799999996,287.73764199999999,281.08227999999997,276.19980399999997]
["42","SEYDİŞEHİR",null,null,"KONYA",null,"KONYA","KONYASEYDİŞEHİR",272.53374399999996,274.79931799999997,277.82099399999998,282.566844,288.06376800000004,291.15537,295.649314,295.561082,292.54482200000001,286.68061599999999,280.60961600000002,275.85879000000006]
["42","TAŞKENT",null,null,"KONYA",null,"KONYA","KONYATAŞKENT",270.04780399999999,272.66221000000002,275.36435399999993,280.48364400000003,286.29697399999998,289.39052800000002,293.68876599999999,293.49546199999997,290.48466999999999,284.76577599999996,278.85727200000002,274.24316600000003]
["42","TUZLUKÇU",null,null,"KONYA",null,"KONYA","KONYATUZLUKÇU",272.81812000000002,275.92978599999998,279.97021800000005,284.69458399999996,290.29658000000001,293.50185399999998,297.71376799999996,297.50600999999995,293.993652,287.99780399999997,281.24360200000001,276.16269399999999]
["42","YALIHÜYÜK",null,null,"KONYA",null,"KONYA","KONYAYALIHÜYÜK",272.60092399999996,274.88056799999993,278.20459,283.30083200000001,288.960646,292.14639,296.64657999999997,296.50756999999999,293.33037400000001,287.32553200000001,281.01000400000004,276.06582399999996]
["42","YUNAK",null,null,"KONYA",null,"KONYA","KONYAYUNAK",272.33959999999996,275.49463200000002,279.42568399999999,284.10513000000003,289.75244199999997,292.74716999999998,297.13486399999999,296.87397399999998,293.07919600000002,287.01147200000003,280.28031999999996,275.40996199999995]
["43","ALTINTAŞ",null,null,"KÜTAHYA",null,"KÜTAHYA","KÜTAHYAALTINTAŞ",272.30287800000002,275.89423599999998,278.90537399999999,283.73638199999999,289.14228800000001,291.73388799999998,295.64814000000001,295.54350800000003,292.08467000000002,286.32241200000004,280.02446600000002,275.59628800000002]
["43","ASLANAPA",null,null,"KÜTAHYA",null,"KÜTAHYA","KÜTAHYAASLANAPA",272.03179,275.57079799999997,278.49521599999997,283.23169200000001,288.49345399999999,291.07021599999996,294.89540999999997,294.89819399999999,291.51865200000003,285.88179000000002,279.793994,275.439258]
["43","ÇAVDARHİSAR",null,null,"KÜTAHYA",null,"KÜTAHYA","KÜTAHYAÇAVDARHİSAR",272.38139799999999,275.65868999999998,278.54990199999997,283.33676800000001,288.52275399999996,291.18818400000004,295.02704800000004,295.11694399999999,291.77255600000001,286.11069200000003,280.06117999999998,275.582224]
["43","DOMANİÇ",null,null,"KÜTAHYA",null,"KÜTAHYA","KÜTAHYADOMANİÇ",272.18843000000004,274.95595599999996,278.005764,282.21606400000002,287.41415799999993,290.22294799999997,293.37392199999999,293.675928,290.42294800000002,285.27007199999997,279.868604,275.43964599999998]
["43","DUMLUPINAR",null,null,"KÜTAHYA",null,"KÜTAHYA","KÜTAHYADUMLUPINAR",271.96420799999999,275.45869199999999,278.34794799999997,283.16059400000006,288.57314399999996,291.156158,295.25830000000002,295.20952,291.74521199999998,285.96695,279.84125999999998,275.22676199999995]
["43","EMET",null,null,"KÜTAHYA",null,"KÜTAHYA","KÜTAHYAEMET",272.74506799999995,275.78252199999997,278.58271200000001,283.152784,288.221968,291.04599400000001,294.74697600000002,294.972802,291.63232200000004,286.00210200000004,280.16274199999998,275.81620999999996]
["43","GEDİZ",null,null,"KÜTAHYA",null,"KÜTAHYA","KÜTAHYAGEDİZ",273.69272799999999,276.90400600000004,279.79639199999997,284.45395399999995,289.84463000000005,292.54873200000003,296.62900400000001,296.75209800000005,293.26279599999998,287.44076600000005,281.43501200000003,276.84394400000002]
["43","HİSARCIK",null,null,"KÜTAHYA",null,"KÜTAHYA","KÜTAHYAHİSARCIK",272.89038199999993,275.92314199999998,278.66943199999997,283.25278199999997,288.30126999999999,291.05146000000002,294.84267799999998,295.13374000000005,291.86669999999998,286.24819200000002,280.49790200000001,275.93300800000003]
["43","KÜTAHYA",null,null,"KÜTAHYA",null,"KÜTAHYA","KÜTAHYAKÜTAHYA",271.97671000000003,275.43173999999999,278.48466999999999,283.068016,288.43329999999997,290.91982399999995,294.53720600000003,294.571236,291.29717200000005,285.91381799999999,279.94946399999998,275.39668199999994]
["43","PAZARLAR",null,null,"KÜTAHYA",null,"KÜTAHYA","KÜTAHYAPAZARLAR",273.53803399999998,276.45947200000001,279.07567999999998,283.45278199999996,288.78916199999998,291.58271399999995,295.88486599999999,296.15444399999996,292.5249,286.54546199999993,280.95961799999998,276.44160199999999]
["43","SİMAV",null,null,"KÜTAHYA",null,"KÜTAHYA","KÜTAHYASİMAV",273.58295600000002,276.61220800000001,279.24716799999999,283.734422,288.914942,291.62334200000004,295.48173800000006,295.88100599999996,292.51201000000003,286.82397400000002,281.26195999999999,276.57871]
["43","ŞAPHANE",null,null,"KÜTAHYA",null,"KÜTAHYA","KÜTAHYAŞAPHANE",273.53491400000001,276.54150199999998,279.23037000000005,283.64888199999996,288.99892800000003,291.75888599999996,296.02353399999998,296.24662799999999,292.66045000000003,286.73881999999998,281.05649400000004,276.54003799999998]
["43","TAVŞANLI",null,null,"KÜTAHYA",null,"KÜTAHYA","KÜTAHYATAVŞANLI",272.64311800000002,275.699704,278.71201200000002,283.22309799999999,288.498536,291.29287000000005,294.84618999999998,294.98100800000003,291.58623,286.00014799999997,280.10141599999997,275.81972999999999]
["44","AKÇADAĞ",null,null,"MALATYA",null,"MALATYA","MALATYAAKÇADAĞ",271.80170399999997,273.92704799999996,279.09365399999996,284.29263200000003,290.27549199999999,295.53974400000004,299.03916399999997,298.57592800000003,294.96084200000007,288.02944400000001,280.28930800000001,275.06698999999998]
["44","ARAPKİR(ARAPGİR)",null,null,"MALATYA",null,"MALATYA","MALATYAARAPKİR(ARAPGİR)",270.95678800000002,272.84384999999997,277.51279199999999,282.87504999999999,288.58369400000004,294.02959199999998,298.04384999999996,297.70639600000004,293.90888800000005,287.48217599999998,279.68227400000001,274.617774]
["44","ARGUVAN",null,null,"MALATYA",null,"MALATYA","MALATYAARGUVAN",272.00756799999999,274.15439399999997,279.25185799999997,284.72270600000002,290.54853199999997,295.93232399999999,299.71728400000001,299.21889599999997,295.42294599999997,288.71811600000001,280.66587000000004,275.24980399999998]
["44","BATTALGAZİ",null,null,"MALATYA",null,"MALATYA","MALATYABATTALGAZİ",274.81538,276.97158400000001,281.78036800000001,286.76684599999999,293.010648,298.37333999999998,301.62626999999998,301.18257000000006,297.80732800000004,290.97046,282.98617999999999,277.67519800000002]
["44","DARENDE",null,null,"MALATYA",null,"MALATYA","MALATYADARENDE",269.534132,271.603612,277.11318599999998,282.82934800000004,288.50790799999999,292.96826199999998,296.44267400000001,296.162644,293.16279400000002,287.00874600000003,279.21196600000002,273.17792999999995]
["44","DOĞANŞEHİR",null,null,"MALATYA",null,"MALATYA","MALATYADOĞANŞEHİR",269.88608799999997,271.63251600000001,276.35772000000003,282.31723399999998,288.43369000000001,293.44638799999996,297.52197200000001,297.31655199999994,294.08661999999998,287.25991199999999,279.41508599999997,273.52363400000002]
["44","DOĞANYOL",null,null,"MALATYA",null,"MALATYA","MALATYADOĞANYOL",272.65326799999997,275.27510000000001,279.97372800000005,284.66254799999996,290.71337799999998,296.53193599999997,300.72431599999999,300.43061599999999,296.77959399999997,289.66304000000002,281.60415,276.32167799999996]
["44","HEKİMHAN",null,null,"MALATYA",null,"MALATYA","MALATYAHEKİMHAN",269.520848,271.40556800000002,276.819434,282.50434200000001,288.12548600000002,293.02763400000003,296.82392800000002,296.51889399999999,293.02177599999999,286.622412,278.74399399999999,273.20176199999997]
["44","KALE",null,null,"MALATYA",null,"MALATYA","MALATYAKALE",273.42944399999999,275.75947400000001,280.67021600000004,285.38754999999998,291.45673799999997,297.22412199999997,301.04931599999998,300.68412999999998,297.13036999999997,290.08452199999999,281.99125800000002,276.670118]
["44","KULUNCAK",null,null,"MALATYA",null,"MALATYA","MALATYAKULUNCAK",268.747412,270.40868999999998,276.03896799999995,281.67700200000002,287.283298,291.88544999999999,295.52079999999995,295.19819399999994,292.02451199999996,285.94506799999999,278.28657400000003,272.63925800000004]
["44","MALATYA",null,null,"MALATYA",null,"MALATYA","MALATYAMALATYA",274.62709600000005,276.77119199999999,281.57685600000002,286.63481599999994,292.89189800000003,298.16630999999995,301.40400600000004,300.94428200000004,297.51748000000003,290.77944400000001,282.86039800000003,277.49628999999999]
["44","PÜTÜRGE(PÖTÜRGE)",null,null,"MALATYA",null,"MALATYA","MALATYAPÜTÜRGE(PÖTÜRGE)",272.61499000000003,275.00048800000002,279.562792,284.167238,290.24658199999999,295.87646599999999,300.10790400000002,299.83959599999997,296.11435399999999,289.16850400000004,281.37876199999999,276.29824200000002]
["44","YAZIHAN",null,null,"MALATYA",null,"MALATYA","MALATYAYAZIHAN",273.84858799999995,276.140716,281.08583399999998,286.32739200000003,292.421582,297.70576,301.05048599999998,300.45249000000001,296.65497999999997,289.984916,281.97993199999996,276.72402]
["44","YEŞİLYURT",null,null,"MALATYA",null,"MALATYA","MALATYAYEŞİLYURT",272.84975799999995,274.75556800000004,279.55302799999998,284.717624,290.952832,296.18427800000001,299.66377,299.26537999999994,295.86123600000002,289.01459800000003,281.27211999999997,275.881056]
["45","AHMETLİ",null,null,"MANİSA",null,"MANİSA","MANİSAAHMETLİ",278.24233399999997,280.921582,283.42334,288.22075599999999,293.679396,297.11865,300.30517599999996,300.16928799999999,296.64443199999999,291.08061199999997,285.683446,280.80136800000002]
["45","AKHİSAR",null,null,"MANİSA",null,"MANİSA","MANİSAAKHİSAR",278.33608199999998,280.87665800000002,283.588572,288.02739600000001,293.852056,297.50810600000005,300.42041,300.17749200000009,296.52333999999996,290.790772,285.44321600000001,280.81659400000001]
["45","ALAŞEHİR",null,null,"MANİSA",null,"MANİSA","MANİSAALAŞEHİR",277.450536,280.39463199999994,283.19013999999999,288.26020800000003,293.69541200000003,296.68857400000007,300.75360600000005,300.83608400000003,296.92255999999998,291.03413600000005,284.98500799999999,279.889656]
["45","DEMİRCİ",null,null,"MANİSA",null,"MANİSA","MANİSADEMİRCİ",274.52514599999995,277.43525,280.03974600000004,284.43091200000003,289.673924,292.56552799999997,296.55947400000002,297.03061600000001,293.34678200000002,287.40522399999998,281.993604,277.28144600000002]
["45","GÖLMARMARA",null,null,"MANİSA",null,"MANİSA","MANİSAGÖLMARMARA",277.88022400000006,280.49267400000002,283.107328,287.72231199999999,293.31962800000002,296.87450799999999,300.15478200000001,300.00444000000005,296.28662400000002,290.52006800000004,285.10376000000002,280.39199399999995]
["45","GÖRDES",null,null,"MANİSA",null,"MANİSA","MANİSAGÖRDES",276.332178,279.14189199999998,281.806152,286.23247000000003,291.63212199999998,294.85575800000004,298.55282999999997,298.87358600000005,295.09716599999996,289.18882200000002,283.61743200000001,278.92207200000001]
["45","KIRKAĞAÇ",null,null,"MANİSA",null,"MANİSA","MANİSAKIRKAĞAÇ",277.43217599999997,279.662598,282.15458999999998,286.22621999999996,291.80283399999996,295.500292,298.29462799999999,298.21616200000005,294.72373000000005,289.32280400000002,284.36156999999997,280.04668199999998]
["45","KÖPRÜBAŞI",null,null,"MANİSA",null,"MANİSA","MANİSAKÖPRÜBAŞI",276.61616199999997,279.40908000000002,282.23114999999996,287.04536200000001,292.51377199999996,295.81083799999999,299.78525000000002,299.83022199999999,295.80224400000003,289.691554,283.71899399999995,279.04667999999998]
["45","KULA",null,null,"MANİSA",null,"MANİSA","MANİSAKULA",276.16967800000003,278.90010000000001,281.714744,286.66880200000003,292.07314600000001,295.13310799999999,299.36611000000005,299.47632199999998,295.41747999999995,289.27006599999999,283.136574,278.51113399999997]
["45","MANİSA",null,null,"MANİSA",null,"MANİSA","MANİSAMANİSA",278.18959799999999,280.56494400000003,282.96630799999997,287.17504400000001,292.68134799999996,296.51045199999999,299.81415800000002,299.75874600000003,295.95771400000001,290.15600600000005,285.24438200000003,280.68612999999999]
["45","SALİHLİ",null,null,"MANİSA",null,"MANİSA","MANİSASALİHLİ",278.20209799999998,280.97041000000002,283.61122599999999,288.49731399999996,293.91415999999998,297.19209199999995,300.50400200000001,300.44155000000001,296.916698,291.45560999999998,285.91743000000008,280.82558799999998]
["45","SARIGÖL",null,null,"MANİSA",null,"MANİSA","MANİSASARIGÖL",277.71147600000006,280.7790040000001,283.52216800000002,288.72895399999999,294.19658199999998,297.10497799999996,301.58095399999996,301.517336,297.606156,291.55444399999999,285.32329400000003,280.05019399999998]
["45","SARUHANLI",null,null,"MANİSA",null,"MANİSA","MANİSASARUHANLI",278.69467800000001,281.15126999999995,283.75771800000001,288.18481600000001,293.874708,297.693264,300.59033400000004,300.34467800000004,296.72373000000005,291.07866200000001,285.89985200000001,281.20058600000004]
["45","SELENDİ",null,null,"MANİSA",null,"MANİSA","MANİSASELENDİ",275.85991200000001,278.85869199999996,281.85615399999995,286.90239400000002,292.53369000000004,295.68779800000004,300.02041200000002,300.04858200000001,295.84599399999996,289.29585200000002,283.08774599999998,278.388868]
["45","SOMA",null,null,"MANİSA",null,"MANİSA","MANİSASOMA",277.09936200000004,279.21767799999998,281.70029400000004,285.62270799999999,291.08212800000001,294.89833800000002,297.559866,297.55639200000002,294.12568600000003,288.85405400000002,284.03930799999995,279.79316200000005]
["45","TURGUTLU",null,null,"MANİSA",null,"MANİSA","MANİSATURGUTLU",278.69233600000001,281.37432200000001,283.82138999999995,288.488722,293.95829800000001,297.64482600000002,300.56767600000001,300.41615999999999,296.96123,291.33686399999999,285.97680600000001,281.317386]
["46","AFŞİN",null,null,"KAHRAMANMARAŞ",null,"KAHRAMANMARAŞ","KAHRAMANMARAŞAFŞİN",270.14624599999996,272.837988,277.43193000000002,282.78286200000002,288.61455000000001,292.964744,296.63720799999999,296.26303999999999,293.06630600000005,286.81381599999997,279.27368000000001,273.71308999999997]
["46","ANDIRIN",null,null,"KAHRAMANMARAŞ",null,"KAHRAMANMARAŞ","KAHRAMANMARAŞANDIRIN",274.06420599999996,276.02587999999997,279.92567999999994,283.92348800000002,289.10439400000001,292.75731800000005,297.05517600000002,297.13452399999994,294.44560799999999,288.86655400000001,282.13461999999998,277.45097599999997]
["46","ÇAĞLIYANCERİT",null,null,"KAHRAMANMARAŞ",null,"KAHRAMANMARAŞ","KAHRAMANMARAŞÇAĞLIYANCERİT",275.16850400000004,277.78212599999995,282.04716999999999,286.51801999999998,292.02002200000004,295.883106,299.97470800000002,299.92592999999999,297.34169800000001,291.67358400000001,284.08344599999998,278.70605599999999]
["46","EKİNÖZÜ",null,null,"KAHRAMANMARAŞ",null,"KAHRAMANMARAŞ","KAHRAMANMARAŞEKİNÖZÜ",270.40717599999999,272.73994199999999,277.71708999999998,283.28480999999999,289.12197399999997,293.58310399999999,297.23798799999997,297.05835400000001,294.15380800000003,287.64897800000006,279.96235200000001,274.12050799999997]
["46","ELBİSTAN",null,null,"KAHRAMANMARAŞ",null,"KAHRAMANMARAŞ","KAHRAMANMARAŞELBİSTAN",270.73686400000003,273.01494400000001,278.11435600000004,283.56840999999997,289.393846,293.87178200000005,297.36142599999994,297.06030599999997,294.10849799999994,287.69272599999999,279.98735199999999,274.32519200000002]
["46","GÖKSUN",null,null,"KAHRAMANMARAŞ",null,"KAHRAMANMARAŞ","KAHRAMANMARAŞGÖKSUN",269.14429000000001,271.37236199999995,275.35185399999995,280.62582600000007,286.24150199999997,290.35888999999997,294.83213000000001,294.94545800000003,291.80615399999999,285.69311399999998,278.589696,272.71386799999999]
["46","KAHRAMANMARAŞ",null,null,"KAHRAMANMARAŞ",null,"KAHRAMANMARAŞ","KAHRAMANMARAŞKAHRAMANMARAŞ",275.16850400000004,277.78212599999995,282.04716999999999,286.51801999999998,292.02002200000004,295.883106,299.97470800000002,299.92592999999999,297.34169800000001,291.67358400000001,284.08344599999998,278.70605599999999]
["46","NURHAK",null,null,"KAHRAMANMARAŞ",null,"KAHRAMANMARAŞ","KAHRAMANMARAŞNURHAK",269.06108200000006,270.93212199999999,275.39130800000004,280.90864399999998,286.75322199999999,291.20263399999999,295.36688999999996,295.24662999999998,292.11239799999998,285.68217799999996,278.38617799999997,272.85136799999998]
["46","PAZARCIK",null,null,"KAHRAMANMARAŞ",null,"KAHRAMANMARAŞ","KAHRAMANMARAŞPAZARCIK",275.121242,277.10165999999998,281.21005600000001,285.53051799999997,291.41806600000001,296.00341800000001,300.309866,300.19896999999997,296.96200800000003,290.506394,282.80024999999995,278.12285400000002]
["46","TÜRKOĞLU",null,null,"KAHRAMANMARAŞ",null,"KAHRAMANMARAŞ","KAHRAMANMARAŞTÜRKOĞLU",277.92397599999998,280.35752200000002,284.04912400000001,288.37661200000002,293.79384799999997,297.20888600000001,300.92627000000005,300.96421199999997,298.901858,293.91225999999995,286.27680400000003,280.89628800000003]
["47","DARGEÇİT",null,null,"MARDİN",null,"MARDİN","MARDİNDARGEÇİT",276.47671400000002,277.93368999999996,282.34756200000004,286.910596,292.85439200000002,299.08388600000001,303.579002,303.38178600000003,299.30420000000004,292.15678400000002,283.81079199999999,279.09902399999999]
["47","DERİK",null,null,"MARDİN",null,"MARDİN",{"$f":"G723&B723","v":"MARDİNDERİK"},276.13764200000003,277.796582,282.10927800000002,286.38129799999996,292.54502199999996,298.77372600000001,303.27314799999999,302.88999000000001,298.61904199999998,291.454838,283.28149199999996,278.54120799999998]
["47","KIZILTEPE",null,null,"MARDİN",null,"MARDİN","MARDİNKIZILTEPE",278.73295999999999,280.33095800000001,284.85732400000001,289.22114599999998,295.63564600000001,301.91279199999997,306.175096,305.61460199999999,301.54482199999995,294.43100199999998,285.95493599999998,281.09238399999998]
["47","MARDİN",null,null,"MARDİN",null,"MARDİN","MARDİNMARDİN",277.23608200000001,278.84970799999996,283.29716999999999,287.68715400000002,293.96884599999998,300.26201199999997,304.64658200000002,304.11733599999997,299.99677800000001,292.76733400000001,284.46313399999997,279.60683800000004]
["47","MAZIDAĞI",null,null,"MARDİN",null,"MARDİN","MARDİNMAZIDAĞI",275.97397599999999,277.57392399999998,281.76747999999998,286.15161000000001,292.23095999999998,298.39404200000001,302.93369000000001,302.61928999999998,298.42177800000002,291.35600800000003,283.204542,278.36972600000001]
["47","MİDYAT(ESTEL)",null,null,"MARDİN",null,"MARDİN","MARDİNMİDYAT(ESTEL)",277.23608200000001,278.84970799999996,283.29716999999999,287.68715400000002,293.96884599999998,300.26201199999997,304.64658200000002,304.11733599999997,299.99677800000001,292.76733400000001,284.46313399999997,279.60683800000004]
["47","NUSAYBİN",null,null,"MARDİN",null,"MARDİN","MARDİNNUSAYBİN",278.70405,280.37666000000002,284.81669599999998,289.22505199999995,295.73916199999996,301.86201199999999,306.12431800000002,305.60366000000005,301.44247799999999,294.44584799999996,286.07720200000006,281.21738199999999]
["47","ÖMERLİ",null,null,"MARDİN",null,"MARDİN","MARDİNÖMERLİ",276.27826799999997,277.81650000000002,282.099514,286.512158,292.80517400000002,299.15068400000001,303.70634200000001,303.29819399999997,299.153414,291.95756999999998,283.58188400000006,278.83808599999998]
["47","SAVUR",null,null,"MARDİN",null,"MARDİN","MARDİNSAVUR",276.05170800000008,277.493064,281.77490399999999,286.130516,292.30049399999996,298.467872,303.17548999999997,302.90015,298.79326000000003,291.60054000000002,283.24321199999997,278.63144399999999]
["47","YEŞİLLİ",null,null,"MARDİN",null,"MARDİN","MARDİNYEŞİLLİ",277.13568999999995,278.73877400000003,283.15263599999997,287.58090800000002,293.865726,300.20810399999999,304.57822399999998,304.04389600000002,299.91982000000002,292.71342800000002,284.38618600000001,279.52636799999999]
["48","BODRUM",null,null,"MUĞLA",null,"MUĞLA","MUĞLABODRUM",284.29565000000002,285.51146999999997,287.18236999999999,288.56200000000001,296.241604,302.84121600000003,302.8340419999999,304.21977799999996,301.32772999999992,298.87456600000002,292.06981999999999,286.81493999999998]
["48","DALAMAN",null,null,"MUĞLA",null,"MUĞLA","MUĞLADALAMAN",282.49546199999997,283.99033600000001,285.55537600000002,288.85239200000001,297.71680200000003,302.54765800000001,305.59961199999992,305.92226799999997,302.87382199999996,297.49765600000006,288.70727600000004,284.57363199999998]
["48","DATÇA",null,null,"MUĞLA",null,"MUĞLA","MUĞLADATÇA",285.54394500000001,286.40936250000004,287.12469750000002,289.348815,296.70229649999999,300.86245350000002,302.81005449999992,303.64476049999996,301.71005499999995,297.85020600000007,290.66643999999997,287.41027750000001]
["48","FETHİYE",null,null,"MUĞLA",null,"MUĞLA","MUĞLAFETHİYE",280.14037799999994,281.922754,283.86904400000003,287.53051399999998,296.71836200000001,301.41172,304.5140659999999,304.70038799999998,301.34921799999995,295.64492200000007,286.62172799999996,282.38535200000001]
["48","KAVAKLIDERE",null,null,"MUĞLA",null,"MUĞLA","MUĞLAKAVAKLIDERE",276.47709399999997,278.58876800000002,280.69638599999996,284.96918999999997,294.03398400000003,298.85781400000008,303.11680799999993,303.39922200000001,299.20937399999991,292.65312399999999,283.10727800000001,278.61621200000002]
["48","KÖYCEĞİZ",null,null,"MUĞLA",null,"MUĞLA","MUĞLAKÖYCEĞİZ",279.15913,281.00712800000002,283.09208799999999,286.93051800000001,296.22968600000002,301.24531400000001,305.01992599999994,305.05546399999997,301.24569999999994,295.07265200000006,285.76664799999998,281.42714800000005]
["48","MARMARİS",null,null,"MUĞLA",null,"MUĞLA","MUĞLAMARMARİS",282.92724749999996,284.209655,285.619325,289.10614500000003,297.76088650000003,302.38149349999998,305.72460199999989,305.6755205,302.71982499999996,297.09239350000007,288.565855,284.89221249999997]
["48","MİLAS",null,null,"MUĞLA",null,"MUĞLA","MUĞLAMİLAS",280.71186599999999,282.63643000000002,284.51669600000002,288.34536200000002,297.45,302.75,306.54999999999995,306.75,302.45,296.25,287.19868000000002,282.86191000000002]
["48","MUĞLA",null,null,"MUĞLA",null,"MUĞLA","MUĞLAMUĞLA",276.91147599999999,278.83290999999997,280.88271199999997,284.89966199999998,294.12656400000003,298.95625200000001,303.16875199999987,303.35859599999992,299.22773199999989,292.77070400000002,283.51469399999996,279.18535400000002]
["48","ORTACA",null,null,"MUĞLA",null,"MUĞLA","MUĞLAORTACA",282.49546199999997,283.99033600000001,285.55537600000002,288.85239200000001,297.71680200000003,302.54765800000001,305.59961199999992,305.92226799999997,302.87382199999996,297.49765600000006,288.70727600000004,284.57363199999998]
["48","ULA",null,null,"MUĞLA",null,"MUĞLA","MUĞLAULA",279.36967799999996,281.25126800000004,283.23818199999994,287.18207999999998,296.49179800000002,301.52539199999995,305.36719199999993,305.48749800000002,301.49530599999991,295.29805000000005,286.05727800000005,281.69511]
["48","YATAĞAN",null,null,"MUĞLA",null,"MUĞLA","MUĞLAYATAĞAN",279.20835199999999,281.26611400000002,283.27763400000003,287.44574799999998,296.61054999999999,301.71835800000002,305.87695799999989,306.08515399999999,301.70585999999997,295.30937800000004,285.87563399999999,281.265038]
["49","BULANIK",null,null,"MUŞ",null,"MUŞ","MUŞBULANIK",269.4271,271.056738,276.13232200000004,281.63012799999996,287.46689200000003,293.79130999999995,297.937208,297.56382000000002,293.35185399999995,286.07046000000003,278.19165000000004,273.413476]
["49","HASKÖY",null,null,"MUŞ",null,"MUŞ","MUŞHASKÖY",270.06108599999999,271.54814599999997,275.97099599999996,281.85043999999999,288.29462799999999,294.56397200000004,298.78252000000003,298.61694199999999,294.494822,287.20405199999993,279.00259,273.71972999999997]
["49","KORKUT",null,null,"MUŞ",null,"MUŞ","MUŞKORKUT",270.41459800000001,271.92470800000001,276.39951000000002,282.56371799999999,288.79658400000005,295.20732199999998,299.44970599999999,299.19272599999999,295.06748200000004,287.70249000000001,279.47836999999998,274.16074199999997]
["49","MALAZGİRT",null,null,"MUŞ",null,"MUŞ","MUŞMALAZGİRT",267.850144,269.77275599999996,275.28661999999997,280.63637199999999,286.45947200000001,292.67841399999998,297.06259600000004,296.636864,292.13427799999999,284.41889200000003,276.89087000000001,271.867772]
["49","MUŞ",null,null,"MUŞ",null,"MUŞ","MUŞMUŞ",268.99116400000003,270.477442,274.71084000000002,279.99887799999999,286.71104000000003,292.80419799999999,297.17197199999998,297.05210199999999,292.86943400000001,285.66108199999996,277.66079000000002,272.560744]
["49","VARTO",null,null,"MUŞ",null,"MUŞ","MUŞVARTO",266.95756999999998,268.64345599999996,273.12958600000002,278.19731600000006,284.38369,290.37607400000002,294.76415600000001,294.574366,290.27334599999995,283.267336,275.40258999999998,269.86425599999995]
["50","ACIGÖL",null,null,"NEVŞEHİR",null,"NEVŞEHİR","NEVŞEHİRACIGÖL",271.91733200000004,274.74228599999998,278.69170199999996,283.30512599999997,289.29580199999998,292.92998399999999,296.72470600000003,295.925926,292.59482600000001,286.57710400000002,279.43930600000004,275.19238200000001]
["50","AVANOS",null,null,"NEVŞEHİR",null,"NEVŞEHİR","NEVŞEHİRAVANOS",272.12787999999995,274.73525000000001,279.02841599999999,283.67739399999999,289.61298799999997,293.39716600000003,297.087986,296.28920600000004,293.15068200000002,287.27241199999997,279.93540199999995,275.51972799999993]
["50","DERİNKUYU",null,null,"NEVŞEHİR",null,"NEVŞEHİR","NEVŞEHİRDERİNKUYU",270.84662599999996,273.36377000000005,277.33505600000001,281.77192600000001,287.59189399999997,291.17764199999999,295.24424599999998,294.67827399999999,291.43662,285.29232999999999,278.50883799999997,274.358788]
["50","GÜLŞEHİR",null,null,"NEVŞEHİR",null,"NEVŞEHİR","NEVŞEHİRGÜLŞEHİR",272.53139399999998,275.35752200000002,279.43779400000005,284.15082999999998,290.19033000000002,293.931152,297.55243999999999,296.68959599999999,293.38896199999999,287.44741199999999,280.03071399999999,275.75449200000003]
["50","HACIBEKTAŞ",null,null,"NEVŞEHİR",null,"NEVŞEHİR","NEVŞEHİRHACIBEKTAŞ",272.40600799999999,274.82744399999996,278.635448,283.19340599999998,289.21728400000001,292.94052600000003,296.52314200000001,295.73921000000001,292.32334400000002,286.55249199999997,279.37055800000002,275.30800600000003]
["50","KOZAKLI",null,null,"NEVŞEHİR",null,"NEVŞEHİR","NEVŞEHİRKOZAKLI",272.966162,275.49619199999995,279.34482199999997,283.90590599999996,289.98447399999998,293.68350200000003,297.08994400000006,296.19546000000003,292.91006200000004,287.29233200000004,279.86899200000005,275.81542999999999]
["50","NEVŞEHİR",null,null,"NEVŞEHİR",null,"NEVŞEHİR","NEVŞEHİRNEVŞEHİR",271.63217800000001,274.24580000000003,278.29443200000003,282.93442400000004,288.83446599999996,292.48154399999999,296.374708,295.600146,292.32138000000003,286.35327199999995,279.240478,274.98339599999997]
["50","ÜRGÜP",null,null,"NEVŞEHİR",null,"NEVŞEHİR","NEVŞEHİRÜRGÜP",271.27124400000002,273.57548800000001,277.68739999999997,282.27855999999997,288.08369399999998,291.89209,295.76688799999999,295.05483800000002,291.90849800000001,286.03412800000001,279.03891400000003,274.65722399999999]
["51","ALTUNHİSAR",null,null,"NİĞDE",null,"NİĞDE","NİĞDEALTUNHİSAR",270.52944400000007,273.03173800000002,276.70341799999994,281.24575199999998,286.984084,290.35342000000003,294.37275,293.930226,291.01669800000002,285.12788200000006,278.62914799999999,274.28379000000001]
["51","BOR",null,null,"NİĞDE",null,"NİĞDE","NİĞDEBOR",272.24194399999999,274.91729000000004,278.93583999999998,283.82387399999999,289.804778,293.47998200000001,297.353612,296.66577199999995,293.675296,287.53725599999996,280.47563600000001,275.94980399999997]
["51","ÇAMARDI",null,null,"NİĞDE",null,"NİĞDE","NİĞDEÇAMARDI",268.73491000000001,270.90439600000002,274.07529599999998,278.920748,284.85439200000002,288.35576000000003,292.56260000000003,292.35756400000002,289.70615200000003,283.86772200000001,277.38266800000002,272.48027199999996]
["51","ÇİFTLİK(ÖZYURT)",null,null,"NİĞDE",null,"NİĞDE","NİĞDEÇİFTLİK(ÖZYURT)",269.44311600000003,271.85048800000004,275.83427799999998,280.878174,286.56846200000001,290.18310200000008,294.279788,293.97085200000004,291.19521599999996,285.21108800000002,278.42797400000006,273.27910200000002]
["51","NİĞDE",null,null,"NİĞDE",null,"NİĞDE","NİĞDENİĞDE",270.13413000000003,272.54306399999996,276.27099800000002,281.16683999999998,286.87079800000004,290.30302599999999,294.36572399999994,293.98647199999999,291.28622799999999,285.45678800000002,278.77211999999997,273.929104]
["51","ULUKIŞLA",null,null,"NİĞDE",null,"NİĞDE","NİĞDEULUKIŞLA",270.00951999999995,271.98994200000004,275.67685800000004,280.63012399999997,286.51337799999999,290.03700799999996,294.42666199999996,294.14624199999997,290.87764000000004,285.057568,278.62563399999999,273.76933200000002]
["52","AKKUŞ",null,null,"ORDU",null,"ORDU","ORDUAKKUŞ",272.57788200000005,273.84189600000002,276.95107199999995,280.65786400000002,286.02197400000006,289.34873199999998,291.22744599999999,291.19936200000001,288.65966600000002,284.975146,279.59516599999995,275.89941199999998]
["52","AYBASTI",null,null,"ORDU",null,"ORDU","ORDUAYBASTI",273.18725599999999,274.22627,277.86279200000001,281.53169000000003,286.68447200000003,289.84169800000001,291.50791200000003,291.44350799999995,288.98818399999993,285.47631799999999,280.17485199999999,276.42402400000003]
["52","ÇAMAŞ",null,null,"ORDU",null,"ORDU","ORDUÇAMAŞ",276.45287999999999,276.89619199999999,279.86747600000001,282.50903600000004,287.57939399999998,291.16708800000004,293.104784,293.22046,290.59443199999998,287.16928999999999,282.652198,279.54589999999996]
["52","ÇATALPINAR",null,null,"ORDU",null,"ORDU","ORDUÇATALPINAR",279.26415750000001,279.19305250000002,281.52801249999999,283.70378999999997,288.65649250000001,292.882565,295.80145249999998,295.9362175,293.20263749999998,289.34136999999998,284.87982249999999,282.11194499999999]
["52","ÇAYBAŞI",null,null,"ORDU",null,"ORDU","ORDUÇAYBAŞI",276.44350600000001,276.98251800000003,279.881934,282.77231,288.01337799999999,291.79639000000003,293.79111399999999,293.89428800000002,291.27490399999999,287.72866199999999,282.97797800000001,279.62050799999997]
["52","FATSA",null,null,"ORDU",null,"ORDU","ORDUFATSA",278.06934000000001,278.14129249999996,280.88250749999997,283.07245,287.920165,291.78247249999998,294.60516749999999,294.6613175,291.990725,288.18951250000003,283.71282999999994,280.94153]
["52","GÖLKÖY",null,null,"ORDU",null,"ORDU","ORDUGÖLKÖY",273.15600000000001,274.08212199999997,277.51786600000003,281.17114200000003,286.29228599999999,289.49599599999999,291.17861000000005,291.16772600000002,288.70732600000002,285.16655400000002,279.917822,276.27324199999998]
["52","GÜLYALI",null,null,"ORDU",null,"ORDU","ORDUGÜLYALI",277.66943249999997,277.946955,281.126645,283.45086750000002,288.29370249999999,291.834225,294.46551499999998,294.45330999999999,292.03125,288.25885,283.61321999999996,280.65637499999997]
["52","GÜRGENTEPE",null,null,"ORDU",null,"ORDU","ORDUGÜRGENTEPE",274.79038200000002,275.63798800000001,278.88818800000001,281.91684599999996,286.99931800000002,290.32880799999998,292.12274800000006,292.17475200000001,289.64130799999998,286.16967599999998,281.29906999999997,278.04551400000003]
["52","İKİZCE",null,null,"ORDU",null,"ORDU","ORDUİKİZCE",278.41015000000004,278.64813500000002,281.44208000000003,283.78923750000001,288.87084749999997,292.84350500000005,295.61346750000001,295.71258749999998,292.96728250000001,289.02936,284.29241999999999,281.36144999999999]
["52","KABADÜZ(KARADÜZ)",null,null,"ORDU",null,"ORDU","ORDUKABADÜZ(KARADÜZ)",277.75781499999999,278.05096500000002,281.43426499999998,283.59588500000001,288.38305750000001,291.74585250000001,294.31707500000005,294.30535750000001,291.85253749999998,288.11432000000002,283.5751325,280.77942250000001]
["52","KABATAŞ",null,null,"ORDU",null,"ORDU","ORDUKABATAŞ",274.89975400000003,275.76064600000001,279.25302799999997,282.39731399999999,287.55947400000002,290.76787200000001,292.44775600000003,292.46381600000001,289.913186,286.57358400000004,281.69633800000003,278.20410000000004]
["52","KORGAN",null,null,"ORDU",null,"ORDU","ORDUKORGAN",274.17592999999999,275.15088000000003,278.61396200000001,281.97153200000002,287.19931800000001,290.40146199999998,292.09853199999998,292.10522400000002,289.55771199999998,286.16187000000002,281.16040199999998,277.52167399999996]
["52","KUMRU",null,null,"ORDU",null,"ORDU","ORDUKUMRU",275.96850599999999,276.58955200000003,279.63271400000002,282.469582,287.65166199999999,291.11357400000003,292.93915800000002,293.02905199999998,290.42021,287.06303800000001,282.41313600000001,279.16035199999999]
["52","MESUDİYE",null,null,"ORDU",null,"ORDU","ORDUMESUDİYE",269.36616199999997,270.43838,274.35263599999996,278.827,284.59931599999999,287.86122999999998,289.77470400000004,289.73764799999998,287.32177600000006,283.28100599999999,277.02211399999999,272.10996]
["52","ORDU",null,null,"ORDU",null,"ORDU","ORDUORDU",277.75781499999999,278.05096500000002,281.43426499999998,283.59588500000001,288.38305750000001,291.74585250000001,294.31707500000005,294.30535750000001,291.85253749999998,288.11432000000002,283.5751325,280.77942250000001]
["52","PERŞEMBE",null,null,"ORDU",null,"ORDU","ORDUPERŞEMBE",277.31030199999998,277.72782999999998,280.66591799999998,283.13754599999999,288.179396,291.79639000000003,293.75556599999999,293.86655200000001,291.357326,287.94584999999995,283.45532199999997,280.37168000000003]
["52","ULUBEY",null,null,"ORDU",null,"ORDU","ORDUULUBEY",277.31030199999998,277.72782999999998,280.66591799999998,283.13754599999999,288.179396,291.79639000000003,293.75556599999999,293.86655200000001,291.357326,287.94584999999995,283.45532199999997,280.37168000000003]
["52","ÜNYE",null,null,"ORDU",null,"ORDU","ORDUÜNYE",279.26415750000001,279.19305250000002,281.52801249999999,283.70378999999997,288.65649250000001,292.882565,295.80145249999998,295.9362175,293.20263749999998,289.34136999999998,284.87982249999999,282.11194499999999]
["53","ARDEŞEN",null,null,"RİZE",null,"RİZE","RİZEARDEŞEN",277.99804499999999,278.58612500000004,281.48553749999996,284.36932000000002,289.21069249999999,292.42553750000002,294.69891000000001,294.75116000000003,293.02050500000001,289.40386999999998,284.37347499999998,281.13684000000001]
["53","ÇAMLIHEMŞİN",null,null,"RİZE",null,"RİZE","RİZEÇAMLIHEMŞİN",273.22866199999999,274.04736199999996,276.84755999999999,280.36723599999999,286.19970599999999,289.75146600000005,291.43564399999997,291.58959999999996,289.297954,285.43647599999997,279.99751400000002,275.812702]
["53","ÇAYELİ",null,null,"RİZE",null,"RİZE","RİZEÇAYELİ",277.99463000000003,278.11737249999999,280.89959750000003,283.46649249999996,288.30688250000003,292.03540000000004,294.56512499999997,294.62859500000002,292.60595499999999,288.80035750000002,283.96185250000002,280.78088250000002]
["53","DEREPAZARI",null,null,"RİZE",null,"RİZE","RİZEDEREPAZARI",278.23291499999999,278.42059749999999,281.30096750000001,283.81170750000001,288.51000499999998,292.3483875,294.92156999999997,294.90886999999998,292.82080000000002,288.97125,284.2611675,280.96105999999997]
["53","FINDIKLI",null,null,"RİZE",null,"RİZE",{"$f":"G787&B787","v":"RİZEFINDIKLI"},276.05327400000004,276.48837800000001,279.21122600000001,282.41293999999999,287.54150600000003,291.05576000000002,292.83915999999999,292.91772200000003,290.69130999999999,287.20092599999998,282.32251000000002,278.81464799999998]
["53","GÜNEYSU",null,null,"RİZE",null,"RİZE","RİZEGÜNEYSU",276.27392500000002,276.65448249999997,279.56122500000004,282.44940750000001,287.25805750000001,290.97631749999999,293.54314750000003,293.54461749999996,291.38818249999997,287.3760375,282.442815,279.00109750000001]
["53","HEMŞİN",null,null,"RİZE",null,"RİZE","RİZEHEMŞİN",277.39794749999999,277.97576750000002,280.82488999999998,283.61834750000003,288.52709499999997,291.91626000000002,294.26825250000002,294.30389500000001,292.43408499999998,288.65631000000002,283.66595500000005,280.37902500000001]
["53","İKİZDERE",null,null,"RİZE",null,"RİZE","RİZEİKİZDERE",271.65092400000003,272.34267599999998,275.221384,278.90904,284.67470800000001,288.16357400000004,289.93212400000004,290.00873799999999,287.53896400000002,283.61929200000003,278.02446399999997,274.22754199999997]
["53","İYİDERE",null,null,"RİZE",null,"RİZE","RİZEİYİDERE",278.23291499999999,278.42059749999999,281.30096750000001,283.81170750000001,288.51000499999998,292.3483875,294.92156999999997,294.90886999999998,292.82080000000002,288.97125,284.2611675,280.96105999999997]
["53","KALKANDERE",null,null,"RİZE",null,"RİZE","RİZEKALKANDERE",277.18608399999999,277.57392599999997,280.30068399999999,283.28911200000005,288.35712799999999,291.914354,293.71806200000003,293.78334800000005,291.60498000000001,288.22123999999997,283.47212200000001,280.01464799999997]
["53","PAZAR",null,null,"RİZE",null,"RİZE","RİZEPAZAR",277.99804499999999,278.58612500000004,281.48553749999996,284.36932000000002,289.21069249999999,292.42553750000002,294.69891000000001,294.75116000000003,293.02050500000001,289.40386999999998,284.37347499999998,281.13684000000001]
["53","RİZE",null,null,"RİZE",null,"RİZE","RİZERİZE",277.48632750000002,277.74285750000001,280.64910750000001,283.28143249999999,288.02612249999999,291.82348500000001,294.39569000000006,294.39178250000003,292.28174000000001,288.36774000000003,283.58196749999996,280.23693749999995]
["54","ADAPAZARI",null,null,"SAKARYA",null,"SAKARYA","SAKARYAADAPAZARI",277.42163399999998,279.36494400000004,282.00615200000004,285.11567600000001,290.51025400000003,294.23389200000003,296.07236599999999,296.53686399999998,293.52294799999999,289.00834599999996,284.49868000000004,280.741604]
["54","AKYAZI",null,null,"SAKARYA",null,"SAKARYA","SAKARYAAKYAZI",276.79898000000003,278.89229000000006,281.70341599999995,284.98208200000005,290.34540800000002,293.69130999999999,295.54892800000005,295.94311200000004,293.03701199999995,288.54116400000004,283.84282400000001,280.18418000000003]
["54","ARİFİYE",null,null,"SAKARYA",null,"SAKARYA","SAKARYAARİFİYE",276.36811599999999,278.48759799999999,281.370608,284.78481399999998,290.10907800000001,293.55185600000004,295.46963199999999,295.89975399999997,292.96708999999998,288.37553599999995,283.70414599999998,279.64159799999999]
["54","ERENLER",null,null,"SAKARYA",null,"SAKARYA","SAKARYAERENLER",277.42163399999998,279.36494400000004,282.00615200000004,285.11567600000001,290.51025400000003,294.23389200000003,296.07236599999999,296.53686399999998,293.52294799999999,289.00834599999996,284.49868000000004,280.741604]
["54","FERİZLİ",null,null,"SAKARYA",null,"SAKARYA","SAKARYAFERİZLİ",277.50248999999997,279.12860999999998,281.53818000000001,284.39184599999999,289.87783000000002,293.79443199999997,295.75283200000001,296.24233400000003,293.225686,288.72163399999999,284.34438799999998,280.723634]
["54","GEYVE",null,null,"SAKARYA",null,"SAKARYA","SAKARYAGEYVE",274.84506799999997,277.25243799999998,280.28349400000008,284.03911399999998,289.35907800000001,292.62763600000005,294.79501799999997,295.17788200000001,292.18896799999999,287.54155000000003,282.31860799999998,277.94277799999998]
["54","HENDEK",null,null,"SAKARYA",null,"SAKARYA","SAKARYAHENDEK",276.31147199999998,278.29619000000002,280.98701199999994,284.02114,289.39580000000001,292.983496,294.87431800000002,295.33764600000001,292.342872,287.94311600000003,283.325244,279.64980800000001]
["54","KARAPÜRÇEK",null,null,"SAKARYA",null,"SAKARYA","SAKARYAKARAPÜRÇEK",274.54155200000002,276.64345800000001,279.60029000000003,283.21606200000002,288.52939400000002,291.662014,293.94385199999999,294.46108599999997,291.42802399999994,286.67241200000001,281.84360200000003,277.72363200000001]
["54","KARASU",null,null,"SAKARYA",null,"SAKARYA","SAKARYAKARASU",278.94385,279.96356499999996,281.56659000000002,284.01288,289.2561025,293.73462499999999,296.54168749999997,297.056825,294.13183250000003,289.69732499999998,285.26898249999999,282.03430249999997]
["54","KAYNARCA",null,null,"SAKARYA",null,"SAKARYA","SAKARYAKAYNARCA",277.81889799999999,279.28681599999999,281.45224399999995,284.28481399999998,289.87392400000004,294.08818400000001,296.30751599999996,296.88881800000001,293.76396599999998,289.11108200000001,284.81665400000003,280.88652399999995]
["54","KOCAALİ",null,null,"SAKARYA",null,"SAKARYA","SAKARYAKOCAALİ",278.94385,279.96356499999996,281.56659000000002,284.01288,289.2561025,293.73462499999999,296.54168749999997,297.056825,294.13183250000003,289.69732499999998,285.26898249999999,282.03430249999997]
["54","PAMUKOVA",null,null,"SAKARYA",null,"SAKARYA","SAKARYAPAMUKOVA",275.29741000000001,277.70791199999996,280.71904000000001,284.45668999999998,289.776656,293.09990399999998,295.17040799999995,295.51147200000003,292.57451000000003,288.00951800000001,282.79789800000003,278.43770000000001]
["54","SAPANCA",null,null,"SAKARYA",null,"SAKARYA","SAKARYASAPANCA",276.36421400000006,278.277828,281.030756,284.45669400000003,289.81650199999996,293.30341800000002,295.254006,295.70131800000001,292.78153800000001,288.23803800000002,283.59634,279.50996000000004]
["54","SERDİVAN",null,null,"SAKARYA",null,"SAKARYA","SAKARYASERDİVAN",277.42163399999998,279.36494400000004,282.00615200000004,285.11567600000001,290.51025400000003,294.23389200000003,296.07236599999999,296.53686399999998,293.52294799999999,289.00834599999996,284.49868000000004,280.741604]
["54","SÖĞÜTLÜ",null,null,"SAKARYA",null,"SAKARYA","SAKARYASÖĞÜTLÜ",277.50248999999997,279.12860999999998,281.53818000000001,284.39184599999999,289.87783000000002,293.79443199999997,295.75283200000001,296.24233400000003,293.225686,288.72163399999999,284.34438799999998,280.723634]
["54","TARAKLI",null,null,"SAKARYA",null,"SAKARYA","SAKARYATARAKLI",273.549756,276.08916200000004,279.11552799999998,282.92895600000008,288.30282999999997,291.51474799999994,294.17743999999999,294.62202200000002,291.31904199999997,286.41303800000003,280.93422600000002,276.63418000000001]
["55","ALAÇAM",null,null,"SAMSUN",null,"SAMSUN","SAMSUNALAÇAM",277.39306750000003,277.99481500000002,280.65203250000002,283.15350250000006,288.37280250000003,292.24145499999997,295.63202000000001,295.68280000000004,292.52538750000002,288.13287500000001,282.91644500000001,280.06115499999999]
["55","ASARCIK",null,null,"SAMSUN",null,"SAMSUN","SAMSUNASARCIK",273.87162799999999,275.57822399999998,278.56318199999998,282.036766,287.30908200000005,290.61513400000001,292.55283199999997,292.66694799999993,289.94521800000001,286.297414,280.78618599999999,277.00878999999998]
["55","ATAKUM",null,null,"SAMSUN",null,"SAMSUN","SAMSUNATAKUM",278.44579749999997,278.953305,281.21893749999998,283.40398500000003,288.49780500000003,292.68091500000003,295.83416999999997,295.99334750000003,292.97314249999999,288.84137250000003,284.04583500000001,281.31457749999998]
["55","AYVACIK",null,null,"SAMSUN",null,"SAMSUN","SAMSUNAYVACIK",275.25443800000005,276.70322199999998,279.86474600000003,283.05747199999996,288.36338000000001,291.97294600000004,293.97783399999997,294.01811400000003,291.25420199999996,287.48217599999998,282.12797799999998,278.44824200000005]
["55","BAFRA",null,null,"SAMSUN",null,"SAMSUN","SAMSUNBAFRA",280.09194600000001,280.065336,281.77880599999997,284.08168599999999,289.24462800000003,294.125294,297.015332,297.19506799999999,294.26865400000003,290.24506600000001,285.76664999999991,282.76347800000002]
["55","CANİK",null,null,"SAMSUN",null,"SAMSUN","SAMSUNCANİK",278.44579749999997,278.953305,281.21893749999998,283.40398500000003,288.49780500000003,292.68091500000003,295.83416999999997,295.99334750000003,292.97314249999999,288.84137250000003,284.04583500000001,281.31457749999998]
["55","ÇARŞAMBA",null,null,"SAMSUN",null,"SAMSUN","SAMSUNÇARŞAMBA",279.01109000000002,279.53369000000004,281.80576200000007,284.34575400000006,289.64541200000002,294.07216599999998,296.48837800000001,296.67632000000003,293.74795,289.80014,285.03813600000001,281.78340399999996]
["55","HAVZA",null,null,"SAMSUN",null,"SAMSUN","SAMSUNHAVZA",273.973972,275.97861,279.03154000000006,282.66645600000004,288.13095600000003,291.46825999999999,293.91337800000002,293.903662,290.94600200000002,286.83139400000005,280.454542,276.41464800000006]
["55","İLKADIM",null,null,"SAMSUN",null,"SAMSUN","SAMSUNİLKADIM",278.44579749999997,278.953305,281.21893749999998,283.40398500000003,288.49780500000003,292.68091500000003,295.83416999999997,295.99334750000003,292.97314249999999,288.84137250000003,284.04583500000001,281.31457749999998]
["55","KAVAK",null,null,"SAMSUN",null,"SAMSUN","SAMSUNKAVAK",274.44976000000003,276.017674,278.84326399999998,282.14614399999999,287.54072399999995,290.87294600000001,292.91103400000003,293.06733199999996,290.14404200000001,286.451324,280.934234,277.42519399999998]
["55","LADİK",null,null,"SAMSUN",null,"SAMSUN","SAMSUNLADİK",272.07007000000004,274.15634600000004,277.04717199999999,280.83051599999999,286.11963000000003,289.32880599999999,291.60048599999993,291.60444399999994,288.99873399999996,285.07319200000001,279.119778,274.98105399999997]
["55","ONDOKUZMAYIS(BALLICA)",null,null,"SAMSUN",null,"SAMSUN","SAMSUNONDOKUZMAYIS(BALLICA)",279.1591775,279.39227499999998,281.5021375,283.62811499999998,288.77074999999996,293.26440000000002,296.79412000000002,296.85857999999996,293.76562000000001,289.41852249999999,284.57757500000002,281.87854000000004]
["55","SALIPAZARI",null,null,"SAMSUN",null,"SAMSUN","SAMSUNSALIPAZARI",277.64936599999999,278.37353400000001,281.20967000000002,284.042238,289.37236199999995,293.42763399999995,295.645804,295.72592999999995,292.88271399999996,289.00366000000002,284.00493399999993,280.57793000000004]
["55","TEKKEKÖY",null,null,"SAMSUN",null,"SAMSUN","SAMSUNTEKKEKÖY",277.81103999999999,278.55291999999997,281.22820999999999,283.57342500000004,288.76342750000003,292.68725500000005,295.6378775,295.77801499999998,292.76172000000003,288.59332499999999,283.64642250000003,280.73498499999999]
["55","TERME",null,null,"SAMSUN",null,"SAMSUN","SAMSUNTERME",279.7002,279.89276000000001,282.19647500000002,284.49871999999999,289.61059499999999,293.88355000000001,296.79998749999999,296.93768250000005,294.06299000000001,290.0498675,285.41888499999999,282.46691749999997]
["55","VEZİRKÖPRÜ",null,null,"SAMSUN",null,"SAMSUN","SAMSUNVEZİRKÖPRÜ",274.34155399999997,276.17549199999996,279.33076,283.11567400000001,288.539942,291.80263600000001,294.51845800000001,294.49936400000001,291.45927799999998,287.08217400000001,280.67055199999999,276.47870799999998]
["55","YAKAKENT",null,null,"SAMSUN",null,"SAMSUN","SAMSUNYAKAKENT",276.30908250000005,277.08856500000002,279.90399000000002,282.65252999999996,287.89330749999999,291.63940250000002,295.04510749999997,295.06268249999999,291.83593999999999,287.31744500000002,281.92523249999999,278.98547250000001]
["56","AYDINLAR",null,null,"SİİRT",null,"SİİRT","SİİRTAYDINLAR",273.93100800000002,275.47822000000002,280.344044,285.296922,291.480954,298.03232599999996,302.42197599999997,301.98452399999996,297.50381199999998,290.15874200000002,282.07446200000004,277.11699200000004]
["56","BAYKAN",null,null,"SİİRT",null,"SİİRT","SİİRTBAYKAN",272.67671199999995,274.32197400000001,278.81161599999996,283.89458400000001,290.35322200000002,296.93896000000001,301.29111,300.87748799999997,296.50615200000004,289.19311799999997,280.95649399999996,275.88261800000004]
["56","ERUH",null,null,"SİİRT",null,"SİİRT","SİİRTERUH",272.67319400000008,274.43408600000004,279.13271199999997,284.15590800000001,290.44111399999997,296.87373199999996,301.35829999999999,301.01030000000003,296.56904399999996,289.13960200000002,281.19555600000001,276.08691400000004]
["56","KURTALAN",null,null,"SİİRT",null,"SİİRT","SİİRTKURTALAN",275.98413199999999,277.381348,281.745994,286.40707999999995,292.38369,298.76240199999995,303.10516999999999,302.72358400000002,298.25380999999999,291.20327400000002,283.21899000000002,278.63730399999997]
["56","PERVARİ",null,null,"SİİRT",null,"SİİRT","SİİRTPERVARİ",268.69038,270.87588,275.36201199999994,280.07426599999997,286.88564400000007,293.15849799999995,297.56962999999996,297.19819999999999,292.92021400000004,285.57827200000003,277.88110400000005,272.35175799999996]
["56","SİİRT",null,null,"SİİRT",null,"SİİRT","SİİRTSİİRT",275.425928,276.97744399999999,281.51825999999994,286.35317599999996,292.38486399999999,298.80771400000003,303.18251399999997,302.81263999999999,298.32138599999996,291.10483599999998,283.08383799999996,278.28848200000004]
["56","ŞİRVAN",null,null,"SİİRT",null,"SİİRT","SİİRTŞİRVAN",272.74507000000006,274.38173400000005,279.067094,284.07778000000002,290.382518,296.92372999999998,301.31063999999998,300.86147400000004,296.443264,289.12866399999996,281.04009000000002,275.934572]
["57","AYANCIK",null,null,"SİNOP",null,"SİNOP","SİNOPAYANCIK",277.20702499999999,277.80828499999996,280.52117999999996,283.44403250000005,288.27368250000001,292.11255,295.08221500000002,295.16765999999996,292.16601500000002,288.04693499999996,282.95843500000001,280.307255]
["57","BOYABAT",null,null,"SİNOP",null,"SİNOP","SİNOPBOYABAT",275.30757400000005,277.15127200000001,280.57333799999998,284.46372000000002,290.08056799999997,293.53193200000004,295.88329599999997,295.64585,292.253806,288.15444400000001,281.646726,277.78027600000001]
["57","DİKMEN",null,null,"SİNOP",null,"SİNOP","SİNOPDİKMEN",275.54541,276.49139500000001,279.60759999999999,282.53436249999999,287.75268249999999,291.48022500000002,294.88495,294.94647750000001,291.49658249999999,286.89703499999996,281.34173750000002,278.39465249999995]
["57","DURAĞAN",null,null,"SİNOP",null,"SİNOP","SİNOPDURAĞAN",274.58178400000003,276.41181799999993,279.69365600000003,283.50746800000007,289.09072000000003,292.56123399999996,295.14462999999995,295.05717599999997,291.66435999999999,287.35092800000001,280.91587199999998,276.84512000000001]
["57","ERFELEK",null,null,"SİNOP",null,"SİNOP","SİNOPERFELEK",277.0029275,277.7125825,280.63446249999998,283.48553500000003,288.59155750000002,292.64624249999997,295.97186499999998,296.09051750000003,292.64990249999994,288.09527750000001,282.73821499999997,279.82092]
["57","GERZE",null,null,"SİNOP",null,"SİNOP","SİNOPGERZE",277.07749200000001,277.70361600000001,280.23857400000003,283.31450000000001,288.61806799999999,292.81553199999996,295.44697600000001,295.68334999999996,292.35693200000003,288.07709799999998,282.980324,279.77246200000002]
["57","SARAYDÜZÜ",null,null,"SİNOP",null,"SİNOP","SİNOPSARAYDÜZÜ",274.21225599999997,276.09072199999997,279.33818600000001,283.43051800000001,288.87197000000003,292.18701199999998,294.90790600000003,294.65834800000005,291.48544800000002,287.03842399999996,280.54086800000005,276.49198999999999]
["57","SİNOP",null,null,"SİNOP",null,"SİNOP","SİNOPSİNOP",278.88378750000004,279.24675999999999,281.7663,284.306825,289.5188,293.804935,297.24627750000002,297.43963500000001,293.99121000000002,289.48590250000001,284.37152000000003,281.62756250000001]
["57","TÜRKELİ",null,null,"SİNOP",null,"SİNOP","SİNOPTÜRKELİ",277.1328125,277.80096750000001,280.23699999999997,283.19207999999998,287.91040249999998,291.68481499999996,294.50751000000002,294.52459750000003,291.72412000000003,287.84234749999996,282.82904000000002,280.34631000000002]
["58","AKINCILAR",null,null,"SİVAS",null,"SİVAS","SİVASAKINCILAR",268.77163000000002,270.83877600000005,274.94951199999997,281.39028399999995,287.25127200000003,291.192094,293.80127600000003,293.65991399999996,291.27880999999996,286.29194199999995,278.07875799999999,271.36777000000001]
["58","ALTINYAYLA",null,null,"SİVAS",null,"SİVAS","SİVASALTINYAYLA",268.08960399999995,269.77939200000003,275.00888799999996,280.25942399999997,285.68486400000006,289.75654399999996,293.04853800000001,292.68217599999997,289.79639000000003,284.15170599999999,276.93969800000002,271.49511799999999]
["58","DİVRİĞİ",null,null,"SİVAS",null,"SİVAS","SİVASDİVRİĞİ",269.56499199999996,271.43798600000002,276.583888,282.37934199999995,287.97040600000003,292.53545199999996,296.061038,295.89741199999992,292.92021199999999,286.90639599999997,278.90141799999998,272.908008]
["58","DOĞANŞAR",null,null,"SİVAS",null,"SİVAS","SİVASDOĞANŞAR",268.72983199999999,270.15009600000002,274.24560600000001,279.15630400000003,284.64189199999998,288.31474400000008,290.86260000000004,290.83764600000001,288.46747999999997,283.69311399999998,276.95141799999999,271.45566199999996]
["58","GEMEREK",null,null,"SİVAS",null,"SİVAS","SİVASGEMEREK",270.15561399999996,272.35791,277.43037199999998,282.68872199999998,288.37626799999998,292.30928000000006,295.49384799999996,294.91381999999999,292.34599599999996,286.822024,279.28774599999997,273.77011600000003]
["58","GÖLOVA",null,null,"SİVAS",null,"SİVAS","SİVASGÖLOVA",267.08725399999997,269.10595799999999,273.54834199999999,279.78246999999999,285.65165999999999,290.09247799999997,293.13213000000007,292.99546199999997,290.09247999999997,284.57983400000001,276.527196,269.78886799999998]
["58","GÜRÜN",null,null,"SİVAS",null,"SİVAS","SİVASGÜRÜN",267.60717800000003,269.51259400000004,274.31630600000005,280.31645200000003,285.778614,290.03779400000002,293.71923799999996,293.43764599999997,290.346386,284.60952200000003,277.31039999999996,271.41425799999996]
["58","HAFİK",null,null,"SİVAS",null,"SİVAS",{"$f":"G851&B851","v":"SİVASHAFİK"},268.88999200000001,270.42079799999999,275.24209000000002,280.53168600000004,286.15830199999999,289.95498200000003,292.30282999999997,292.24507000000006,289.92841800000002,284.85444399999994,277.60805399999998,271.68379199999998]
["58","İMRANLI",null,null,"SİVAS",null,"SİVAS","SİVASİMRANLI",267.73491200000001,269.645802,273.43622999999997,279.20434999999998,284.99072200000001,289.07490200000001,292.24033200000002,292.34663399999999,289.60537199999999,284.17475400000001,276.61938399999997,270.49003800000003]
["58","KANGAL",null,null,"SİVAS",null,"SİVAS","SİVASKANGAL",267.79233800000003,269.380178,274.55185200000005,280.229736,285.78564,290.02568200000007,293.44697400000001,293.13100599999996,290.14287400000001,284.47358800000001,277.04477600000001,271.41659599999991]
["58","KOYULHİSAR",null,null,"SİVAS",null,"SİVAS","SİVASKOYULHİSAR",269.30874200000005,271.005562,275.00967000000003,280.28715799999998,285.88134600000001,289.48427600000002,291.76416000000006,291.68920600000001,289.52295000000004,285.03491400000001,277.81743199999994,272.09550999999999]
["58","SİVAS",null,null,"SİVAS",null,"SİVAS","SİVASSİVAS",269.16264200000001,270.83095600000007,276.17490200000003,281.07817,286.60830400000003,290.50654199999997,293.20595999999995,292.92280399999999,290.17880600000001,284.831008,277.65337200000005,272.50488000000001]
["58","SUŞEHRİ",null,null,"SİVAS",null,"SİVAS","SİVASSUŞEHRİ",269.28725800000001,271.22822400000001,275.199118,281.34692200000001,287.15244199999995,290.96395999999999,293.32549,293.23685999999998,290.97958800000004,286.28101000000004,278.32094599999999,271.89394599999997]
["58","ŞARKIŞLA",null,null,"SİVAS",null,"SİVAS","SİVASŞARKIŞLA",269.54155200000002,271.46493799999996,276.62490399999996,281.80043799999999,287.353612,291.21435200000008,294.22314399999999,293.78491599999995,291.14443599999998,285.78101000000004,278.42445800000002,272.93613199999999]
["58","ULAŞ",null,null,"SİVAS",null,"SİVAS","SİVASULAŞ",268.208348,269.86455200000006,275.46162199999998,280.85786200000001,286.27158000000003,290.37138599999997,293.44227999999998,293.09936400000004,290.38115000000005,284.69389200000001,277.288522,271.56699400000002]
["58","YILDIZELİ",null,null,"SİVAS",null,"SİVAS","SİVASYILDIZELİ",269.03726,270.70439399999998,275.59833600000002,280.27075400000001,285.64736199999999,289.13388400000002,291.97197199999999,291.78217800000004,289.17998,284.25717600000002,277.34828800000003,272.48456999999996]
["58","ZARA",null,null,"SİVAS",null,"SİVAS","SİVASZARA",268.36225999999999,270.10946999999999,274.47412399999996,280.21645799999999,285.99150400000002,290.02998200000002,292.54658000000001,292.654832,290.30536999999998,285.02319199999999,277.43501200000003,271.03535399999998]
["59","ÇERKEZKÖY",null,null,"TEKİRDAĞ",null,"TEKİRDAĞ","TEKİRDAĞÇERKEZKÖY",277.59740799999997,279.09228399999995,281.17841600000003,284.15747199999998,289.86377399999998,294.41865399999995,296.77392600000002,297.30249200000003,293.854198,288.75952399999994,284.78696400000001,280.86855400000002]
["59","ÇORLU",null,null,"TEKİRDAĞ",null,"TEKİRDAĞ","TEKİRDAĞÇORLU",277.54389599999996,279.20478800000001,281.41005400000006,284.57036000000005,290.41493600000001,295.15420000000006,297.61181599999998,297.96733400000005,294.24521000000004,288.847804,284.83461999999997,280.798632]
["59","HAYRABOLU",null,null,"TEKİRDAĞ",null,"TEKİRDAĞ","TEKİRDAĞHAYRABOLU",277.16108399999996,279.39814799999999,282.10732399999995,285.39535999999998,291.22939800000006,295.90107399999999,298.46181400000006,298.75756799999999,294.80732399999999,288.81303600000001,284.49438800000001,280.58691800000003]
["59","MALKARA",null,null,"TEKİRDAĞ",null,"TEKİRDAĞ","TEKİRDAĞMALKARA",277.53178800000001,279.53486399999997,282.18740200000002,285.40551799999997,290.97158200000001,295.69912399999998,298.50205400000004,298.89506799999998,294.83310399999999,288.96734000000004,284.683832,280.80136400000004]
["59","MARMARAEREĞLİSİ",null,null,"TEKİRDAĞ",null,"TEKİRDAĞ","TEKİRDAĞMARMARAEREĞLİSİ",279.31303600000001,280.23719799999998,282.16787199999999,284.98755199999994,290.61963000000003,295.390918,297.94502,298.43881599999997,295.04443200000003,290.19233200000002,286.36743200000001,282.47480800000005]
["59","MURATLI",null,null,"TEKİRDAĞ",null,"TEKİRDAĞ","TEKİRDAĞMURATLI",277.30014799999998,279.29033199999998,281.63545199999999,284.85551599999997,290.67236200000002,295.43232399999999,297.88407999999993,298.19507199999998,294.38232400000004,288.79545599999994,284.67290000000003,280.63496399999997]
["59","SARAY",null,null,"TEKİRDAĞ",null,"TEKİRDAĞ","TEKİRDAĞSARAY",277.31733400000002,278.96298999999999,281.17568199999994,284.18872599999997,289.85244399999999,294.37685599999998,296.63212800000002,297.18725599999999,293.76982399999997,288.60835399999996,284.59087,280.60058600000002]
["59","ŞARKÖY",null,null,"TEKİRDAĞ",null,"TEKİRDAĞ","TEKİRDAĞŞARKÖY",278.44995,278.84154999999998,282.22534000000002,284.32373000000001,290.82567999999998,296.19580000000002,296.85131999999999,297.69922000000003,294.47217000000001,290.57080000000002,288.21436,282.06885]
["59","TEKİRDAĞ",null,null,"TEKİRDAĞ",null,"TEKİRDAĞ","TEKİRDAĞTEKİRDAĞ",278.08139599999998,279.66416400000003,281.87919999999997,284.91684799999996,290.54696799999999,295.27841599999999,297.88525399999997,298.27632400000005,294.64013999999997,289.36069600000002,285.27641199999999,281.36230599999999]
["60","ALMUS",null,null,"TOKAT",null,"TOKAT","TOKATALMUS",272.26577400000002,274.25009800000004,278.54638400000005,282.75903200000005,288.13369599999999,291.40575999999999,293.54189200000002,293.18569600000006,291.03349600000001,286.98452599999996,280.25610400000005,275.48965200000004]
["60","ARTOVA",null,null,"TOKAT",null,"TOKAT","TOKATARTOVA",270.398976,272.68134599999996,277.15810799999997,281.21606000000003,286.60439799999995,290.11943600000001,292.97353199999998,292.730616,290.06201199999998,285.29975200000001,278.29321399999998,274.006056]
["60","BAŞÇİFTLİK",null,null,"TOKAT",null,"TOKAT","TOKATBAŞÇİFTLİK",270.51889599999998,271.39150599999999,275.23739999999998,279.26997399999999,284.59775400000001,288.15263800000002,290.204002,290.19624199999998,287.63466399999999,283.54389599999996,277.67290399999996,273.388868]
["60","ERBAA",null,null,"TOKAT",null,"TOKAT","TOKATERBAA",274.58530200000001,276.68876999999998,280.410056,284.05200200000002,289.45244399999996,292.56240600000001,294.23329999999999,294.04428399999995,291.63584400000002,288.10990800000002,281.96430799999996,277.90839999999997]
["60","NİKSAR",null,null,"TOKAT",null,"TOKAT","TOKATNİKSAR",272.67123800000002,274.105952,278.22139000000004,282.07504799999998,287.53877199999999,290.86787200000003,292.591114,292.35600800000003,290.01084200000003,286.30678999999998,280.10063200000002,275.78769600000004]
["60","PAZAR",null,null,"TOKAT",null,"TOKAT","TOKATPAZAR",272.63490999999999,275.47314599999999,279.31319000000002,283.266458,288.69111400000003,292.091702,294.494236,294.278662,291.75693000000001,287.35913199999999,280.21001200000001,275.95215200000001]
["60","REŞADİYE",null,null,"TOKAT",null,"TOKAT","TOKATREŞADİYE",272.30834800000002,275.10361799999998,278.63466800000003,282.83950599999997,288.438378,292.02607599999999,294.83447799999999,294.43296199999997,291.52919400000002,286.71030000000002,279.43813800000004,275.194726]
["60","SULUSARAY",null,null,"TOKAT",null,"TOKAT","TOKATSULUSARAY",270.72592599999996,273.14892199999997,277.52646400000003,281.64926600000001,287.22354000000001,290.83505400000001,293.70596,293.28179,290.483498,285.57866399999995,278.43852400000003,274.21894600000002]
["60","TOKAT",null,null,"TOKAT",null,"TOKAT","TOKATTOKAT",271.84233600000005,274.35712799999999,278.41123200000004,282.441846,287.77626599999996,291.265918,293.672754,293.525148,291.02217000000002,286.627882,279.62056000000001,275.17832000000004]
["60","TURHAL",null,null,"TOKAT",null,"TOKAT","TOKATTURHAL",273.97748799999999,276.75361600000002,280.32959599999998,284.21762799999999,289.86181799999997,293.31005199999998,295.51181800000001,295.17202000000003,292.53310999999997,288.26694599999996,281.24438399999997,277.05253800000003]
["60","YEŞİLYURT",null,null,"TOKAT",null,"TOKAT","TOKATYEŞİLYURT",270.50561800000003,272.813378,277.42138399999999,281.55200200000002,287.07743999999997,290.62959000000001,293.45088199999998,293.08842999999996,290.38701199999997,285.53959799999996,278.41157599999997,274.125586]
["60","ZİLE",null,null,"TOKAT",null,"TOKAT","TOKATZİLE",272.63530400000002,275.46532999999999,278.90341599999999,283.01450599999998,288.65752000000003,292.41630799999996,295.06454999999994,294.71694200000002,291.79873200000003,287.04702200000003,279.81469400000003,275.593548]
["61","AKÇAABAT",null,null,"TRABZON",null,"TRABZON","TRABZONAKÇAABAT",277.42676,277.65399500000001,280.59637750000002,283.14374250000003,287.88403499999998,291.62231250000002,294.46502750000002,294.40789749999999,292.12451250000004,288.11480999999998,283.29095000000001,280.14758749999999]
["61","ARAKLI",null,null,"TRABZON",null,"TRABZON","TRABZONARAKLI",277.83886749999999,278.05877749999996,281.37079,283.99676499999998,288.63305749999995,292.00707750000004,294.54949999999997,294.44842499999999,292.34667999999999,288.56890750000002,283.842715,280.79016000000001]
["61","ARSİN",null,null,"TRABZON",null,"TRABZON","TRABZONARSİN",277.71630749999997,278.00310999999999,281.0768425,283.67938249999997,288.32251000000002,291.78783999999996,294.45086499999996,294.36346250000003,292.20214499999997,288.34185500000001,283.5849,280.62804499999999]
["61","BEŞİKDÜZÜ",null,null,"TRABZON",null,"TRABZON","TRABZONBEŞİKDÜZÜ",276.76904500000001,277.05144999999999,280.12909000000002,282.7379775,287.49194,291.22876500000001,294.01043500000003,293.91668500000003,291.58789000000002,287.55377249999998,282.71331499999997,279.550905]
["61","ÇARŞIBAŞI",null,null,"TRABZON",null,"TRABZON","TRABZONÇARŞIBAŞI",276.2749025,276.588075,279.61005,282.30731500000002,287.06176999999997,290.85766749999999,293.68719249999998,293.63103999999998,291.29589749999997,287.20367250000004,282.25970500000005,279.02746500000001]
["61","ÇAYKARA",null,null,"TRABZON",null,"TRABZON","TRABZONÇAYKARA",275.51538199999999,276.06962800000002,279.03115200000002,282.310204,287.48330400000003,290.94755599999996,292.72158199999996,292.74584999999996,290.53779600000001,287.00679000000002,281.932276,278.45956999999999]
["61","DERNEKPAZARI",null,null,"TRABZON",null,"TRABZON","TRABZONDERNEKPAZARI",275.51538199999999,276.06962800000002,279.03115200000002,282.310204,287.48330400000003,290.94755599999996,292.72158199999996,292.74584999999996,290.53779600000001,287.00679000000002,281.932276,278.45956999999999]
["61","DÜZKÖY",null,null,"TRABZON",null,"TRABZON","TRABZONDÜZKÖY",273.42358400000001,274.18993800000004,277.17802799999998,280.760988,285.87978400000003,289.545998,291.58447199999995,291.64468400000004,289.07646199999999,285.19116399999996,280.03500400000001,276.20566600000001]
["61","HAYRAT",null,null,"TRABZON",null,"TRABZON","TRABZONHAYRAT",277.18608399999999,277.57392599999997,280.30068399999999,283.28911200000005,288.35712799999999,291.914354,293.71806200000003,293.78334800000005,291.60498000000001,288.22123999999997,283.47212200000001,280.01464799999997]
["61","KÖPRÜBAŞI",null,null,"TRABZON",null,"TRABZON","TRABZONKÖPRÜBAŞI",275.57710400000008,276.11884599999996,279.05107599999997,282.32817599999998,287.47704999999996,290.93778800000007,292.75283000000002,292.77593000000002,290.55966599999999,287.04584799999998,282.01313799999997,278.58105399999999]
["61","MAÇKA",null,null,"TRABZON",null,"TRABZON","TRABZONMAÇKA",273.12280199999998,274.08525400000002,277.240138,281.03520799999995,286.28603600000002,289.627634,291.50087600000001,291.48998999999998,289.04326200000003,285.28217600000005,279.84204,275.95449199999996]
["61","OF",null,null,"TRABZON",null,"TRABZON","TRABZONOF",277.54638499999999,277.97625749999997,281.24285750000001,283.90692250000001,288.55738000000002,292.00462999999996,294.46502750000002,294.38983000000002,292.2983375,288.48980499999999,283.71234500000003,280.48254249999997]
["61","SÜRMENE",null,null,"TRABZON",null,"TRABZON","TRABZONSÜRMENE",277.83886749999999,278.05877749999996,281.37079,283.99676499999998,288.63305749999995,292.00707750000004,294.54949999999997,294.44842499999999,292.34667999999999,288.56890750000002,283.842715,280.79016000000001]
["61","ŞALPAZARI",null,null,"TRABZON",null,"TRABZON","TRABZONŞALPAZARI",273.49077199999999,274.31532600000003,277.29287199999999,280.92231399999997,286.04541000000006,289.666698,291.65752000000003,291.68803600000001,289.12177599999995,285.245068,280.119776,276.25996400000002]
["61","TONYA",null,null,"TRABZON",null,"TRABZON","TRABZONTONYA",272.79272800000001,273.62666200000001,276.71240399999999,280.38090399999999,285.52783399999998,289.22060399999998,291.27509999999995,291.33569199999999,288.701076,284.72084799999999,279.52524800000003,275.50605200000001]
["61","TRABZON",null,null,"TRABZON",null,"TRABZON","TRABZONTRABZON",277.42676,277.65399500000001,280.59637750000002,283.14374250000003,287.88403499999998,291.62231250000002,294.46502750000002,294.40789749999999,292.12451250000004,288.11480999999998,283.29095000000001,280.14758749999999]
["61","VAKFIKEBİR",null,null,"TRABZON",null,"TRABZON","TRABZONVAKFIKEBİR",276.37841750000001,276.698915,279.77557249999995,282.43915250000003,287.19701750000002,290.9436025,293.76044250000001,293.6896375,291.345215,287.27105749999998,282.35199249999999,279.15490749999998]
["61","YOMRA",null,null,"TRABZON",null,"TRABZON","TRABZONYOMRA",277.42676,277.65399500000001,280.59637750000002,283.14374250000003,287.88403499999998,291.62231250000002,294.46502750000002,294.40789749999999,292.12451250000004,288.11480999999998,283.29095000000001,280.14758749999999]
["62","ÇEMİŞGEZEK",null,null,"TUNCELİ",null,"TUNCELİ","TUNCELİÇEMİŞGEZEK",269.98100800000003,271.58877000000001,275.95966800000002,281.41996799999998,287.55751999999995,293.32920200000001,297.54892599999999,297.19779999999997,293.12216599999999,286.40131800000006,278.54321400000003,273.07245799999998]
["62","HOZAT",null,null,"TUNCELİ",null,"TUNCELİ","TUNCELİHOZAT",268.71460200000001,270.25244400000003,274.18740199999996,279.71762799999999,286.07939199999998,291.93857399999996,296.416112,296.09897599999999,291.76396400000004,284.90951799999999,276.99321399999997,271.483788]
["62","MAZGİRT",null,null,"TUNCELİ",null,"TUNCELİ","TUNCELİMAZGİRT",271.51342999999997,273.34502200000003,277.87412599999999,283.17935,289.35869000000002,295.66591599999998,300.07041000000004,299.65092800000002,295.26083800000004,288.072022,279.72133999999994,273.82129000000003]
["62","NAZIMİYE",null,null,"TUNCELİ",null,"TUNCELİ","TUNCELİNAZIMİYE",267.88451799999996,269.67588000000006,274.03779400000002,279.51489199999997,285.86064399999998,291.87568399999998,296.36064400000004,296.19858599999998,291.888578,284.90092599999997,276.58149600000002,269.99121000000002]
["62","OVACIK",null,null,"TUNCELİ",null,"TUNCELİ","TUNCELİOVACIK",266.30951800000003,267.773144,272.24677600000001,277.27817800000003,284.25790999999998,289.54091600000004,293.49814400000002,293.61069200000003,290.10810599999996,283.51655399999999,275.29243400000007,269.14511799999997]
["62","PERTEK",null,null,"TUNCELİ",null,"TUNCELİ","TUNCELİPERTEK",272.60717800000003,274.12822199999999,278.20654000000002,283.19223399999998,289.27196800000002,295.49755599999997,299.81533200000001,299.37905600000005,295.08818400000001,288.15326999999996,280.49321399999997,275.31464599999998]
["62","PÜLÜMÜR",null,null,"TUNCELİ",null,"TUNCELİ","TUNCELİPÜLÜMÜR",267.18920600000001,268.92783599999996,273.33700599999997,278.22153199999997,285.16533399999997,290.54834200000005,293.95244199999996,294.10561199999995,290.83584400000001,284.43217599999997,276.13618200000002,269.88300799999996]
["62","TUNCELİ",null,null,"TUNCELİ",null,"TUNCELİ","TUNCELİTUNCELİ",269.73686399999997,271.58876799999996,275.78154400000005,281.38755000000003,287.75438999999994,293.90615399999996,298.382518,298.06342799999999,293.70692999999994,286.65327399999995,278.145556,271.86191399999996]
["63","AKÇAKALE",null,null,"ŞANLIURFA",null,"ŞANLIURFA","ŞANLIURFAAKÇAKALE",280.06342999999998,281.70869200000004,286.29443000000003,291.01371800000004,297.732912,302.62607800000001,306.66337400000003,306.04506800000001,302.35693199999997,295.40444600000001,287.18071000000003,282.24472800000001]
["63","BİRECİK",null,null,"ŞANLIURFA",null,"ŞANLIURFA","ŞANLIURFABİRECİK",279.12827400000003,280.79462999999998,285.10068599999994,289.881686,296.78134599999998,301.57607200000001,305.74775799999998,305.27124000000003,301.645218,294.61928799999998,286.076414,281.28535399999998]
["63","BOZOVA",null,null,"ŞANLIURFA",null,"ŞANLIURFA","ŞANLIURFABOZOVA",278.807568,280.40908200000001,284.58544599999999,289.07231800000005,295.35244599999999,300.82255999999995,305.16220800000002,304.82357999999999,300.98349799999994,294.06576999999999,285.980324,281.20722799999999]
["63","CEYLANPINAR",null,null,"ŞANLIURFA",null,"ŞANLIURFA","ŞANLIURFACEYLANPINAR",279.79584599999998,281.43916000000002,285.91006199999998,290.48051599999997,297.45673999999997,303.23231999999996,307.24931400000003,306.76889599999998,302.56670200000002,295.52358400000003,287.03774400000003,282.07519200000002]
["63","HALFETİ",null,null,"ŞANLIURFA",null,"ŞANLIURFA","ŞANLIURFAHALFETİ",277.67514599999998,279.33095800000001,283.483498,287.98520200000002,294.66689200000002,300.06318199999998,304.48799200000002,304.07826799999998,300.33583800000002,293.07944200000003,284.53345000000002,279.96855199999999]
["63","HARRAN",null,null,"ŞANLIURFA",null,"ŞANLIURFA","ŞANLIURFAHARRAN",279.96889799999997,281.61611400000004,286.27255600000001,290.89497800000004,297.65204800000004,302.85107000000005,307.01337799999999,306.43451800000003,302.43818599999997,295.484914,287.17953399999999,282.15722599999998]
["63","HİLVAN",null,null,"ŞANLIURFA",null,"ŞANLIURFA","ŞANLIURFAHİLVAN",277.60561799999994,279.21572400000002,283.60771599999998,287.77192600000001,294.03642400000001,300.03623199999998,304.56337999999994,304.36850599999997,300.17021999999997,292.87748599999998,284.91353199999998,280.02012000000002]
["63","SİVEREK",null,null,"ŞANLIURFA",null,"ŞANLIURFA",{"$f":"G915&B915","v":"ŞANLIURFASİVEREK"},275.89663000000002,277.71142399999997,281.92841400000003,286.19223999999997,292.34150199999999,298.43583999999998,303.05478199999999,302.88413199999997,298.69872800000002,291.36928400000005,283.34829000000002,278.33535200000006]
["63","SURUÇ",null,null,"ŞANLIURFA",null,"ŞANLIURFA","ŞANLIURFASURUÇ",279.20092799999998,280.87822,285.21279199999998,289.844966,296.55010000000004,301.49755999999996,305.73759799999999,305.27240999999998,301.64599399999997,294.71342599999997,286.24867800000004,281.37792999999999]
["63","ŞANLIURFA",null,null,"ŞANLIURFA",null,"ŞANLIURFA","ŞANLIURFAŞANLIURFA",278.225146,279.90205000000003,284.192092,288.69028400000002,295.24892199999999,300.831548,305.18446800000004,304.75873999999999,300.80576000000002,293.73647399999999,285.36118199999999,280.48378600000001]
["63","VİRANŞEHİR",null,null,"ŞANLIURFA",null,"ŞANLIURFA","ŞANLIURFAVİRANŞEHİR",279.04819600000002,280.60244399999999,284.81670199999996,289.26372400000002,295.75946800000003,301.68818399999998,306.03447199999999,305.72123799999997,301.59716600000002,294.61655200000001,286.432278,281.46738200000004]
["64","BANAZ",null,null,"UŞAK",null,"UŞAK","UŞAKBANAZ",273.90210200000001,277.109082,280.10497999999995,284.74419,290.31805999999995,293.08974799999999,297.57002,297.647018,293.93583999999998,287.80678799999998,281.68070799999998,276.94081599999998]
["64","EŞME",null,null,"UŞAK",null,"UŞAK","UŞAKEŞME",275.32944200000003,278.03799200000003,280.86865400000005,285.88794000000001,291.36416199999996,294.263578,299.03017600000004,299.03921200000002,294.87333799999999,288.46772400000003,282.29672999999997,277.67519200000004]
["64","KARAHALLI",null,null,"UŞAK",null,"UŞAK","UŞAKKARAHALLI",275.19741599999998,277.88955199999998,280.75068199999998,285.71801799999997,291.360252,294.13153999999997,299.09853600000002,298.921244,294.88115600000003,288.44662800000003,282.18266599999998,277.71347800000001]
["64","SİVASLI",null,null,"UŞAK",null,"UŞAK","UŞAKSİVASLI",273.73608000000002,276.58095999999995,279.39209,283.98168799999996,289.46767599999998,292.30927800000001,297.10635000000002,297.182568,293.29716399999995,287.02866200000005,281.01352600000001,276.470122]
["64","ULUBEY",null,null,"UŞAK",null,"UŞAK","UŞAKULUBEY",275.49233199999998,278.287598,281.21006,286.21723800000001,291.79697399999998,294.744438,299.52353600000004,299.46929,295.3374,288.83881600000001,282.49321399999997,277.97480200000001]
["64","UŞAK",null,null,"UŞAK",null,"UŞAK","UŞAKUŞAK",274.136864,276.96103400000004,279.72255799999999,284.328958,289.78252400000002,292.75537199999997,297.44228000000004,297.45717999999999,293.53232600000001,287.255224,281.51900000000006,276.762698]
["65","BAHÇESARAY",null,null,"VAN",null,"VAN","VANBAHÇESARAY",265.67788400000001,267.69072199999999,271.452248,275.59419000000003,282.11377000000005,288.11162400000001,292.60204800000002,292.32084799999996,288.23935999999998,281.24506800000006,274.28462400000001,269.03925800000002]
["65","BAŞKALE",null,null,"VAN",null,"VAN","VANBAŞKALE",264.53998999999993,266.74775199999999,271.06982400000004,275.68364199999996,282.35790800000001,288.55693200000002,292.34814800000004,291.77397400000001,288.10810600000002,280.53725400000002,273.78227600000002,268.48105799999996]
["65","ÇALDIRAN",null,null,"VAN",null,"VAN","VANÇALDIRAN",265.99936200000002,268.10243800000001,273.35654000000005,278.34340800000001,284.61298999999997,290.43662000000006,293.84657800000002,293.25288,289.37841800000001,282.08335,275.30649200000005,269.93847399999993]
["65","ÇATAK",null,null,"VAN",null,"VAN","VANÇATAK",265.72632000000004,267.86532799999998,271.86240200000003,275.92622599999999,282.46259799999996,288.85654,293.29853199999997,292.980616,288.850684,281.53725199999997,274.37875400000001,269.06386800000001]
["65","EDREMİT(GÜMÜŞDERE)",null,null,"VAN",null,"VAN","VANEDREMİT(GÜMÜŞDERE)",269.57358199999999,270.848928,275.30224799999996,280.03520399999996,285.79463000000004,292.16240199999999,296.27275199999997,295.799756,291.84052799999995,284.87983399999996,278.23227400000002,273.25879199999997]
["65","ERCİŞ",null,null,"VAN",null,"VAN","VANERCİŞ",271.01186799999999,272.17393000000004,276.37451399999998,281.10981400000003,287.44072,293.52763999999996,297.33955000000003,296.96226000000001,293.12724400000002,286.16928999999999,279.04985199999999,274.22519799999998]
["65","GEVAŞ",null,null,"VAN",null,"VAN","VANGEVAŞ",270.238426,271.40126600000002,275.24130600000001,279.68598399999996,285.69736,292.12920400000002,296.34736199999998,296.10366399999998,292.30224399999997,285.40366,278.42329000000001,273.62754000000001]
["65","GÜRPINAR",null,null,"VAN",null,"VAN","VANGÜRPINAR",267.98335200000002,269.68681600000002,274.38350000000003,279.04731199999998,285.03916399999997,291.53271799999999,295.72470199999998,295.30522599999995,291.32724999999994,284.07280200000002,277.18697200000003,271.81816199999997]
["65","MURADİYE",null,null,"VAN",null,"VAN","VANMURADİYE",267.104446,268.86884399999997,273.64404400000001,278.57739400000003,284.775486,290.60693800000001,294.17900400000002,293.57045799999997,289.69365600000003,282.73178799999999,275.89008799999999,270.98731200000003]
["65","ÖZALP",null,null,"VAN",null,"VAN","VANÖZALP",264.80795999999998,267.27197200000001,272.70576400000004,277.72075000000007,283.90010000000001,289.89286799999996,293.58056599999998,292.89506599999999,288.95693599999998,281.68686800000006,274.70649199999997,269.20254]
["65","SARAY",null,null,"VAN",null,"VAN","VANSARAY",264.90170799999999,267.23252400000001,272.31982400000004,277.36528399999997,283.64970399999999,289.45146399999993,292.90322199999997,292.12983199999996,288.51474400000001,281.343502,274.40337400000004,269.39355400000005]
["65","VAN",null,null,"VAN",null,"VAN","VANVAN",269.57358199999999,270.848928,275.30224799999996,280.03520399999996,285.79463000000004,292.16240199999999,296.27275199999997,295.799756,291.84052799999995,284.87983399999996,278.23227400000002,273.25879199999997]
["66","AKDAĞMADENİ",null,null,"YOZGAT",null,"YOZGAT","YOZGATAKDAĞMADENİ",270.20444399999997,272.49775199999999,276.85263599999996,281.253176,286.88837799999999,290.48505999999998,293.461816,292.92006600000002,290.19482200000004,285.13530600000001,278.10727399999996,273.83144400000003]
["66","AYDINCIK",null,null,"YOZGAT",null,"YOZGAT","YOZGATAYDINCIK",271.52905199999998,274.239552,277.97412199999997,282.30317400000001,287.85595999999998,291.18427599999995,294.27587800000003,293.87670800000006,291.04755999999998,286.20796200000001,279.11352599999998,274.67832199999998]
["66","BOĞAZLIYAN",null,null,"YOZGAT",null,"YOZGAT","YOZGATBOĞAZLIYAN",272.18803799999995,274.63915599999996,278.76318200000003,283.15551599999998,289.11220199999991,293.17607799999996,296.53291200000001,295.73803600000002,292.40341799999999,286.587648,279.22290200000003,275.36425800000001]
["66","ÇANDIR",null,null,"YOZGAT",null,"YOZGAT","YOZGATÇANDIR",271.27905399999997,273.475098,277.81982399999998,282.12973599999998,287.86845800000003,291.88037199999997,295.46455200000003,294.81342799999999,291.624122,285.77592999999996,278.67719799999998,274.722464]
["66","ÇAYIRALAN",null,null,"YOZGAT",null,"YOZGAT","YOZGATÇAYIRALAN",270.41147400000006,272.38916,276.79795000000001,281.14848599999999,286.79892599999999,290.63935800000002,294.18447200000003,293.65092599999997,290.62333999999998,284.92709400000001,277.98461399999997,273.841994]
["66","ÇEKEREK",null,null,"YOZGAT",null,"YOZGAT","YOZGATÇEKEREK",272.27554599999996,275.22822400000001,278.97607600000003,283.27856600000001,288.95712800000001,292.282714,295.10946999999999,294.60600799999997,291.83153800000002,287.09936400000004,279.723682,275.42441399999996]
["66","KADIŞEHRİ",null,null,"YOZGAT",null,"YOZGAT","YOZGATKADIŞEHRİ",271.25600400000002,274.00126799999998,277.85732599999994,282.10317600000002,287.75634600000001,291.24364800000001,294.15361199999995,293.654832,290.81435199999999,285.89702199999999,278.71860400000003,274.46660400000002]
["66","SARAYKENT",null,null,"YOZGAT",null,"YOZGAT","YOZGATSARAYKENT",271.48139400000002,274.05439000000007,277.91709000000003,282.21411000000001,288.04423600000001,291.75732800000003,294.75986399999999,294.06147599999997,291.06122999999997,285.80014799999998,278.78852799999999,274.77714800000001]
["66","SARIKAYA",null,null,"YOZGAT",null,"YOZGAT","YOZGATSARIKAYA",271.67124000000001,274.13876999999997,278.16591799999998,282.49927199999991,288.27275400000002,292.03857600000003,295.20752000000005,294.54468200000002,291.63622999999995,286.13256999999999,279.00375999999994,275.07051000000001]
["66","SORGUN",null,null,"YOZGAT",null,"YOZGAT","YOZGATSORGUN",271.63178800000003,274.40244200000001,278.27607599999999,282.46567199999998,288.24267399999997,291.79248399999994,294.87548800000002,294.23999000000003,291.29521399999999,286.304438,279.32563400000004,275.22871200000003]
["66","ŞEFAATLİ",null,null,"YOZGAT",null,"YOZGAT","YOZGATŞEFAATLİ",273.02709800000002,275.60322199999996,279.37607800000001,283.700828,289.78525400000001,293.46161599999999,296.85673600000001,296.04780399999993,292.78310399999998,287.22631600000005,279.86157199999997,275.86581999999999]
["66","YENİFAKILI",null,null,"YOZGAT",null,"YOZGAT","YOZGATYENİFAKILI",272.60952399999996,275.07392600000003,279.05732599999999,283.54067599999996,289.56376800000004,293.44872600000002,296.79540800000001,295.94194400000003,292.63389000000006,286.98022400000002,279.57993399999998,275.56894]
["66","YERKÖY",null,null,"YOZGAT",null,"YOZGAT","YOZGATYERKÖY",273.451708,276.22783000000004,279.88467000000003,284.36763000000002,290.41494399999999,294.045996,297.421584,296.64389799999998,293.21123399999999,287.674758,280.21118200000001,276.20566600000001]
["66","YOZGAT",null,null,"YOZGAT",null,"YOZGAT","YOZGATYOZGAT",271.40679400000005,274.00673599999999,277.72685800000005,281.83911000000001,287.67002200000002,291.12216599999999,294.68564600000002,294.17280399999999,290.98505800000004,285.64897000000002,278.80688399999997,274.79941200000002]
["67","ALAPLI",null,null,"ZONGULDAK",null,"ZONGULDAK","ZONGULDAKALAPLI",279.04102,280.06903249999999,281.89813249999997,284.5563325,289.46362499999998,293.44458250000002,296.064145,296.48406749999998,293.64600000000002,289.48443500000002,284.98089750000003,282.18322499999999]
["67","ÇAYCUMA",null,null,"ZONGULDAK",null,"ZONGULDAK","ZONGULDAKÇAYCUMA",277.066554,278.71337999999997,281.14716800000002,284.220752,289.45751600000006,293.282714,295.49033399999996,295.86030799999997,292.63584200000003,288.28842800000001,283.53305400000005,280.12480800000003]
["67","DEVREK",null,null,"ZONGULDAK",null,"ZONGULDAK","ZONGULDAKDEVREK",274.78881799999999,276.70283000000001,279.58036400000003,282.98794200000003,288.112594,291.52217000000007,293.623536,293.97631799999999,290.78661999999997,286.51381600000002,281.65571,277.93691999999999]
["67","GÖKÇEBEY",null,null,"ZONGULDAK",null,"ZONGULDAK","ZONGULDAKGÖKÇEBEY",275.99623600000007,277.88681600000007,280.57568400000002,283.85629799999998,289.01533400000005,292.58584000000002,294.77275599999996,295.15483399999994,291.88740200000001,287.54819000000003,282.69946199999998,279.11269199999998]
["67","KARADENİZEREĞLİ",null,null,"ZONGULDAK",null,"ZONGULDAK","ZONGULDAKKARADENİZEREĞLİ",278.60937249999995,279.49041749999998,281.22626000000002,283.89324999999997,288.87524500000001,293.00365999999997,295.82538,296.32244500000002,293.34961249999998,289.07574499999998,284.5458375,281.69788]
["67","ZONGULDAK",null,null,"ZONGULDAK",null,"ZONGULDAK","ZONGULDAKZONGULDAK",277.85302499999995,279.03191749999996,281.00457749999998,283.78192250000001,288.82495,293.00659250000001,295.86444000000006,296.36248499999999,293.14550250000002,288.59771999999998,283.89691249999998,280.88098000000002]
["68","AĞAÇÖREN",null,null,"AKSARAY",null,"AKSARAY","AKSARAYAĞAÇÖREN",273.535302,276.07119600000004,279.41318000000001,283.90708000000006,289.93056400000006,293.48036999999999,297.30829800000004,296.71459999999996,293.21748000000002,287.47671000000003,280.55101999999999,276.27792799999997]
["68","AKSARAY",null,null,"AKSARAY",null,"AKSARAY","AKSARAYAKSARAY",273.554056,276.63173800000004,280.22060399999998,284.55864000000003,290.84032800000006,294.346386,298.07587999999998,297.37045799999999,293.76552800000002,287.77826799999997,280.55259199999995,276.68808999999999]
["68","ESKİL",null,null,"AKSARAY",null,"AKSARAY","AKSARAYESKİL",274.87358800000004,277.52900199999999,280.84599800000007,285.10278399999999,291.18564400000002,294.49833999999998,298.31572199999999,297.70678600000002,294.29209000000003,288.76342800000003,282.14477599999998,277.90215000000001]
["68","GÜLAĞAÇ",null,null,"AKSARAY",null,"AKSARAY","AKSARAYGÜLAĞAÇ",271.83452199999999,274.943848,278.85771,283.43129600000003,289.47353800000002,293.04052799999999,296.83954400000005,296.19467800000001,292.94169599999998,286.91147600000005,279.745946,275.444728]
["68","GÜZELYURT",null,null,"AKSARAY",null,"AKSARAY","AKSARAYGÜZELYURT",271.76772400000004,274.94970599999999,278.80967199999998,283.44301600000006,289.43955199999999,292.93544800000001,296.77822399999997,296.13061800000003,293.01045000000005,287.04546199999999,279.861966,275.50839800000006]
["68","ORTAKÖY",null,null,"AKSARAY",null,"AKSARAY","AKSARAYORTAKÖY",272.66030000000001,275.15205000000003,278.45029399999993,282.75161600000001,288.70869400000004,292.15615199999996,296.008692,295.50795600000004,292.05068199999999,286.29389400000002,279.518214,275.51386600000001]
["68","SARIYAHŞİ",null,null,"AKSARAY",null,"AKSARAY","AKSARAYSARIYAHŞİ",273.87475599999999,276.47900399999997,279.84482400000002,284.32817399999999,290.37510000000003,293.93388599999997,297.69971200000003,297.14585,293.64560399999999,287.96030600000006,280.94633800000003,276.69043199999999]
["69","AYDINTEPE",null,null,"BAYBURT",null,"BAYBURT","BAYBURTAYDINTEPE",267.755224,269.18642400000004,273.46123,278.29184800000002,284.24657999999999,288.49326000000002,290.40126600000002,290.480616,287.61435599999999,282.61928799999998,275.59516599999995,270.97558199999992]
["69","BAYBURT",null,null,"BAYBURT",null,"BAYBURT","BAYBURTBAYBURT",267.81147600000003,269.57157999999998,274.245994,279.393798,285.37275399999999,289.87958799999996,291.94228200000003,292.03491199999996,288.92255799999998,283.54702400000002,276.18969800000002,271.39198999999996]
["69","DEMİRÖZÜ",null,null,"BAYBURT",null,"BAYBURT","BAYBURTDEMİRÖZÜ",266.83100400000001,268.76767799999999,273.19951199999997,278.38325399999997,284.25009800000009,288.74092400000001,291.21728399999995,291.31577000000004,288.14209599999998,282.60053800000003,275.20961999999997,270.63495999999998]
["70","AYRANCI",null,null,"KARAMAN",null,"KARAMAN","KARAMANAYRANCI",273.45913000000002,276.34892599999995,279.647558,284.21411000000001,290.28251600000004,293.68271199999998,297.53408000000002,296.752882,293.37920000000003,287.40288399999997,280.692048,276.94394599999998]
["70","BAŞYAYLA",null,null,"KARAMAN",null,"KARAMAN","KARAMANBAŞYAYLA",270.22592800000001,272.84228400000001,275.72724799999997,280.51450399999999,286.30127000000005,289.49560600000007,293.69775400000003,293.43842799999999,290.44169800000003,284.57280600000001,278.71274600000004,274.37050400000004]
["70","ERMENEK",null,null,"KARAMAN",null,"KARAMAN","KARAMANERMENEK",273.45327200000003,276.32587999999998,280.03740399999998,285.10590999999999,290.95869400000004,294.26630800000004,298.41064799999998,298.07709999999997,295.24170199999998,289.01967999999999,282.40688399999999,277.77793000000003]
["70","KARAMAN",null,null,"KARAMAN",null,"KARAMAN","KARAMANKARAMAN",274.04155000000003,277.2833,280.71591999999998,285.482078,291.70244399999996,295.14950799999997,298.93759799999998,298.12983199999996,294.85458799999998,288.75209800000005,281.86821199999997,277.71191199999998]
["70","KAZIMKARABEKİR",null,null,"KARAMAN",null,"KARAMAN","KARAMANKAZIMKARABEKİR",273.16186600000003,276.38877199999996,279.797168,284.59497399999998,290.82041000000004,294.11787400000003,297.97704799999997,297.18257,293.990138,287.884522,281.27056199999998,276.91269600000004]
["70","SARIVELİLER",null,null,"KARAMAN",null,"KARAMAN","KARAMANSARIVELİLER",270.95483400000001,273.49814199999997,276.57451200000003,281.67582799999997,287.43095600000004,290.69599799999997,294.93799000000001,294.67085199999997,291.80224400000003,285.81030399999997,279.77094,275.251758]
["71","BAHŞİLİ",null,null,"KIRIKKALE",null,"KIRIKKALE","KIRIKKALEBAHŞİLİ",273.82280400000002,276.80908199999999,280.29989999999998,284.72582999999997,290.69462799999997,294.12958999999995,297.96572400000002,297.52593000000002,293.70576399999999,287.80756599999995,280.70375999999999,276.75878999999998]
["71","BALIŞEYH",null,null,"KIRIKKALE",null,"KIRIKKALE","KIRIKKALEBALIŞEYH",272.96499800000004,276.152828,279.44795199999999,284.12934000000001,290.01923800000003,293.385448,297.22666200000003,296.782174,292.96318600000001,287.21968200000003,280.02290400000004,275.93847399999999]
["71","ÇELEBİ",null,null,"KIRIKKALE",null,"KIRIKKALE","KIRIKKALEÇELEBİ",273.92631799999998,276.553608,279.85576000000003,284.405126,290.42353800000001,294.01474399999995,297.81650200000001,297.332178,293.52763400000003,287.59663200000006,280.56508599999995,276.623244]
["71","DELİCE",null,null,"KIRIKKALE",null,"KIRIKKALE","KIRIKKALEDELİCE",274.04702599999996,277.36376999999999,280.973342,285.73832800000002,291.82510000000002,295.35537199999999,298.83603599999998,298.17514600000004,294.36162200000001,288.60405200000002,280.97641599999997,276.93261599999994]
["71","KARAKEÇİLİ",null,null,"KIRIKKALE",null,"KIRIKKALE","KIRIKKALEKARAKEÇİLİ",273.772018,276.57119,279.971384,284.42075199999999,290.38017600000001,293.90966599999996,297.74696999999998,297.31186200000002,293.48935599999993,287.537644,280.54009000000002,276.61621200000002]
["71","KESKİN",null,null,"KIRIKKALE",null,"KIRIKKALE","KIRIKKALEKESKİN",273.16108599999995,276.000878,279.36709000000002,283.88286399999998,289.87822000000006,293.33974599999999,297.12744000000004,296.64350400000001,292.84872999999999,287.02397000000002,279.94243400000005,276.01738199999994]
["71","KIRIKKALE",null,null,"KIRIKKALE",null,"KIRIKKALE",{"$f":"G979&B979","v":"KIRIKKALEKIRIKKALE"},274.00991000000005,277.18603200000001,280.791312,285.30629599999997,291.30048999999997,294.66005800000005,298.39853200000005,297.90561400000001,294.11904600000003,288.401318,281.11079600000005,277.02441199999998]
["71","SULAKYURT",null,null,"KIRIKKALE",null,"KIRIKKALE","KIRIKKALESULAKYURT",273.08843200000001,276.421584,279.83114800000004,284.62504799999999,290.45439599999997,293.87568400000004,297.743852,297.40835400000003,293.32373199999995,287.42319400000002,280.01430999999997,276.16152199999999]
["71","YAHŞİHAN",null,null,"KIRIKKALE",null,"KIRIKKALE","KIRIKKALEYAHŞİHAN",273.97006800000003,277.28759400000001,280.94287200000002,285.48716000000002,291.41923800000001,294.71318600000001,298.43759800000004,298.03100800000004,294.25928199999998,288.69702000000001,281.35375800000003,277.10214999999999]
["72","BATMAN",null,null,"BATMAN",null,"BATMAN","BATMANBATMAN",277.30873800000001,278.66298599999999,283.24443200000002,287.76528199999996,293.82431600000001,300.36201199999999,304.92900199999997,304.69975400000004,300.21708599999999,293.04116199999999,284.71235200000001,279.81934000000001]
["72","BEŞİRİ",null,null,"BATMAN",null,"BATMAN","BATMANBEŞİRİ",276.769678,278.08134799999999,282.617482,287.16450199999997,293.11767799999996,299.48115000000007,303.911428,303.65678600000001,299.262404,292.23725400000001,284.05727400000001,279.34316200000001]
["72","GERCÜŞ",null,null,"BATMAN",null,"BATMAN","BATMANGERCÜŞ",276.36264799999998,277.78135000000003,282.07099800000003,286.61567400000001,292.62744000000004,298.897558,303.37587799999994,303.07319199999995,298.95693399999999,291.90248600000001,283.62251400000002,278.96269199999995]
["72","HASANKEYF",null,null,"BATMAN",null,"BATMAN","BATMANHASANKEYF",276.92241200000001,278.35595599999999,282.70732600000002,287.28598599999998,293.25556799999998,299.53427799999997,304.00869,303.73178799999999,299.45497799999998,292.42944000000006,284.16391799999997,279.40527200000002]
["72","KOZLUK",null,null,"BATMAN",null,"BATMAN","BATMANKOZLUK",273.35210000000001,274.77080599999999,279.80263600000001,284.58481399999999,290.87900000000002,297.44130799999999,301.86767600000002,301.44077200000004,296.88076000000001,289.65561600000001,281.48345000000006,276.54901800000005]
["72","SASON",null,null,"BATMAN",null,"BATMAN","BATMANSASON",272.30131799999992,273.73564399999998,278.70849600000003,283.69184999999999,290.07392799999997,296.65263999999996,301.13447200000002,300.81381800000003,296.322948,289.039604,280.73852399999998,275.63652200000001]
["73","BEYTÜŞŞEBAP",null,null,"ŞIRNAK",null,"ŞIRNAK","ŞIRNAKBEYTÜŞŞEBAP",267.093502,269.15791000000002,273.09990399999998,277.03325800000005,283.48721,290.056152,294.31728600000002,293.99194800000004,289.86318399999999,282.63842599999998,275.24790200000001,269.94785600000006]
["73","CİZRE",null,null,"ŞIRNAK",null,"ŞIRNAK","ŞIRNAKCİZRE",278.19155400000005,279.89423799999997,284.40107399999999,289.06762800000001,295.62353399999995,302.31434999999999,306.47822000000002,305.78490799999997,301.41279600000001,294.18764599999997,285.89711799999998,280.96738599999998]
["73","GÜÇLÜKONAK",null,null,"ŞIRNAK",null,"ŞIRNAK","ŞIRNAKGÜÇLÜKONAK",276.99975599999999,278.56494199999997,283.21084200000001,287.90785999999997,293.98603600000007,300.57138999999995,305.19306399999999,304.97866399999998,300.74404399999997,293.30014799999998,284.70532200000002,279.70879000000002]
["73","İDİL",null,null,"ŞIRNAK",null,"ŞIRNAK","ŞIRNAKİDİL",277.52592800000002,279.10829799999999,283.541696,288.06020599999999,294.37509799999998,300.73701399999999,305.12665800000002,304.675928,300.53818200000001,293.27202199999999,284.95454000000007,280.20332200000001]
["73","SİLOPİ",null,null,"ŞIRNAK",null,"ŞIRNAK","ŞIRNAKSİLOPİ",277.39663200000001,279.13759600000003,283.42724600000003,288.07622000000003,294.63408199999998,301.36631,305.23876800000005,304.32788399999998,299.83036800000002,292.91655200000002,284.933448,280.16621399999997]
["73","ŞIRNAK",null,null,"ŞIRNAK",null,"ŞIRNAK","ŞIRNAKŞIRNAK",273.183742,274.87939599999999,279.42295200000001,284.08949999999999,290.55517799999996,297.08544999999998,301.29345999999998,300.72202200000004,296.414356,289.20874600000002,281.26313799999997,276.42285200000003]
["73","ULUDERE",null,null,"ŞIRNAK",null,"ŞIRNAK","ŞIRNAKULUDERE",269.48530799999997,271.31064200000003,275.119822,279.58988799999997,285.900486,292.21748000000002,296.35322600000001,295.784132,291.61591600000003,284.75678600000003,277.40844800000002,272.43340000000001]
["74","AMASRA",null,null,"BARTIN",null,"BARTIN","BARTINAMASRA",277.98584249999999,279.11883750000004,281.33319,284.19842749999998,289.16870499999999,293.12085250000001,295.90593999999999,296.34393249999999,293.17383000000001,288.82965000000002,283.95794749999999,280.95812999999998]
["74","BARTIN",null,null,"BARTIN",null,"BARTIN","BARTINBARTIN",278.03412799999995,279.270802,281.46669800000001,284.418406,289.73798599999998,293.72490199999999,295.99697400000002,296.41420999999997,293.31083999999998,289.14116200000001,284.54321599999997,281.07050599999997]
["74","KURUCAŞİLE",null,null,"BARTIN",null,"BARTIN","BARTINKURUCAŞİLE",276.15527750000001,277.32293250000004,279.81707499999999,282.84929999999997,287.67260750000003,291.4157725,294.26727499999998,294.65204499999999,291.50977,287.09185500000001,282.25580000000002,279.17492499999997]
["74","ULUS",null,null,"BARTIN",null,"BARTIN","BARTINULUS",275.76694600000008,277.53056600000002,280.25966399999999,283.61372199999994,288.82314600000001,292.44833599999998,294.711816,295.17514799999998,291.84170000000006,287.68139400000001,282.63813800000003,278.86543]
["75","ARDAHAN",null,null,"ARDAHAN",null,"ARDAHAN","ARDAHANARDAHAN",257.32187199999993,258.70703200000003,265.9851579999999,274.05585799999989,283.01142799999997,287.108496,289.77118800000005,289.72046000000006,286.07411999999999,280.681398,269.00469199999992,261.594134]
["75","ÇILDIR",null,null,"ARDAHAN",null,"ARDAHAN","ARDAHANÇILDIR",256.86054599999994,257.87265200000002,265.07343199999997,272.88202599999988,281.92548999999997,286.19131000000004,289.04033200000003,288.85405200000002,285.27529400000003,279.96460200000001,268.51484199999993,261.277334]
["75","DAMAL",null,null,"ARDAHAN",null,"ARDAHAN","ARDAHANDAMAL",256.54999999999995,257.54999999999995,264.34999999999997,272.04999999999995,281.01845400000002,285.30458600000003,288.16572600000001,288.06537600000001,284.214358,278.93764599999997,267.64999999999998,260.64999999999998]
["75","GÖLE",null,null,"ARDAHAN",null,"ARDAHAN","ARDAHANGÖLE",256.38398399999994,257.33906000000002,264.55156199999999,272.83632199999994,282.04111399999999,286.21513599999997,288.95673799999997,288.71421200000003,285.14795199999998,279.59662799999995,267.84258199999994,260.54374999999999]
["75","HANAK",null,null,"ARDAHAN",null,"ARDAHAN","ARDAHANHANAK",257.05038599999995,258.37929400000002,265.56484199999994,273.45741599999991,282.35322200000002,286.50693200000001,289.244238,289.19390000000004,285.49521400000003,280.12475599999999,268.68164599999994,261.47304199999996]
["75","POSOF",null,null,"ARDAHAN",null,"ARDAHAN","ARDAHANPOSOF",258.87031599999995,259.941014,266.00742399999996,273.71991799999989,282.97666199999998,287.05654199999998,289.44619399999999,289.54272600000002,285.88584200000003,281.043116,269.25703799999997,262.46718600000003]
["76","ARALIK",null,null,"IĞDIR",null,"IĞDIR","IĞDIRARALIK",272.17397400000004,274.741896,280.40654599999999,285.29809599999999,291.137204,296.81200799999999,299.95127000000002,299.34741200000002,295.235838,287.84077600000001,280.12641599999995,275.52675600000003]
["76","IĞDIR",null,null,"IĞDIR",null,"IĞDIR","IĞDIRIĞDIR",270.65913199999994,273.320018,279.495992,284.67544200000003,290.59424000000001,296.22177599999998,299.32431400000002,298.79819600000002,294.52802600000001,286.95288399999998,279.33305599999994,274.16386599999998]
["76","KARAKOYUNLU",null,null,"IĞDIR",null,"IĞDIR","IĞDIRKARAKOYUNLU",271.35952000000003,273.95946999999995,280.12372799999997,285.28755000000001,291.20048600000001,297.11552999999998,300.39502000000005,299.87084999999996,295.27373,287.58608199999998,279.82719399999996,275.09707000000003]
["76","TUZLUCA",null,null,"IĞDIR",null,"IĞDIR","IĞDIRTUZLUCA",268.50210600000003,271.452832,277.31513200000001,282.56802000000005,288.48290800000001,293.92489999999998,297.13290599999999,296.60600400000004,292.39365600000002,285.03881999999999,277.68461600000001,272.59941399999997]
["77","ALTINOVA",null,null,"YALOVA",null,"YALOVA","YALOVAALTINOVA",278.74292000000003,279.22046,281.75853999999998,285.03269999999998,291.92140000000001,296.07470000000001,296.22239999999999,296.73047000000003,294.15967000000001,290.57859999999999,288.06396000000001,281.29345999999998]
["77","ARMUTLU",null,null,"YALOVA",null,"YALOVA","YALOVAARMUTLU",279.0263625,280.30535999999995,281.9313325,284.750675,289.83374000000003,293.93823250000003,297.02118000000002,297.52606250000002,294.49462499999998,289.68756250000001,285.36419999999998,282.05236749999995]
["77","ÇINARCIK",null,null,"YALOVA",null,"YALOVA","YALOVAÇINARCIK",277.85205250000001,279.45672250000001,281.27459750000003,284.33465000000001,289.33276249999994,293.34643749999998,296.52166999999997,297.04315250000002,293.89306499999998,289.12261749999999,284.51898,280.90051499999998]
["77","ÇİFTLİKKÖY",null,null,"YALOVA",null,"YALOVA","YALOVAÇİFTLİKKÖY",278.59814249999999,280.31414749999999,282.44110000000001,285.71063499999997,290.88208000000003,294.98657249999997,297.94598499999995,298.18670750000001,294.99609499999997,290.26959250000004,285.35882500000002,281.79650499999997]
["77","TERMAL",null,null,"YALOVA",null,"YALOVA","YALOVATERMAL",277.64697249999995,279.40838500000001,281.42205749999999,284.632025,289.64330999999999,293.60424750000004,296.71307750000005,297.16083250000003,293.99560749999995,289.232485,284.44671749999998,280.738405]
["77","YALOVA",null,null,"YALOVA",null,"YALOVA","YALOVAYALOVA",278.59814249999999,280.31414749999999,282.44110000000001,285.71063499999997,290.88208000000003,294.98657249999997,297.94598499999995,298.18670750000001,294.99609499999997,290.26959250000004,285.35882500000002,281.79650499999997]
["78","EFLANİ",null,null,"KARABÜK",null,"KARABÜK","KARABÜKEFLANİ",271.79038200000002,274.15518000000003,277.26005999999995,281.32817399999999,286.51806599999998,289.71357399999999,292.54814399999998,293.052098,289.43896600000005,284.730614,278.84282200000007,274.62207000000001]
["78","ESKİPAZAR",null,null,"KARABÜK",null,"KARABÜK","KARABÜKESKİPAZAR",271.02592400000003,273.13135200000005,276.19482199999999,280.11919,285.11572200000001,288.27060599999999,290.73525799999999,291.47827000000001,288.30302599999999,283.77241199999997,278.35102399999994,274.23847999999998]
["78","KARABÜK",null,null,"KARABÜK",null,"KARABÜK","KARABÜKKARABÜK",272.96030200000001,275.3544,278.46162000000004,282.32114199999995,287.37275599999998,290.70498000000003,293.16494,293.86069200000003,290.31552799999997,285.67007200000006,279.96001000000001,275.92011800000006]
["78","OVACIK",null,null,"KARABÜK",null,"KARABÜK","KARABÜKOVACIK",272.41343000000006,274.99229000000003,278.15615200000002,282.23833000000002,287.34580400000004,290.542868,293.53798800000004,294.20679000000001,290.65380800000003,285.668116,279.62016600000004,275.39238]
["78","SAFRANBOLU",null,null,"KARABÜK",null,"KARABÜK","KARABÜKSAFRANBOLU",272.06069600000001,274.41571599999997,277.50927799999999,281.48520400000001,286.58369000000005,289.88779600000004,292.53017400000004,293.20053999999999,289.61826200000002,284.85444200000001,279.190088,274.96855400000004]
["78","YENİCE",null,null,"KARABÜK",null,"KARABÜK","KARABÜKYENİCE",273.72084799999999,275.96103599999998,279.01904400000001,282.644972,287.70712599999996,290.98740399999997,293.25907999999998,293.69701999999995,290.429982,286.02045600000002,280.78696600000001,276.89003799999995]
["79","ELBEYLİ",null,null,"KİLİS",null,"KİLİS","KİLİSELBEYLİ",279.07904999999994,280.72353600000002,284.75185399999998,289.19653200000005,295.77626799999996,299.69872999999995,303.639162,303.259522,300.42021199999999,294.22046399999999,286.25727599999999,281.38027599999998]
["79","KİLİS",null,null,"KİLİS",null,"KİLİS","KİLİSKİLİS",278.72319200000004,280.44111400000003,284.07646600000004,288.322316,294.620024,298.31825800000001,302.08212600000002,301.73061999999999,298.93701199999998,293.26694399999997,285.86938400000003,281.19003599999996]
["79","MUSABEYLİ",null,null,"KİLİS",null,"KİLİS","KİLİSMUSABEYLİ",277.402492,279.26064200000002,282.69481999999999,286.74184400000001,292.572362,296.39912400000003,300.366108,300.28491600000001,297.51864999999998,291.85639600000002,284.569774,280.02675600000003]
["79","POLATELİ",null,null,"KİLİS",null,"KİLİS","KİLİSPOLATELİ",278.21421199999997,280.02041399999996,283.630762,287.84731599999998,294.02939400000002,297.85732200000001,301.71885199999997,301.43452200000002,298.60145999999997,292.82827000000003,285.386574,280.71738399999998]
["80","BAHÇE",null,null,"OSMANİYE",null,"OSMANİYE","OSMANİYEBAHÇE",276.34819200000004,278.21220599999998,281.47959000000003,285.37075200000004,290.732124,294.32998399999997,298.36962800000003,298.56811600000003,296.119438,290.76772599999998,283.42446400000006,279.10253999999998]
["80","DÜZİÇİ",null,null,"OSMANİYE",null,"OSMANİYE","OSMANİYEDÜZİÇİ",276.42006600000002,278.26533599999999,281.64326199999999,285.49301600000001,290.84931599999999,294.50068200000004,298.565336,298.67436800000002,296.24716799999999,290.76655399999999,283.48969999999997,279.19902000000002]
["80","HASANBEYLİ",null,null,"OSMANİYE",null,"OSMANİYE","OSMANİYEHASANBEYLİ",277.480616,279.48681799999997,282.73193200000003,286.71059600000001,292.00205,295.18271399999998,298.99736000000001,299.20326999999997,297.09795399999996,292.23881799999998,284.88617800000003,280.21972199999999]
["80","KADİRLİ",null,null,"OSMANİYE",null,"OSMANİYE","OSMANİYEKADİRLİ",279.793114,281.44267600000001,284.82451000000003,288.580128,293.89540800000003,297.15068400000001,300.97978799999999,301.05678799999998,298.88701200000003,293.89858599999997,287.15454199999999,282.48691599999995]
["80","OSMANİYE",null,null,"OSMANİYE",null,"OSMANİYE","OSMANİYEOSMANİYE",279.45405399999999,281.17431600000003,284.46591999999998,288.27856800000001,293.57119,296.49912399999999,300.05439200000001,300.21186599999999,298.42841799999997,293.77748800000001,286.63344599999999,282.01269400000001]
["80","SUMBAS",null,null,"OSMANİYE",null,"OSMANİYE","OSMANİYESUMBAS",280.35366600000003,281.99736800000005,285.28232199999997,289.03598599999998,294.37275800000003,297.65380999999996,301.51533000000006,301.60405600000001,299.35302799999999,294.39389599999998,287.71274400000004,283.03066000000001]
["80","TOPRAKKALE",null,null,"OSMANİYE",null,"OSMANİYE","OSMANİYETOPRAKKALE",281.08412599999997,282.68877199999997,285.954588,289.747704,295.10634399999998,298.13466599999998,301.51142600000003,301.80834599999997,299.84091599999999,295.25717800000001,288.33579200000003,283.65253999999993]
["81","AKÇAKOCA",null,null,"DÜZCE",null,"DÜZCE","DÜZCEAKÇAKOCA",277.50878749999998,278.58368250000001,280.42108250000001,283.11053500000003,288.11743000000001,292.34839250000005,295.19354249999998,295.65838500000001,292.74121250000002,288.3496725,283.88274999999999,280.6041275]
["81","CUMAYERİ",null,null,"DÜZCE",null,"DÜZCE","DÜZCECUMAYERİ",275.70327400000002,277.521976,280.11591400000003,283.00629799999996,288.33447400000006,292.08662199999998,294.07432,294.51655199999999,291.55068399999999,287.27592800000002,282.84438599999999,279.10996]
["81","ÇİLİMLİ",null,null,"DÜZCE",null,"DÜZCE","DÜZCEÇİLİMLİ",276.10600599999998,277.87900200000001,280.46279199999998,283.33208200000001,288.64580000000001,292.33076399999999,294.19619399999999,294.53959800000001,291.66279199999997,287.52514800000006,283.11391399999997,279.49589200000003]
["81","DÜZCE",null,null,"DÜZCE",null,"DÜZCE","DÜZCEDÜZCE",275.15873799999997,277.28525200000001,280.26005599999996,283.58520600000003,288.85204600000003,291.96318199999996,293.72080399999999,293.94311399999998,291.12295,287.00991000000005,282.32680399999998,278.61855200000002]
["81","GÖLYAKA",null,null,"DÜZCE",null,"DÜZCE","DÜZCEGÖLYAKA",275.019678,277.11415799999997,280.02295000000004,283.22661000000005,288.52314399999995,291.84638600000005,293.69696999999996,294.01577000000003,291.09365400000002,286.84858199999996,282.268214,278.44589999999999]
["81","GÜMÜŞOVA",null,null,"DÜZCE",null,"DÜZCE","DÜZCEGÜMÜŞOVA",275.70327400000002,277.521976,280.11591400000003,283.00629799999996,288.33447400000006,292.08662199999998,294.07432,294.51655199999999,291.55068399999999,287.27592800000002,282.84438599999999,279.10996]
["81","KAYNAŞLI",null,null,"DÜZCE",null,"DÜZCE","DÜZCEKAYNAŞLI",274.02749399999999,276.25947200000002,279.34131000000002,282.81645800000001,288.02236200000004,291.12646400000006,292.99111200000004,293.26811400000003,290.40146599999997,286.21225400000003,281.43774200000001,277.51035200000001]
["81","YIĞILCA",null,null,"DÜZCE",null,"DÜZCE","DÜZCEYIĞILCA",275.63451599999996,277.15713199999999,279.618652,282.72504800000002,287.92353599999996,291.39247999999998,293.54697199999998,293.86928799999998,291.03349800000007,286.87631999999996,282.541652,278.80878599999994]

{"sheet":"Sezonsal Verim","index":11,"n_rows":30,"n_cols":5,"rows_kept":30,"cut":false,"hidden":true,"merged":[[29,1,29,3],[13,1,13,4],[5,1,5,4],[19,1,19,3],[11,1,11,3],[23,1,23,4]]}
[]
[]
[]
[]
[]
[null,"ESEER"]
[null,"% Kısmi Yük","Sıcaklık","Ağırlık Kat Sayısı","COP"]
[null,1,35,0.03,6]
[null,0.75,30,0.33,7]
[null,0.5,25,0.41,9]
[null,0.25,19,0.23,5]
[null,"ESEER Değeri",null,null,{"$f":"E8*D8+E9*D9+E10*D10+E11*D11","v":7.33}]
[]
[null,"IPLV"]
[null,"% Kısmi Yük","Sıcaklık","Ağırlık Kat Sayısı","COP"]
[null,1,35,0.01,4]
[null,0.75,26.7,0.42,4.5]
[null,0.5,18.3,0.45,5]
[null,0.25,12.8,0.12,6]
[null,"IPLV Değeri",null,null,{"$f":"E16*D16+E17*D17+E18*D18+E19*D19","v":4.8999999999999995}]
[]
[]
[]
[null,"Standart Olmayan Performans"]
[null,"% Kısmi Yük","Sıcaklık","Ağırlık Kat Sayısı","COP"]
[null,1,35,0.14000000000000001,4]
[null,0.75,26.7,0.42,4.5]
[null,0.5,18.3,0.45,5]
[null,0.25,12.8,0.12,6]
[null,"Sezonsal Performans",null,null,{"$f":"E26*D26+E27*D27+E28*D28+E29*D29","v":5.42}]